BEGIN:VCALENDAR
VERSION:2.0
PRODID:-//City of Irondale - ECPv6.0.13.1//NONSGML v1.0//EN
CALSCALE:GREGORIAN
METHOD:PUBLISH
X-ORIGINAL-URL:https://cityofirondaleal.gov
X-WR-CALDESC:Events for City of Irondale
REFRESH-INTERVAL;VALUE=DURATION:PT1H
X-Robots-Tag:noindex
X-PUBLISHED-TTL:PT1H
BEGIN:VTIMEZONE
TZID:America/Chicago
BEGIN:DAYLIGHT
TZOFFSETFROM:-0600
TZOFFSETTO:-0500
TZNAME:CDT
DTSTART:20230312T080000
END:DAYLIGHT
BEGIN:STANDARD
TZOFFSETFROM:-0500
TZOFFSETTO:-0600
TZNAME:CST
DTSTART:20231105T070000
END:STANDARD
END:VTIMEZONE
BEGIN:VEVENT
DTSTART;TZID=America/Chicago:20230801T180000
DTEND;TZID=America/Chicago:20230801T190000
DTSTAMP:20260419T084027
CREATED:20221215T192453Z
LAST-MODIFIED:20221215T192453Z
UID:14297-1690912800-1690916400@cityofirondaleal.gov
SUMMARY:City Council Meeting - City Hall - 6PM
DESCRIPTION:
URL:https://cityofirondaleal.gov/event/city-council-meeting-city-hall-6pm-16/
END:VEVENT
BEGIN:VEVENT
DTSTART;TZID=America/Chicago:20230803T090000
DTEND;TZID=America/Chicago:20230803T100000
DTSTAMP:20260419T084027
CREATED:20230130T183814Z
LAST-MODIFIED:20230130T183814Z
UID:14599-1691053200-1691056800@cityofirondaleal.gov
SUMMARY:Mayor's Monthly Prayer Meeting - Church of the Highlands - 9:00am
DESCRIPTION:
URL:https://cityofirondaleal.gov/event/mayors-monthly-prayer-meeting-church-of-the-highlands-900am-12/
END:VEVENT
BEGIN:VEVENT
DTSTART;TZID=America/Chicago:20230804T190000
DTEND;TZID=America/Chicago:20230804T220000
DTSTAMP:20260419T084027
CREATED:20230731T162118Z
LAST-MODIFIED:20230731T162118Z
UID:15238-1691175600-1691186400@cityofirondaleal.gov
SUMMARY:Summer Screen Scene Series - Rainout Dates Rescheduled  (A Special Back to School Celebration) - The Super Mario Brothers Movie - 7:00pm-Beacon Park
DESCRIPTION:
URL:https://cityofirondaleal.gov/event/summer-screen-scene-series-rainout-dates-rescheduled-a-special-back-to-school-celebration-the-super-mario-brothers-movie-700pm-beacon-park/
END:VEVENT
BEGIN:VEVENT
DTSTART;TZID=America/Chicago:20230805T080000
DTEND;TZID=America/Chicago:20230805T110000
DTSTAMP:20260419T084027
CREATED:20230601T172014Z
LAST-MODIFIED:20230731T161214Z
UID:15116-1691222400-1691233200@cityofirondaleal.gov
SUMMARY:Irondale Farmers & Makers Market - Irondale City Hall (1st Ave. South) - Saturdays Beginning June 17\, 2023 - 8:00am - 11:00am
DESCRIPTION:
URL:https://cityofirondaleal.gov/event/irondale-farmers-makers-market-irondale-city-hall-1st-ave-south-saturdays-beginning-june-17-2023-800am-1200pm-8/
END:VEVENT
BEGIN:VEVENT
DTSTART;TZID=America/Chicago:20230806T150000
DTEND;TZID=America/Chicago:20230806T153000
DTSTAMP:20260419T084027
CREATED:20230131T142257Z
LAST-MODIFIED:20230131T142257Z
UID:14620-1691334000-1691335800@cityofirondaleal.gov
SUMMARY:Message from the Mayor - Facebook Live @ Mayor James D. Stewart\, Jr.\, - 3:00pm
DESCRIPTION:
URL:https://cityofirondaleal.gov/event/message-from-the-mayor-facebook-live-mayor-james-d-stewart-jr-300pm-7/
END:VEVENT
BEGIN:VEVENT
DTSTART;TZID=America/Chicago:20230808T180000
DTEND;TZID=America/Chicago:20230808T190000
DTSTAMP:20260419T084027
CREATED:20221215T194619Z
LAST-MODIFIED:20221215T194619Z
UID:14333-1691517600-1691521200@cityofirondaleal.gov
SUMMARY:Zoning Board of Adjustment - City Hall - 6PM
DESCRIPTION:
URL:https://cityofirondaleal.gov/event/zoning-board-of-adjustment-city-hall-6pm-7/
END:VEVENT
BEGIN:VEVENT
DTSTART;TZID=America/Chicago:20230809T180000
DTEND;TZID=America/Chicago:20230809T190000
DTSTAMP:20260419T084027
CREATED:20221215T200056Z
LAST-MODIFIED:20221215T200056Z
UID:14357-1691604000-1691607600@cityofirondaleal.gov
SUMMARY:Abatement Board Meeting - City Hall - 6PM
DESCRIPTION:
URL:https://cityofirondaleal.gov/event/abatement-board-meeting-city-hall-6pm-8/
END:VEVENT
BEGIN:VEVENT
DTSTART;TZID=America/Chicago:20230812T080000
DTEND;TZID=America/Chicago:20230812T110000
DTSTAMP:20260419T084027
CREATED:20230601T172109Z
LAST-MODIFIED:20230731T161354Z
UID:15118-1691827200-1691838000@cityofirondaleal.gov
SUMMARY:Irondale Farmers & Makers Market - Irondale City Hall (1st Ave. South) - Saturdays Beginning June 17\, 2023 - 8:00am - 11:00am
DESCRIPTION:
URL:https://cityofirondaleal.gov/event/irondale-farmers-makers-market-irondale-city-hall-1st-ave-south-saturdays-beginning-june-17-2023-800am-1200pm-9/
END:VEVENT
BEGIN:VEVENT
DTSTART;TZID=America/Chicago:20230815T160000
DTEND;TZID=America/Chicago:20230815T170000
DTSTAMP:20260419T084027
CREATED:20221215T205949Z
LAST-MODIFIED:20221215T205949Z
UID:14405-1692115200-1692118800@cityofirondaleal.gov
SUMMARY:Commercial Development Authority - City Hall - 4PM
DESCRIPTION:
URL:https://cityofirondaleal.gov/event/commercial-development-authority-city-hall-4pm-8/
END:VEVENT
BEGIN:VEVENT
DTSTART;TZID=America/Chicago:20230815T180000
DTEND;TZID=America/Chicago:20230815T190000
DTSTAMP:20260419T084027
CREATED:20221215T192530Z
LAST-MODIFIED:20221215T192530Z
UID:14299-1692122400-1692126000@cityofirondaleal.gov
SUMMARY:City Council Meeting - City Hall - 6PM
DESCRIPTION:
URL:https://cityofirondaleal.gov/event/city-council-meeting-city-hall-6pm-17/
END:VEVENT
BEGIN:VEVENT
DTSTART;TZID=America/Chicago:20230819T080000
DTEND;TZID=America/Chicago:20230819T110000
DTSTAMP:20260419T084027
CREATED:20230601T172153Z
LAST-MODIFIED:20230731T161514Z
UID:15120-1692432000-1692442800@cityofirondaleal.gov
SUMMARY:Irondale Farmers & Makers Market - Irondale City Hall (1st Ave. South) - Saturdays Beginning June 17 - Aug 19\, 2023 - 8:00am - 11:00am
DESCRIPTION:
URL:https://cityofirondaleal.gov/event/irondale-farmers-makers-market-irondale-city-hall-1st-ave-south-saturdays-beginning-june-17-2023-800am-1200pm-10/
END:VEVENT
BEGIN:VEVENT
DTSTART;TZID=America/Chicago:20230822T180000
DTEND;TZID=America/Chicago:20230822T190000
DTSTAMP:20260419T084027
CREATED:20230731T162820Z
LAST-MODIFIED:20230731T162820Z
UID:15244-1692727200-1692730800@cityofirondaleal.gov
SUMMARY:$ Money Matters $ - Budget Town Hall Meeting - Irondale City Hall - 6:00pm
DESCRIPTION:
URL:https://cityofirondaleal.gov/event/money-matters-budget-town-hall-meeting-irondale-city-hall-600pm/
END:VEVENT
BEGIN:VEVENT
DTSTART;TZID=America/Chicago:20230831T180000
DTEND;TZID=America/Chicago:20230831T190000
DTSTAMP:20260419T084027
CREATED:20221215T203251Z
LAST-MODIFIED:20230613T160035Z
UID:14381-1693504800-1693508400@cityofirondaleal.gov
SUMMARY:Planning and Zoning Commission - City Hall - 6PM
DESCRIPTION:
URL:https://cityofirondaleal.gov/event/planning-and-zoning-commission-city-hall-6pm-8/
END:VEVENT
END:VCALENDAR