BEGIN:VCALENDAR
VERSION:2.0
PRODID:-//City of Irondale - ECPv6.0.13.1//NONSGML v1.0//EN
CALSCALE:GREGORIAN
METHOD:PUBLISH
X-WR-CALNAME:City of Irondale
X-ORIGINAL-URL:https://cityofirondaleal.gov
X-WR-CALDESC:Events for City of Irondale
REFRESH-INTERVAL;VALUE=DURATION:PT1H
X-Robots-Tag:noindex
X-PUBLISHED-TTL:PT1H
BEGIN:VTIMEZONE
TZID:America/Chicago
BEGIN:DAYLIGHT
TZOFFSETFROM:-0600
TZOFFSETTO:-0500
TZNAME:CDT
DTSTART:20140309T080000
END:DAYLIGHT
BEGIN:STANDARD
TZOFFSETFROM:-0500
TZOFFSETTO:-0600
TZNAME:CST
DTSTART:20141102T070000
END:STANDARD
BEGIN:DAYLIGHT
TZOFFSETFROM:-0600
TZOFFSETTO:-0500
TZNAME:CDT
DTSTART:20150308T080000
END:DAYLIGHT
BEGIN:STANDARD
TZOFFSETFROM:-0500
TZOFFSETTO:-0600
TZNAME:CST
DTSTART:20151101T070000
END:STANDARD
BEGIN:DAYLIGHT
TZOFFSETFROM:-0600
TZOFFSETTO:-0500
TZNAME:CDT
DTSTART:20160313T080000
END:DAYLIGHT
BEGIN:STANDARD
TZOFFSETFROM:-0500
TZOFFSETTO:-0600
TZNAME:CST
DTSTART:20161106T070000
END:STANDARD
BEGIN:DAYLIGHT
TZOFFSETFROM:-0600
TZOFFSETTO:-0500
TZNAME:CDT
DTSTART:20170312T080000
END:DAYLIGHT
BEGIN:STANDARD
TZOFFSETFROM:-0500
TZOFFSETTO:-0600
TZNAME:CST
DTSTART:20171105T070000
END:STANDARD
END:VTIMEZONE
BEGIN:VEVENT
DTSTART;TZID=America/Chicago:20160519T190000
DTEND;TZID=America/Chicago:20160519T200000
DTSTAMP:20260425T082023
CREATED:20160505T050000Z
LAST-MODIFIED:20160505T050000Z
UID:7083-1463684400-1463688000@cityofirondaleal.gov
SUMMARY:Irondale City Council - Park Committee Meeting
DESCRIPTION:The Irondale City Council – Parks & Recreation Committee will meet on May 19\, 2016 at 7PM inåÊIrondale City Hall. \nPark Committee Chairman – John London will preside over the meeting which is open to the public.
URL:https://cityofirondaleal.gov/event/irondale-city-council-park-committee-meeting-2/
LOCATION:Irondale City Hall\, 101 20th Street South\, Irondale\, AL\, 35210\, United States
ATTACH;FMTTYPE=image/jpeg:https://cityofirondaleal.gov/wp-content/uploads/JOHN-LONDON.jpg
END:VEVENT
BEGIN:VEVENT
DTSTART;TZID=America/Chicago:20160217T180000
DTEND;TZID=America/Chicago:20160217T190000
DTSTAMP:20260425T082023
CREATED:20160216T060000Z
LAST-MODIFIED:20160216T060000Z
UID:7019-1455732000-1455735600@cityofirondaleal.gov
SUMMARY:Notice of Irondale City Council Work Session
DESCRIPTION:The Irondale City Council has scheduled a work session for Wednesday\, February 17\, 2016 at 6:00 p.m. åÊThis work session will be held at the Irondale City Hall\, 101 20th Street South\, Irondale\, AL 35210. \nThe purpose of this meeting is to interview potential appointees to the Irondale Commercial Development Authority.
URL:https://cityofirondaleal.gov/event/notice-of-irondale-city-council-work-session/
LOCATION:Irondale City Hall\, 101 20th Street South\, Irondale\, AL\, 35210\, United States
ATTACH;FMTTYPE=image/jpeg:https://cityofirondaleal.gov/wp-content/uploads/Irondale-City-City-Council_0049.jpg
END:VEVENT
BEGIN:VEVENT
DTSTART;TZID=America/Chicago:20160222T180000
DTEND;TZID=America/Chicago:20160222T190000
DTSTAMP:20260425T082023
CREATED:20160216T060000Z
LAST-MODIFIED:20160216T060000Z
UID:7021-1456164000-1456167600@cityofirondaleal.gov
SUMMARY:Notice of Irondale City Council Work Session
DESCRIPTION:The Irondale City Council has scheduled a work session for Monday\, February 22\, 2016 at 6:00 p.m. åÊThis work session will be held at the Irondale City Hall\, 101 20th Street South\, Irondale\, AL 35210. \nThe purpose of this meeting is to interview candidates to be appointed to the Irondale Commercial Development Authority.
URL:https://cityofirondaleal.gov/event/notice-of-irondale-city-council-work-session-2/
LOCATION:Irondale City Hall\, 101 20th Street South\, Irondale\, AL\, 35210\, United States
ATTACH;FMTTYPE=image/jpeg:https://cityofirondaleal.gov/wp-content/uploads/Irondale-City-Council_0007.jpg
END:VEVENT
BEGIN:VEVENT
DTSTART;TZID=America/Chicago:20150618T180000
DTEND;TZID=America/Chicago:20150618T190000
DTSTAMP:20260425T082023
CREATED:20150612T050000Z
LAST-MODIFIED:20150612T050000Z
UID:6845-1434650400-1434654000@cityofirondaleal.gov
SUMMARY:"IRONDALE ON THE MOVE" COMMUNITY WORKSHOP ÛÒ DISTRICT 4
DESCRIPTION:Irondale City Council President\, Terry Bearden will be the featured guest at the District 4 åÊIrondale On The MoveåÊ Community Workshop to be held on June 18\, 2015 at 6PM. åÊ The eventåÊwill take place at the Irondale Police Sub-Station located in Grants Mill Station Shopping Center. \nThe purpose of this workshop is to enable stakeholders inåÊDistrict 4 an opportunity to learn more about the new City of Irondale ÛÒ Comprehensive Plan. \nThis will be an interactive workshop that provides District 4 community stakeholders (residents\, businesses\, employees of local businesses\, civic/social organizations and anyone with an interest in Irondale) åÊwith a platform to express their concerns\, share their vision for the future of District 4/Irondale and interact with their council representative and other local officials. \nRefreshments will be provided and anyone is welcome to attend.
URL:https://cityofirondaleal.gov/event/irondale-on-the-move-community-workshop-district-4/
LOCATION:Police Sub Station
ATTACH;FMTTYPE=image/jpeg:https://cityofirondaleal.gov/wp-content/uploads/TERRY-BEARDEN-e1428706916732.jpg
END:VEVENT
BEGIN:VEVENT
DTSTART;TZID=America/Chicago:20150416T183000
DTEND;TZID=America/Chicago:20150416T193000
DTSTAMP:20260425T082023
CREATED:20150406T050000Z
LAST-MODIFIED:20150406T050000Z
UID:6790-1429209000-1429212600@cityofirondaleal.gov
SUMMARY:Community Open House - Irondale's New Comprehensive Plan
DESCRIPTION:The public is invited to give their input at the first Open House and visioning session\, which will be held on Thursday\, April 16th\, 2015 between 6:30 and 7:30pm at the Shades Valley High School Auditorium (located at 6100 Old Leeds Road\, Irondale AL 35210). \nThe Open House is an opportunity for city residents and businesses\, as well as individuals who work in and travel through the city\, to share their vision and opinions\, and to ask questions about the City of IrondaleÛªs comprehensive plan development process.
URL:https://cityofirondaleal.gov/event/community-open-house-irondales-new-comprehensive-plan/
LOCATION:Shades Valley High School\, 6100 Old Leeds Rd\, Irondale\, AL\, 35210\, United States
ATTACH;FMTTYPE=image/jpeg:https://cityofirondaleal.gov/wp-content/uploads/City-of-Irondale-LOGO11.jpg
END:VEVENT
BEGIN:VEVENT
DTSTART;TZID=America/Chicago:20150120T190000
DTEND;TZID=America/Chicago:20150120T200000
DTSTAMP:20260425T082023
CREATED:20150119T060000Z
LAST-MODIFIED:20150119T060000Z
UID:6723-1421780400-1421784000@cityofirondaleal.gov
SUMMARY:Irondale City Council Meeting
DESCRIPTION:The Irondale City Council Meeting will hold a council meeting on January 20\, 2015 at 7PM. åÊThe meeting will take place at Irondale City Hall. The Pre-Council meeting to discuss agenda items starts at 6PM. Meeting agenda and all supporting documents can be found on the City of Irondale’s website under the City Council webpage.
URL:https://cityofirondaleal.gov/event/irondale-city-council-meeting-14/
LOCATION:CIty Hall\, 101 20th St S\, Irondale\, 35210\, United States
ATTACH;FMTTYPE=image/jpeg:https://cityofirondaleal.gov/wp-content/uploads/City-of-Irondale-LOGO11.jpg
END:VEVENT
BEGIN:VEVENT
DTSTART;TZID=America/Chicago:20141117T180000
DTEND;TZID=America/Chicago:20141117T190000
DTSTAMP:20260425T082023
CREATED:20141117T060000Z
LAST-MODIFIED:20141117T060000Z
UID:6696-1416247200-1416250800@cityofirondaleal.gov
SUMMARY:Irondale City Council - Finance Committee Meeting
DESCRIPTION:The Irondale City Council will hold a Finance committee meeting on November 17\, 2014. åÊThe meeting will take place at City Hall at 6 PM CST.
URL:https://cityofirondaleal.gov/event/irondale-city-council-finance-committee-meeting-3/
LOCATION:CIty Hall\, 101 20th St S\, Irondale\, 35210\, United States
ATTACH;FMTTYPE=image/jpeg:https://cityofirondaleal.gov/wp-content/uploads/City-of-Irondale-LOGO1.jpg
END:VEVENT
BEGIN:VEVENT
DTSTART;TZID=America/Chicago:20141016T190000
DTEND;TZID=America/Chicago:20141016T200000
DTSTAMP:20260425T082023
CREATED:20141016T050000Z
LAST-MODIFIED:20141016T050000Z
UID:6671-1413486000-1413489600@cityofirondaleal.gov
SUMMARY:Irondale City Council - Finance Committee Meeting
DESCRIPTION:The Irondale City Council Finance Committee has scheduled a meeting for Monday\, October 20\, 2014 at 7:00 p.m. The meeting will be held at the Irondale City Hall 101 20th Street South\, Irondale AL 35210.
URL:https://cityofirondaleal.gov/event/irondale-city-council-finance-committee-meeting-2/
LOCATION:CIty Hall\, 101 20th St S\, Irondale\, 35210\, United States
ATTACH;FMTTYPE=image/jpeg:https://cityofirondaleal.gov/wp-content/uploads/City-of-Irondale-LOGO1.jpg
END:VEVENT
BEGIN:VEVENT
DTSTART;TZID=America/Chicago:20140916T113000
DTEND;TZID=America/Chicago:20140916T123000
DTSTAMP:20260425T082023
CREATED:20140912T050000Z
LAST-MODIFIED:20140912T050000Z
UID:6634-1410867000-1410870600@cityofirondaleal.gov
SUMMARY:Business Brown Bag Workshop
DESCRIPTION:Please join this free Business Brown Bag Workshop co-sponsored by the Greater Irondale Chamber of Commerce and the Irondale Public Library. åÊThe featured topic is on utilizing Reference USA for sales leads and job searching. \nWith Reference USA you can: \n\nTrack down sales leads\nFind contacts within companies\nSee local consumer spending data\nSeek jobs and ineternships\n\n 
URL:https://cityofirondaleal.gov/event/business-brown-bag-workshop/
LOCATION:Irondale Public Library\, 105 20th Street South\, Irondale\, AL\, 35210\, United States
ATTACH;FMTTYPE=image/jpeg:https://cityofirondaleal.gov/wp-content/uploads/download-121.jpg
END:VEVENT
BEGIN:VEVENT
DTSTART;TZID=America/Chicago:20140915T180000
DTEND;TZID=America/Chicago:20140915T190000
DTSTAMP:20260425T082023
CREATED:20140908T050000Z
LAST-MODIFIED:20140908T050000Z
UID:6622-1410804000-1410807600@cityofirondaleal.gov
SUMMARY:Irondale CDA Meeting
DESCRIPTION:The Irondale CDA regular monthly meeting will be held on September 15\, 2014 at 6PM. åÊThe meeting will be held at the Police Sub-Station in Grants Mill Station.
URL:https://cityofirondaleal.gov/event/irondale-cda-meeting/
LOCATION:Police Sub Station
ATTACH;FMTTYPE=image/jpeg:https://cityofirondaleal.gov/wp-content/uploads/cda.jpg
END:VEVENT
BEGIN:VEVENT
DTSTART;TZID=America/Chicago:20140825T180000
DTEND;TZID=America/Chicago:20140825T190000
DTSTAMP:20260425T082023
CREATED:20140825T050000Z
LAST-MODIFIED:20140825T050000Z
UID:6590-1408989600-1408993200@cityofirondaleal.gov
SUMMARY:Irondale City Council Parks Committee Meeting
DESCRIPTION:Notice of Irondale City Council Parks Committee Meeting \nThe Irondale City Council Parks Committee has scheduled a meeting for Monday\, August 25\, 2014 at 6:00 p.m. The meeting will be held at the Irondale City Hall\, 101 20th Street South\, Irondale AL 35210. \nåÊ
URL:https://cityofirondaleal.gov/event/irondale-city-council-parks-committee-meeting/
LOCATION:CIty Hall\, 101 20th St S\, Irondale\, 35210\, United States
ATTACH;FMTTYPE=image/jpeg:https://cityofirondaleal.gov/wp-content/uploads/City-of-Irondale-LOGO1.jpg
END:VEVENT
BEGIN:VEVENT
DTSTART;TZID=America/Chicago:20140826T180000
DTEND;TZID=America/Chicago:20140826T190000
DTSTAMP:20260425T082023
CREATED:20140825T050000Z
LAST-MODIFIED:20140825T050000Z
UID:6592-1409076000-1409079600@cityofirondaleal.gov
SUMMARY:Irondale City Council Work Session
DESCRIPTION:Notice of Irondale City Council Work Session \nThe Irondale City Council has scheduled a work session for Tuesday\, August 26\, 2014 at 6:00 p.m. åÊThis work session will be held at the Irondale City Hall\, 101 20th Street South\, Irondale\, AL 35210. \n 
URL:https://cityofirondaleal.gov/event/irondale-city-council-work-session-2/
LOCATION:CIty Hall\, 101 20th St S\, Irondale\, 35210\, United States
ATTACH;FMTTYPE=image/jpeg:https://cityofirondaleal.gov/wp-content/uploads/City-of-Irondale-LOGO1.jpg
END:VEVENT
BEGIN:VEVENT
DTSTART;TZID=America/Chicago:20140821T183000
DTEND;TZID=America/Chicago:20140821T193000
DTSTAMP:20260425T082023
CREATED:20140821T050000Z
LAST-MODIFIED:20140821T050000Z
UID:6586-1408645800-1408649400@cityofirondaleal.gov
SUMMARY:Shades Valley Football - Community Pep Rally
DESCRIPTION:Please come support the 2014 Shades Valley Mounties Football team at a Community Pep Rally. The event will be held in the Grants Mill Station parking lot on Thursday\, August 21\,2014 at 6:30 PM. åÊThe Mounties enter the 2014 season ranked #3 in the state.
URL:https://cityofirondaleal.gov/event/shades-valley-football-community-pep-rally/
LOCATION:The Station at Grants Mill\, 5415 Beaccon Drive\, Irondale\, AL\, 35210\, United States
ATTACH;FMTTYPE=image/jpeg:https://cityofirondaleal.gov/wp-content/uploads/svhs1.jpg
END:VEVENT
BEGIN:VEVENT
DTSTART;TZID=America/Chicago:20140624T180000
DTEND;TZID=America/Chicago:20140624T190000
DTSTAMP:20260425T082023
CREATED:20140623T050000Z
LAST-MODIFIED:20140623T050000Z
UID:6538-1403632800-1403636400@cityofirondaleal.gov
SUMMARY:City Financial Workshop
DESCRIPTION:Please join Irondale City Clerk\, James Stewart for an information workshop on municipality finance. åÊThis workshop will be an open forum for Irondale Citizens to learn and ask questions about municipal finance. åÊ Mr Stewart will cover the “Three Myths Of Municipal Finance.” åÊHe will also cover a host of other topics including: \n\nMunicipal Bonds\nThe importance of credit ratings\nIrondale Budgeting process\nWhy a diverse tax revenue base is essential\nMuch more\n\nThis event is free to the public.
URL:https://cityofirondaleal.gov/event/city-financial-workshop/
LOCATION:CIty Hall\, 101 20th St S\, Irondale\, 35210\, United States
ATTACH;FMTTYPE=image/jpeg:https://cityofirondaleal.gov/wp-content/uploads/City-of-Irondale-LOGO1.jpg
END:VEVENT
BEGIN:VEVENT
DTSTART;TZID=America/Chicago:20140625T190000
DTEND;TZID=America/Chicago:20140625T200000
DTSTAMP:20260425T082023
CREATED:20140623T050000Z
LAST-MODIFIED:20140623T050000Z
UID:6540-1403722800-1403726400@cityofirondaleal.gov
SUMMARY:Special City Council Meeting
DESCRIPTION:A special city council meeting will be held on Wednesday\, June 25\, 2014 in City Hall at 7Pm CST. åÊA council work session will start at 6PM. The meeting agenda will be added to the City Council webpage as soon as it becomes available.
URL:https://cityofirondaleal.gov/event/special-city-council-meeting/
LOCATION:CIty Hall\, 101 20th St S\, Irondale\, 35210\, United States
END:VEVENT
BEGIN:VEVENT
DTSTART;TZID=America/Chicago:20170321T173000
DTEND;TZID=America/Chicago:20170321T180000
DTSTAMP:20260425T082023
CREATED:20170309T060000Z
LAST-MODIFIED:20170309T060000Z
UID:7662-1490117400-1490119200@cityofirondaleal.gov
SUMMARY:Irondale City Council - Finance Committee Meeting
DESCRIPTION:Irondale City Council – Finance CommitteeæChairman\, David Spivey will hold a Finance Committee meetingæon Tuesday\, March 21\, 2017 at 5:30 PM. æThe meeting will take place at Irondale City Hall and is open to the public. \nA review of the City’s current financial status will be discussed.
URL:https://cityofirondaleal.gov/event/irondale-city-council-finance-committee-meeting-16/
LOCATION:Irondale City Hall\, 101 20th Street South\, Irondale\, AL\, 35210\, United States
ATTACH;FMTTYPE=image/jpeg:https://cityofirondaleal.gov/wp-content/uploads/finance.jpg
END:VEVENT
BEGIN:VEVENT
DTSTART;VALUE=DATE:20170629
DTEND;VALUE=DATE:20170701
DTSTAMP:20260425T082023
CREATED:20170606T050000Z
LAST-MODIFIED:20170606T050000Z
UID:7758-1498694400-1498867140@cityofirondaleal.gov
SUMMARY:Basketball Camp with KJ McDaniels
DESCRIPTION:Basketball Camp at SVHS for ages 9-18. Cost is $100. Register online at kjmcdanielshoops.com. For more info contact Shawn McDaniels or Coach Furga.
URL:https://cityofirondaleal.gov/event/basketball-camp-kj-mcdaniels/
LOCATION:Shades Valley High School\, 6100 Old Leeds Rd\, Irondale\, AL\, 35210\, United States
ATTACH;FMTTYPE=image/jpeg:https://cityofirondaleal.gov/wp-content/uploads/IMG_2394.jpg
END:VEVENT
BEGIN:VEVENT
DTSTART;VALUE=DATE:20170116
DTEND;VALUE=DATE:20170117
DTSTAMP:20260425T082023
CREATED:20170116T060000Z
LAST-MODIFIED:20170116T060000Z
UID:7364-1484524800-1484611140@cityofirondaleal.gov
SUMMARY:Irondale City Hall Closed For MLK Day
DESCRIPTION:Irondale City Hall will be closed on January 16\, 2017 in honor of Martin Luther King’s Birthday Day Celebration. åÊThere will be no trash and recycling pick up. All city services will resume on Tuesday\, January 17\, 2017.
URL:https://cityofirondaleal.gov/event/irondale-city-hall-closed-mlk-day/
LOCATION:Irondale City Hall\, 101 20th Street South\, Irondale\, AL\, 35210\, United States
ATTACH;FMTTYPE=image/jpeg:https://cityofirondaleal.gov/wp-content/uploads/download-17.jpg
END:VEVENT
BEGIN:VEVENT
DTSTART;VALUE=DATE:20161222
DTEND;VALUE=DATE:20161223
DTSTAMP:20260425T082023
CREATED:20161223T060000Z
LAST-MODIFIED:20161223T060000Z
UID:7344-1482364800-1482451140@cityofirondaleal.gov
SUMMARY:Irondale City Closed
DESCRIPTION:As a reminder\, Irondale City Hall will be closed Thursday\, December 22nd and Monday\, December 26th for the Christmas holiday. All services will resume on Tuesday\, December 27th.
URL:https://cityofirondaleal.gov/event/irondale-city-closed/
LOCATION:Irondale City Hall\, 101 20th Street South\, Irondale\, AL\, 35210\, United States
ATTACH;FMTTYPE=image/jpeg:https://cityofirondaleal.gov/wp-content/uploads/holi2.jpg
END:VEVENT
BEGIN:VEVENT
DTSTART;VALUE=DATE:20161222
DTEND;VALUE=DATE:20161223
DTSTAMP:20260425T082023
CREATED:20161217T060000Z
LAST-MODIFIED:20161217T060000Z
UID:7337-1482364800-1482451140@cityofirondaleal.gov
SUMMARY:Irondale City Hall Closed
DESCRIPTION:As a reminder\, Irondale City Hall will be closed Thursday\, December 22nd and Monday\, December 26th for the Christmas holiday. All services will resume on Tuesday\, December 27th.
URL:https://cityofirondaleal.gov/event/irondale-city-hall-closed/
LOCATION:Irondale City Hall\, 101 20th Street South\, Irondale\, AL\, 35210\, United States
ATTACH;FMTTYPE=image/jpeg:https://cityofirondaleal.gov/wp-content/uploads/holidayhours.jpg
END:VEVENT
BEGIN:VEVENT
DTSTART;VALUE=DATE:20161226
DTEND;VALUE=DATE:20161227
DTSTAMP:20260425T082023
CREATED:20161217T060000Z
LAST-MODIFIED:20161217T060000Z
UID:7339-1482710400-1482796740@cityofirondaleal.gov
SUMMARY:Irondale City Hall Closed
DESCRIPTION:As a reminder\, Irondale City Hall will be closed Thursday\, December 22nd and Monday\, December 26th for the Christmas holiday. All services will resume on Tuesday\, December 27th.
URL:https://cityofirondaleal.gov/event/irondale-city-hall-closed-2/
LOCATION:Irondale City Hall\, 101 20th Street South\, Irondale\, AL\, 35210\, United States
ATTACH;FMTTYPE=image/jpeg:https://cityofirondaleal.gov/wp-content/uploads/holi2.jpg
END:VEVENT
BEGIN:VEVENT
DTSTART;TZID=America/Chicago:20160826T190000
DTEND;TZID=America/Chicago:20160826T190000
DTSTAMP:20260425T082023
CREATED:20160825T050000Z
LAST-MODIFIED:20160825T050000Z
UID:7193-1472238000-1472238000@cityofirondaleal.gov
SUMMARY:Shades Valley Vs Center Point
DESCRIPTION:Shades Valley High School kicks off the 2016 football season against Center Point on August 26\, 2016 at 7PM. åÊThe game will take place at Center Point High School. åÊPlease come and support our team. \nLETS’ GO MOUNTIES !!!
URL:https://cityofirondaleal.gov/event/shades-valley-vs-center-point/
LOCATION:Center Point High School\, 1000 Eagle Drive\, Center Point\, AL\, 35215\, United States
ATTACH;FMTTYPE=image/jpeg:https://cityofirondaleal.gov/wp-content/uploads/SVHS-signsm.jpg
END:VEVENT
BEGIN:VEVENT
DTSTART;TZID=America/Chicago:20160217T190000
DTEND;TZID=America/Chicago:20160217T190000
DTSTAMP:20260425T082023
CREATED:20160216T060000Z
LAST-MODIFIED:20160216T060000Z
UID:7017-1455735600-1455735600@cityofirondaleal.gov
SUMMARY:Irondale City Council Meeting
DESCRIPTION:The Irondale City Council will hold a regular meeting on February 17\, 2016 in Irondale City Hall. åÊThe meeting will start at 7PM and will be preceded by a Pre-Council meeting at 6PM to discuss agenda items.
URL:https://cityofirondaleal.gov/event/irondale-city-council-meeting-32/
LOCATION:Irondale City Hall\, 101 20th Street South\, Irondale\, AL\, 35210\, United States
ATTACH;FMTTYPE=image/jpeg:https://cityofirondaleal.gov/wp-content/uploads/Irondale-City-City-Council_0055.jpg
END:VEVENT
BEGIN:VEVENT
DTSTART;TZID=America/Chicago:20150519T170000
DTEND;TZID=America/Chicago:20150519T170000
DTSTAMP:20260425T082023
CREATED:20150517T050000Z
LAST-MODIFIED:20150517T050000Z
UID:6818-1432054800-1432054800@cityofirondaleal.gov
SUMMARY:Irondale City Council - Work Session
DESCRIPTION:The Irondale City Council will hold a work session on May 19\, 2015 at 5PM. åÊThe meeting will be held at the Irondale City Hall and is open to the public.
URL:https://cityofirondaleal.gov/event/irondale-city-council-work-session-8/
LOCATION:CIty Hall\, 101 20th St S\, Irondale\, 35210\, United States
ATTACH;FMTTYPE=image/jpeg:https://cityofirondaleal.gov/wp-content/uploads/City-of-Irondale-LOGO11.jpg
END:VEVENT
BEGIN:VEVENT
DTSTART;TZID=America/Chicago:20140628T180000
DTEND;TZID=America/Chicago:20140628T180000
DTSTAMP:20260425T082023
CREATED:20140621T050000Z
LAST-MODIFIED:20140621T050000Z
UID:6536-1403978400-1403978400@cityofirondaleal.gov
SUMMARY:Andrea Lucas Studios Gallery Open House
DESCRIPTION:Andrea Lucas Studios \nGallery Open House \nJune 28 – 6pm to 8pm \nfollowed byåÊOld Fashioned Hootenanny fromåÊ8pm until \nFeatured Artists: \nLynnette Hesser – Pottery / Three-Dimensional \nNature Carvings\, Wellington\, AL; Steve Loucks – \nPottery / Elegantly Embellished Utilitarian Vessels\, \nWellington\, AL; Littia Thompson – The Mistress of \nSurrealism / Oils\, Birmingham\, AL; Rachel Vaughan \n– Jewelry / Glass-Copper\, Inverness\, AL; Andrea \nLucas – Stained Glass\, Homewood\, AL. \nFood & Beverages\, \nArt & Music … A darn \ngood gallery event & then… \nAn Old Fashioned \nHootenanny with audience \nparticipation & a Beatles \nSing-A-Long. \nPresenting: John Wright Jr.\, Virtuoso Entertainer – Born \non Christmas Day\, 1927!! Zachary White – Spoken \nWord Poetry; John Gill and Jimmy Clark – Guitar/Vocals; \nRebecca Egeland and Karissa Woodley – Ukulele/Vocals/ \nPercussion; L.L.Smith\, Story-Smith; Lynnette \nHesser and Steve Loucks – Vocals/Art Stories; Skylar \nWallace – Vocals/Guitar/She’s Also a Thirteen Year Old \nRed-Headed Ball of Fire; Andrea Lucas and Rachel \nVaughan – Rock Opera; Alan Perlis – Conductor of Our \nBeatles Sing-Along \nwith a $3.00 Cash donation Alan Perlis \nfor Wine & Beer. \nAndreaLucasStudios.com Andrea Lucas Studios\, LLC
URL:https://cityofirondaleal.gov/event/andrea-lucas-studios-gallery-open-house/
LOCATION:Lady Mounties Volleyball Team Defeats Homewood To Remain Undefeated
END:VEVENT
BEGIN:VEVENT
DTSTART;TZID=America/Chicago:20140618T103000
DTEND;TZID=America/Chicago:20140618T103000
DTSTAMP:20260425T082023
CREATED:20140617T050000Z
LAST-MODIFIED:20140617T050000Z
UID:6534-1403087400-1403087400@cityofirondaleal.gov
SUMMARY:Interactive Science @ Irondale Public Library
DESCRIPTION:Dynamic Education Adventures will present “Polymer Party and Slime Time.”åÊ This program is designed for grades 1-5\, but all ages are welcome. \nAll Summer Reading events are free. Groups are asked to call ahead. Teachers and literacy experts agree that reading throughout the summer helps students retain skills learned during the school year. Most importantly\, when parents and children enjoy summer reading together\, children develop a love of books and reading that lasts a lifetime. \nRead along with us this summer- Summer Reading pre-registration begins May 19th. \n\nSlime Time! – Summer Reading Program \n 
URL:https://cityofirondaleal.gov/event/interactive-science-library/
LOCATION:Irondale Public Library\, 105 20th Street South\, Irondale\, AL\, 35210\, United States
END:VEVENT
END:VCALENDAR