BEGIN:VCALENDAR
VERSION:2.0
PRODID:-//City of Irondale - ECPv6.0.13.1//NONSGML v1.0//EN
CALSCALE:GREGORIAN
METHOD:PUBLISH
X-WR-CALNAME:City of Irondale
X-ORIGINAL-URL:https://cityofirondaleal.gov
X-WR-CALDESC:Events for City of Irondale
REFRESH-INTERVAL;VALUE=DURATION:PT1H
X-Robots-Tag:noindex
X-PUBLISHED-TTL:PT1H
BEGIN:VTIMEZONE
TZID:America/Chicago
BEGIN:DAYLIGHT
TZOFFSETFROM:-0600
TZOFFSETTO:-0500
TZNAME:CDT
DTSTART:20140309T080000
END:DAYLIGHT
BEGIN:STANDARD
TZOFFSETFROM:-0500
TZOFFSETTO:-0600
TZNAME:CST
DTSTART:20141102T070000
END:STANDARD
BEGIN:DAYLIGHT
TZOFFSETFROM:-0600
TZOFFSETTO:-0500
TZNAME:CDT
DTSTART:20150308T080000
END:DAYLIGHT
BEGIN:STANDARD
TZOFFSETFROM:-0500
TZOFFSETTO:-0600
TZNAME:CST
DTSTART:20151101T070000
END:STANDARD
BEGIN:DAYLIGHT
TZOFFSETFROM:-0600
TZOFFSETTO:-0500
TZNAME:CDT
DTSTART:20160313T080000
END:DAYLIGHT
BEGIN:STANDARD
TZOFFSETFROM:-0500
TZOFFSETTO:-0600
TZNAME:CST
DTSTART:20161106T070000
END:STANDARD
BEGIN:DAYLIGHT
TZOFFSETFROM:-0600
TZOFFSETTO:-0500
TZNAME:CDT
DTSTART:20170312T080000
END:DAYLIGHT
BEGIN:STANDARD
TZOFFSETFROM:-0500
TZOFFSETTO:-0600
TZNAME:CST
DTSTART:20171105T070000
END:STANDARD
END:VTIMEZONE
BEGIN:VEVENT
DTSTART;TZID=America/Chicago:20140822T190000
DTEND;TZID=America/Chicago:20140822T210000
DTSTAMP:20260424T210335
CREATED:20140821T050000Z
LAST-MODIFIED:20140821T050000Z
UID:6588-1408734000-1408741200@cityofirondaleal.gov
SUMMARY:Shades Valley VS Florence - Football Game
DESCRIPTION:First home Game at Frank Nix Stadium\, starting at 7PM. åÊPlease come out and support our 2014 Mounties ranked #3 in the state of Alabama.
URL:https://cityofirondaleal.gov/event/shades-valley-vs-florence-football-game/
LOCATION:Shades Valley High School\, 6100 Old Leeds Rd\, Irondale\, AL\, 35210\, United States
ATTACH;FMTTYPE=image/jpeg:https://cityofirondaleal.gov/wp-content/uploads/svhs1.jpg
END:VEVENT
BEGIN:VEVENT
DTSTART;TZID=America/Chicago:20140819T190000
DTEND;TZID=America/Chicago:20140819T210000
DTSTAMP:20260424T210335
CREATED:20140817T050000Z
LAST-MODIFIED:20140817T050000Z
UID:6582-1408474800-1408482000@cityofirondaleal.gov
SUMMARY:Irondale City Council Meeting
DESCRIPTION:An Irondale City Council meeting will be held on 8/19/2014 at 7PM at Irondale City Hall. åÊPre-council meeting will start at 6PM. Click here or visit the city website under the city council section to view and download the meeting agenda and all supporting documents. åÊ
URL:https://cityofirondaleal.gov/event/irondale-city-council-meeting-5/
LOCATION:CIty Hall\, 101 20th St S\, Irondale\, 35210\, United States
ATTACH;FMTTYPE=image/jpeg:https://cityofirondaleal.gov/wp-content/uploads/City-of-Irondale-LOGO1.jpg
END:VEVENT
BEGIN:VEVENT
DTSTART;TZID=America/Chicago:20140826T180000
DTEND;TZID=America/Chicago:20140826T200000
DTSTAMP:20260424T210335
CREATED:20140811T050000Z
LAST-MODIFIED:20140811T050000Z
UID:6579-1409076000-1409083200@cityofirondaleal.gov
SUMMARY:Irondale Business Masters Exchange Club Meeting
DESCRIPTION:The growing Irondale Business Masters Exchange Club will be meeting at Trio’s in Irondale atåÊ6 PM on August 26\, 2014. åÊPlease bring potential members with you to allow them the opportunity to meet with fellow business men and women who want to network as well as serve their community.\n\nI would like us to plan some projects\, which we can do even though we are not officially chartered as a club yet. åÊSo bring a variety of service project ideas for which you would like our club to participate in as we help others in our community.\n\nAs always\, Trio’s has deli meals and drinks of all kinds for purchase if you would like to come early for a quick bite to eat before our meeting.
URL:https://cityofirondaleal.gov/event/irondale-business-masters-exchange-club-meeting/
LOCATION:Trios Train Stop Restaraunt\, 5407 Beacon Drive\, Irondale\, AL\, 35210\, United States
ORGANIZER;CN="Joyce%20Franklin":MAILTO:joyce35210@gmail.com
END:VEVENT
BEGIN:VEVENT
DTSTART;TZID=America/Chicago:20140818T180000
DTEND;TZID=America/Chicago:20140818T200000
DTSTAMP:20260424T210335
CREATED:20140810T050000Z
LAST-MODIFIED:20140810T050000Z
UID:6577-1408384800-1408392000@cityofirondaleal.gov
SUMMARY:Irondale CDA Monthly Meeting
DESCRIPTION:The Irondale Commercial Development Authority will hold their monthly meeting on August 18\, 2014 at the Grants Mill Station\, Police Sub-Station. åÊThe meeting will start at 6PM and is open to the public.
URL:https://cityofirondaleal.gov/event/irondale-cda-monthly-meeting/
LOCATION:Police Sub Station
ATTACH;FMTTYPE=image/jpeg:https://cityofirondaleal.gov/wp-content/uploads/cda.jpg
END:VEVENT
BEGIN:VEVENT
DTSTART;TZID=America/Chicago:20140717T190000
DTEND;TZID=America/Chicago:20140717T210000
DTSTAMP:20260424T210335
CREATED:20140712T050000Z
LAST-MODIFIED:20140712T050000Z
UID:6558-1405623600-1405630800@cityofirondaleal.gov
SUMMARY:Irondale City Council Meeting
DESCRIPTION:Please Note: åÊThe regular July City Council meeting normally held on the 3rd Tuesday of the month has been rescheduled due to area elections. åÊåÊThe new date of the City Council meeting is Thursday\, July 17\,2014 at 7PM. åÊPre-Council meeting will start at 6PM.åÊThe meeting will be held at Irondale City Hall. \n  \nPlease click here åÊor visit the City Council Pages to view and print all supporting documents related to this meeting.
URL:https://cityofirondaleal.gov/event/irondale-city-council-meeting-3/
LOCATION:CIty Hall\, 101 20th St S\, Irondale\, 35210\, United States
ATTACH;FMTTYPE=image/jpeg:https://cityofirondaleal.gov/wp-content/uploads/irondale_banner_011.jpg
END:VEVENT
BEGIN:VEVENT
DTSTART;TZID=America/Chicago:20140630T180000
DTEND;TZID=America/Chicago:20140630T200000
DTSTAMP:20260424T210335
CREATED:20140626T050000Z
LAST-MODIFIED:20140626T050000Z
UID:6543-1404151200-1404158400@cityofirondaleal.gov
SUMMARY:Irondale CDA Board Meeting
DESCRIPTION:The Irondale Commercial Development Authority will hold their monthly board meeting on Monday\, June 30th at 6PM. åÊThe meeting will take place at the Police Sub-Station located at The Station at Grants Mill. åÊAn agenda will be posted prior to the meeting.
URL:https://cityofirondaleal.gov/event/irondale-cda-board-meeting/
LOCATION:Police Sub Station
ATTACH;FMTTYPE=image/jpeg:https://cityofirondaleal.gov/wp-content/uploads/cda.jpg
END:VEVENT
BEGIN:VEVENT
DTSTART;TZID=America/Chicago:20140617T190000
DTEND;TZID=America/Chicago:20140617T210000
DTSTAMP:20260424T210335
CREATED:20140617T050000Z
LAST-MODIFIED:20140617T050000Z
UID:6530-1403031600-1403038800@cityofirondaleal.gov
SUMMARY:Irondale City Council Meeting
DESCRIPTION:The Irondale City Council meets every 1st and 3rd Tuesday of the month at 7PM CST. åÊMeetings are held at City Hall located at 101 South 20th Street in Irondale. åÊPre-Council starts at 6PM CST. \nAll City Council meetings and work sessions are open to the public.
URL:https://cityofirondaleal.gov/event/irondale-city-council-meeting/
LOCATION:CIty Hall\, 101 20th St S\, Irondale\, 35210\, United States
END:VEVENT
BEGIN:VEVENT
DTSTART;TZID=America/Chicago:20140721T180000
DTEND;TZID=America/Chicago:20140721T200000
DTSTAMP:20260424T210335
CREATED:20140531T050000Z
LAST-MODIFIED:20140531T050000Z
UID:6524-1405965600-1405972800@cityofirondaleal.gov
SUMMARY:CDA Monthly Meeting
DESCRIPTION:The Irondale Commercial Development Authority (CDA) meets every third Monday of the month. The meetings are open to the public and are normally held at the Police Sub Station at The Station at Grants Mill. For more information about the Irondale CDA please visit their website atåÊhttp://www.irondalecda.com/åÊ.
URL:https://cityofirondaleal.gov/event/cda-monthly-meeting-2/
LOCATION:Police Sub Station
END:VEVENT
BEGIN:VEVENT
DTSTART;TZID=America/Chicago:20140227T180000
DTEND;TZID=America/Chicago:20140227T200000
DTSTAMP:20260424T210335
CREATED:20140227T060000Z
LAST-MODIFIED:20140227T060000Z
UID:6520-1393524000-1393531200@cityofirondaleal.gov
SUMMARY:City Council Meeting
DESCRIPTION:Meeting on 2/26
URL:https://cityofirondaleal.gov/event/city-council-meeting-2/
LOCATION:CIty Hall\, 101 20th St S\, Irondale\, 35210\, United States
END:VEVENT
BEGIN:VEVENT
DTSTART;TZID=America/Chicago:20150831T171500
DTEND;TZID=America/Chicago:20150831T190000
DTSTAMP:20260424T210335
CREATED:20150831T050000Z
LAST-MODIFIED:20150831T050000Z
UID:6888-1441041300-1441047600@cityofirondaleal.gov
SUMMARY:Irondale City Council - Finance Committee Meeting
DESCRIPTION:The Irondale City Council – Finance Committee will hold a regular meeting at 5:15 PM on August 31\, 2015. åÊThe meeting will take place at Irondale City Hall and will be chaired by Councilor Craig Sanderson.
URL:https://cityofirondaleal.gov/event/irondale-city-council-finance-committee-meeting-9/
LOCATION:Irondale City Hall\, 101 20th Street South\, Irondale\, AL\, 35210\, United States
ATTACH;FMTTYPE=image/jpeg:https://cityofirondaleal.gov/wp-content/uploads/City-of-Irondale-LOGO11.jpg
END:VEVENT
BEGIN:VEVENT
DTSTART;TZID=America/Chicago:20150331T181500
DTEND;TZID=America/Chicago:20150331T200000
DTSTAMP:20260424T210335
CREATED:20150324T050000Z
LAST-MODIFIED:20150324T050000Z
UID:6777-1427825700-1427832000@cityofirondaleal.gov
SUMMARY:Irondale Arts Council Meeting
DESCRIPTION:The newly re-formed Irondale Arts CouncilåÊwill hold its next meeting on Tuesday\, March 31\, at 6:15 PM in the Irondale Public Library. \nThis meeting will be setting plans for the Council’s involvement in Irondale’s Spring Fest coming up in April.åÊ If you’re interested in the arts – all kinds – please join them!
URL:https://cityofirondaleal.gov/event/irondale-arts-council-meeting-2/
LOCATION:Irondale Public Library\, 105 20th Street South\, Irondale\, AL\, 35210\, United States
ATTACH;FMTTYPE=image/png:https://cityofirondaleal.gov/wp-content/uploads/arts-e1429043494363.png
END:VEVENT
BEGIN:VEVENT
DTSTART;TZID=America/Chicago:20140826T111500
DTEND;TZID=America/Chicago:20140826T130000
DTSTAMP:20260424T210335
CREATED:20140609T050000Z
LAST-MODIFIED:20140609T050000Z
UID:6527-1409051700-1409058000@cityofirondaleal.gov
SUMMARY:Exchange Club of Irondale - Luncheon
DESCRIPTION:Day/Date: åÊåÊåÊåÊTuesday\, August 26\, 2014 \nTime:åÊåÊåÊåÊåÊåÊåÊåÊåÊåÊåÊåÊ11:15 AM \nWhere:åÊåÊåÊåÊåÊåÊåÊåÊåÊThe Arbors Apartments/St. MartinÛªs In The Pines \nWe will be meeting in the Private Dining Room of The Arbors Apartments\, located on the campus of St. MartinÛªs In The Pines (4949 Montevallo Road). \nOur guest presenter will be Trish Kelly\, fitness instructor at Trinity Wellness\, Montclair Avenue.åÊ Trish will be presenting ÛÏSenior Fitness\,Û and is ACE Certified as an Aquatic Fitness Professional and numerous fitness programs.åÊ She is also a Personal Trainer\, and Smart Moves Team Member. åÊ(Trish is bringing a Door PrizeÛÓwonder what?) \nåÊ
URL:https://cityofirondaleal.gov/event/exchange-club-irondale-luncheon-2-2014-08-26/
LOCATION:The Arbors Apartments/St. Martin’s In The Pines\, 4949 Montevallo Road\, Birmingham\, AL\, 35210\, United States
ATTACH;FMTTYPE=image/jpeg:https://cityofirondaleal.gov/wp-content/uploads/image009.jpg
END:VEVENT
BEGIN:VEVENT
DTSTART;TZID=America/Chicago:20170817T180000
DTEND;TZID=America/Chicago:20170817T193000
DTSTAMP:20260424T210335
CREATED:20170803T050000Z
LAST-MODIFIED:20170803T050000Z
UID:7887-1502992800-1502998200@cityofirondaleal.gov
SUMMARY:Irondale City Council Meeting
DESCRIPTION:The Irondale City Council meetsæevery 1st and 3rd Tuesday of each month. æAll meetings take place at 6:30 PM in Irondale City Hall. \nA pre-council meeting to discuss agenda items takes place at 6PM. æThese and all Irondale City Council meetings are open to the public.
URL:https://cityofirondaleal.gov/event/city-council-meeting-3/
LOCATION:CIty Hall\, 101 20th St S\, Irondale\, 35210\, United States
ATTACH;FMTTYPE=image/jpeg:https://cityofirondaleal.gov/wp-content/uploads/City-of-Irondale-LOGO11.jpg
END:VEVENT
BEGIN:VEVENT
DTSTART;TZID=America/Chicago:20170731T173000
DTEND;TZID=America/Chicago:20170731T190000
DTSTAMP:20260424T210335
CREATED:20170719T050000Z
LAST-MODIFIED:20170719T050000Z
UID:7873-1501522200-1501527600@cityofirondaleal.gov
SUMMARY:City Council Work Session
DESCRIPTION:The Council will conduct CDA candidate interviews and discuss agenda items on Monday\, July 31 at 5:30pm.
URL:https://cityofirondaleal.gov/event/city-council-work-session/
LOCATION:CIty Hall\, 101 20th St S\, Irondale\, 35210\, United States
ATTACH;FMTTYPE=image/jpeg:https://cityofirondaleal.gov/wp-content/uploads/kick-off-meeting.jpg
END:VEVENT
BEGIN:VEVENT
DTSTART;TZID=America/Chicago:20170713T113000
DTEND;TZID=America/Chicago:20170713T130000
DTSTAMP:20260424T210335
CREATED:20170706T050000Z
LAST-MODIFIED:20170706T050000Z
UID:7777-1499945400-1499950800@cityofirondaleal.gov
SUMMARY:Greater Irondale Chamber of Commerce Luncheon
DESCRIPTION:Irondale Chamber of Commerce\nPlease join the Irondale Chamber for their Luncheon on Thursday\, July 13th from 11:30am – 1pm at Pine Tree Country Club. The guest speakers will be representatives from the Community Foundation of Greater Birmingham and the sponsor is Morningstar Storage. \nRSVP by 2pm\, Wednesday\, July 12\, 2017
URL:https://cityofirondaleal.gov/event/greater-irondale-chamber-commerce-luncheon-2/
LOCATION:Pine Tree Country Club\, 5100 Whispers Dr.;\, AL 35210\, Irondale\, AL\, 35210\, United States
END:VEVENT
BEGIN:VEVENT
DTSTART;TZID=America/Chicago:20170717T173000
DTEND;TZID=America/Chicago:20170717T190000
DTSTAMP:20260424T210335
CREATED:20170628T050000Z
LAST-MODIFIED:20170628T050000Z
UID:7774-1500312600-1500318000@cityofirondaleal.gov
SUMMARY:Finance Committee Meeting / Council Work Session
DESCRIPTION:Councilor David Spivey will have a Finance Committee Meeting on July 17\, 2017 at 5:30pm. The current financial position of the city will be discussed.
URL:https://cityofirondaleal.gov/event/finance-committee-meeting-council-work-session/
LOCATION:CIty Hall\, 101 20th St S\, Irondale\, 35210\, United States
ATTACH;FMTTYPE=image/jpeg:https://cityofirondaleal.gov/wp-content/uploads/kick-off-meeting.jpg
END:VEVENT
BEGIN:VEVENT
DTSTART;TZID=America/Chicago:20170415T090000
DTEND;TZID=America/Chicago:20170415T103000
DTSTAMP:20260424T210335
CREATED:20170413T050000Z
LAST-MODIFIED:20170413T050000Z
UID:7723-1492246800-1492252200@cityofirondaleal.gov
SUMMARY:Unity in the Community Prayer Walk
DESCRIPTION:THIS Saturday\, April 15\, the Greater Irondale Chamber of Commerce will sponsoræIrondale’s Second Annual Prayer Walk – an event inclusive of all religions and thoughtful people – to bring everyone together who wishes the city well.æ We will start at 9 AM at Revelation Church in downtown Irondale.
URL:https://cityofirondaleal.gov/event/unity-community-prayer-walk/
LOCATION:Revelation Church Ministries\, 1925 2nd Avenue\, Irondale\, 35210\, United States
END:VEVENT
BEGIN:VEVENT
DTSTART;TZID=America/Chicago:20170413T113000
DTEND;TZID=America/Chicago:20170413T130000
DTSTAMP:20260424T210335
CREATED:20170407T050000Z
LAST-MODIFIED:20170407T050000Z
UID:7705-1492083000-1492088400@cityofirondaleal.gov
SUMMARY:April  Chamber Luncheon Features Beth Stewart of Cahaba River Society
DESCRIPTION:The Greater Irondale Chamber of Commerce is pleased to present Beth Stewart\, Executive Director of the Cahaba River Society\, as our guest speaker at the next Membership Luncheon on Thursday\, April 13.\n\nBeth has a Masteräó»s Degree in Landscape Architecture from The University of California\, Berkeley with a focus in urban and environmental planning. She worked in the local government planning and zoning field for 15 years in Birmingham\, New Orleans\, the San Francisco Bay Area\, and the Bluegrass area of Kentucky.\n\nBeth grew up in the Birmingham area and has been Executive Director of the Cahaba River Society since 1995. In addition to leading organizational management and community relations for CRS\, she contributes to the Societyäó»s programs providing policy advocacy\, education\, and collaboration for low impact development\, storm water\, drinking water supplies and efficiency\, and faith-based care of creation.\n\nBeth helped found the Interfaith Environmental Initiative of Alabama\, co-leads the Alabama Urban Stormwater Partnership\, participates in the Alabama Department of Environmental Management (ADEM) Reform Coalition\, and has served on two state task forces for environmental strategic planning.\n\nPlease click here to register for the event.
URL:https://cityofirondaleal.gov/event/april-irondale-chamber-luncheon-features-beth-stewart-cahaba-river-society/
LOCATION:Pine Tree Country Club\, 5100 Whispers Dr.;\, AL 35210\, Irondale\, AL\, 35210\, United States
ATTACH;FMTTYPE=image/png:https://cityofirondaleal.gov/wp-content/uploads/bethstewart.png
END:VEVENT
BEGIN:VEVENT
DTSTART;TZID=America/Chicago:20170413T113000
DTEND;TZID=America/Chicago:20170413T130000
DTSTAMP:20260424T210335
CREATED:20170405T050000Z
LAST-MODIFIED:20170405T050000Z
UID:7700-1492083000-1492088400@cityofirondaleal.gov
SUMMARY:ISAC Easter Party
DESCRIPTION:The Irondale Senior Activity Center (ISAC) will host a Easter Party on Thursday\, April 13th at 11:30 AM. \nWear your Easter Bonnet! There will be a vote on the most Festive hat and a prize for the winner!
URL:https://cityofirondaleal.gov/event/isac-easter-party/
LOCATION:Irondale Senior Activity Center\, 5313 Beacon Drive\, Irondale\, 35210\, United States
ATTACH;FMTTYPE=image/jpeg:https://cityofirondaleal.gov/wp-content/uploads/download-2-2.jpg
END:VEVENT
BEGIN:VEVENT
DTSTART;TZID=America/Chicago:20170328T113000
DTEND;TZID=America/Chicago:20170328T130000
DTSTAMP:20260424T210335
CREATED:20170325T050000Z
LAST-MODIFIED:20170325T050000Z
UID:7685-1490700600-1490706000@cityofirondaleal.gov
SUMMARY:Exchange Club Luncheon
DESCRIPTION:The next scheduled Exchange Club of Irondale lunch meeting will be Tuesday\, March 28th at 11:30 at the ReStore Workshop Center located at 7952 Crestwood Blvd.\n\nThe guest speaker will be Jason Autry.æ Jason travels for the chain of Whole Foods stores and has great information about healthy eating. Bring someone with you and be sure to let Sue know how many guests you will have.\n\nSo that there will be plenty of food for everyone\,æplease call our club secretary\, Sue Miles\, at 956-8379 no later than 3 PM this Sunday.æ We really appreciate your help in getting an accurate count for the food.\n\nThe cost of the meal is $12. The meal is complementary for first time attendees.
URL:https://cityofirondaleal.gov/event/exchange-club-luncheon-2/
LOCATION:Habitat For Humanity\, 7954 Crestwood Boulevard\, Irondale\, AL\, 35210\, United States
ATTACH;FMTTYPE=image/jpeg:https://cityofirondaleal.gov/wp-content/uploads/image009.jpg
ORGANIZER;CN="Joyce%20Franklin":MAILTO:joyce35210@gmail.com
END:VEVENT
BEGIN:VEVENT
DTSTART;TZID=America/Chicago:20170328T173000
DTEND;TZID=America/Chicago:20170328T190000
DTSTAMP:20260424T210335
CREATED:20170325T050000Z
LAST-MODIFIED:20170325T050000Z
UID:7687-1490722200-1490727600@cityofirondaleal.gov
SUMMARY:Irondale City Council Work Session
DESCRIPTION:The Irondale City Council has scheduled a work session for Tuesday\, March 28\, 2017 at 5:30 p.m.æ This work session will be held at the Irondale City Hall 101 20th Street South\, Irondale AL 35210. \nThe purpose of the meeting is to hear updatesæfrom the City Engineeræabout the Grants Mill North Road Project and also the Quiet Zone in downtown Irondale.
URL:https://cityofirondaleal.gov/event/irondale-city-council-work-session-19/
LOCATION:Irondale City Hall\, 101 20th Street South\, Irondale\, AL\, 35210\, United States
ATTACH;FMTTYPE=image/jpeg:https://cityofirondaleal.gov/wp-content/uploads/meeting2.jpg
END:VEVENT
BEGIN:VEVENT
DTSTART;TZID=America/Chicago:20170215T173000
DTEND;TZID=America/Chicago:20170215T190000
DTSTAMP:20260424T210335
CREATED:20170215T060000Z
LAST-MODIFIED:20170215T060000Z
UID:7648-1487179800-1487185200@cityofirondaleal.gov
SUMMARY:Irondale City Council - Parks Committee Meeting
DESCRIPTION:The Irondale City Council – Parks Committee will hold a meeting on Wednesday\, February 15\, 2017 at 5:30 PM. æThe meeting will be held at Irondale City Hall and will be chaired by Irondale City Councilor\, John London. \nThis and all Irondale City Council committee meetings are open to the public.
URL:https://cityofirondaleal.gov/event/irondale-city-council-parks-committee-meeting-3/
LOCATION:Irondale City Hall\, 101 20th Street South\, Irondale\, AL\, 35210\, United States
ATTACH;FMTTYPE=image/jpeg:https://cityofirondaleal.gov/wp-content/uploads/blkfampark.jpg
END:VEVENT
BEGIN:VEVENT
DTSTART;TZID=America/Chicago:20170214T183000
DTEND;TZID=America/Chicago:20170214T200000
DTSTAMP:20260424T210335
CREATED:20170213T060000Z
LAST-MODIFIED:20170213T060000Z
UID:7642-1487097000-1487102400@cityofirondaleal.gov
SUMMARY:HGNA February Meeting
DESCRIPTION:The nextæHoliday Gardens Neighborhood Associationæmeeting will be held on Tuesday\, February 14\, 2017æat 6:30 PM at the Irondale Senior Activity Center. \nThe featured speakeræDarryl Washington – Program Director of Irondale On The MOVE\, Irondale’s first ever fully adopted comprehensive plan.æ
URL:https://cityofirondaleal.gov/event/hgna-february-meeting/
LOCATION:Irondale Senior Activity Center\, 5313 Beacon Drive\, Irondale\, 35210\, United States
ATTACH;FMTTYPE=image/jpeg:https://cityofirondaleal.gov/wp-content/uploads/1977333_691622990879327_604840861552927523_n.jpg
END:VEVENT
BEGIN:VEVENT
DTSTART;TZID=America/Chicago:20170214T113000
DTEND;TZID=America/Chicago:20170214T130000
DTSTAMP:20260424T210335
CREATED:20170209T060000Z
LAST-MODIFIED:20170209T060000Z
UID:7634-1487071800-1487077200@cityofirondaleal.gov
SUMMARY:Irondale Exchange Club Luncheon
DESCRIPTION:Our next scheduled lunch meeting will be Tuesday\, February 14th at 11:30 at the ReStore Workshop Center located at 7952 Crestwood Blvd. I do hope you will be able to join us. \nOur special guest speaker will be Mayor Charles Moore. Charles will be sharing with us his “State of the City” address for Irondale as he has served in the first 3 months of his term. Invite your Irondale friends and neighbors to join us. Be sure those you invite make their reservations for lunch by 3 PM this Sunday. \nSo that there will be plenty of food for everyone\, please call our club secretary\, Sue Miles\, at 956-8379 no later than 3 PM this Sunday. We really appreciate your help in getting an accurate count for the food. The cost of the meal is $12. The meal is complementary for first time attendees. \nHope you have a great week and weekend. Contact me is you have any questions or concerns. \nYours in Exchange\,
URL:https://cityofirondaleal.gov/event/irondale-exchange-club-luncheon-2/
LOCATION:Habitat For Humanity\, 7954 Crestwood Boulevard\, Irondale\, AL\, 35210\, United States
ATTACH;FMTTYPE=image/jpeg:https://cityofirondaleal.gov/wp-content/uploads/exchange.jpg
END:VEVENT
BEGIN:VEVENT
DTSTART;TZID=America/Chicago:20170225T120000
DTEND;TZID=America/Chicago:20170225T133000
DTSTAMP:20260424T210335
CREATED:20170208T060000Z
LAST-MODIFIED:20170208T060000Z
UID:7624-1488024000-1488029400@cityofirondaleal.gov
SUMMARY:IPL - Fancy Nancy's Glorious Gala
DESCRIPTION:Fancy Nancy’s Glorious Gala \nSaturday\, February 25 -æ12 pm æ \nJoin us for Stories and activities based on theæ Fancy Nancy book series.Wear your own dress up clothes or try on ours
URL:https://cityofirondaleal.gov/event/ipl-fancy-nancys-glorious-gala/
LOCATION:Irondale Public Library\, 105 20th Street South\, Irondale\, AL\, 35210\, United States
ATTACH;FMTTYPE=image/png:https://cityofirondaleal.gov/wp-content/uploads/2154.png
END:VEVENT
BEGIN:VEVENT
DTSTART;TZID=America/Chicago:20170213T140000
DTEND;TZID=America/Chicago:20170213T153000
DTSTAMP:20260424T210335
CREATED:20170208T060000Z
LAST-MODIFIED:20170208T060000Z
UID:7607-1486994400-1486999800@cityofirondaleal.gov
SUMMARY:IPL Book Club: The Japanese Lover by Isabel Allende
DESCRIPTION:Book Club: The Japanese Loveræby Isabel Allende \nMonday\, February 13 æ2:00 pm \nThe IPL Book Club meets the 2nd Monday of each month at 2 pm. \nNew members are always welcome.
URL:https://cityofirondaleal.gov/event/ipl-book-club-japanese-lover-isabel-allende/
LOCATION:Irondale Public Library\, 105 20th Street South\, Irondale\, AL\, 35210\, United States
ATTACH;FMTTYPE=image/jpeg:https://cityofirondaleal.gov/wp-content/uploads/1unnamed-1.jpg
END:VEVENT
BEGIN:VEVENT
DTSTART;TZID=America/Chicago:20170214T163000
DTEND;TZID=America/Chicago:20170214T180000
DTSTAMP:20260424T210335
CREATED:20170208T060000Z
LAST-MODIFIED:20170208T060000Z
UID:7609-1487089800-1487095200@cityofirondaleal.gov
SUMMARY:Teen: Anti-Valentine's Day Break-Out Challenge
DESCRIPTION:Teen: Anti-Valentine’s Day Break-Out Challenge \nTuesday\, February 14 æ4:30 pm \nAll teens and tweens are invited to come hang out at the library and NOT celebrate Valentine’s Day! \nTeams will have 30 minutes to solve the clues and get into the treasure box.
URL:https://cityofirondaleal.gov/event/teen-anti-valentines-day-break-challenge/
LOCATION:Irondale Public Library\, 105 20th Street South\, Irondale\, AL\, 35210\, United States
ATTACH;FMTTYPE=image/png:https://cityofirondaleal.gov/wp-content/uploads/4unnamed.png
END:VEVENT
BEGIN:VEVENT
DTSTART;TZID=America/Chicago:20170221T173000
DTEND;TZID=America/Chicago:20170221T190000
DTSTAMP:20260424T210335
CREATED:20170208T060000Z
LAST-MODIFIED:20170208T060000Z
UID:7618-1487698200-1487703600@cityofirondaleal.gov
SUMMARY:IPL - Solve a Mystery - Moon Base Alpha
DESCRIPTION:Moon Base Alphaæ \nTuesday\, February 21 \n5:30pm æSolve a mystery and explore the galaxy without even leaving the library! (Ages 9 and up).
URL:https://cityofirondaleal.gov/event/ipl-solve-mystery-moon-base-alpha/
ATTACH;FMTTYPE=image/png:https://cityofirondaleal.gov/wp-content/uploads/213.png
END:VEVENT
BEGIN:VEVENT
DTSTART;TZID=America/Chicago:20170124T113000
DTEND;TZID=America/Chicago:20170124T130000
DTSTAMP:20260424T210335
CREATED:20170123T060000Z
LAST-MODIFIED:20170123T060000Z
UID:7579-1485257400-1485262800@cityofirondaleal.gov
SUMMARY:Irondale Exchange Club Meeting
DESCRIPTION:Exchange Club of Irondale meets 11:30\, Tuesday\, 1/24/2017 at Restore meeting room. Call 956-5875 for information.
URL:https://cityofirondaleal.gov/event/irondale-exchange-club-meeting-2/
LOCATION:Habitat For Humanity\, 7954 Crestwood Boulevard\, Irondale\, AL\, 35210\, United States
ATTACH;FMTTYPE=image/jpeg:https://cityofirondaleal.gov/wp-content/uploads/exchange.jpg
END:VEVENT
BEGIN:VEVENT
DTSTART;TZID=America/Chicago:20170123T153000
DTEND;TZID=America/Chicago:20170123T170000
DTSTAMP:20260424T210335
CREATED:20170121T060000Z
LAST-MODIFIED:20170121T060000Z
UID:7570-1485185400-1485190800@cityofirondaleal.gov
SUMMARY:Irondale City Council - Special Meeting
DESCRIPTION:The Irondale City Council will hold a Special City Council Meeting on Monday\, January 23\, 2017 at 3:30 PM at Irondale City Hall. \nThe agenda for the special meeting is as follows: \n  \nMEETING AGENDA \nJanuary 23\, 2017 \nCity of Irondale \nCity Council Special Meeting 3:30 p.m. \næ \n\nInvocation and Pledgeæ\nCall to Orderæ\nRoll Callæ\nApproval of the Agendaæ\nDeliberation of Agenda Items Onlyæ\nNew Businessæ\n\nResolved\, That Resolution 2017-R-06 approves a settlement with Farris Harden & Associates Inc. (Mayor)\n\n\næPublic Comments to the Councilæ\nAdjournment
URL:https://cityofirondaleal.gov/event/irondale-city-council-special-meeting-3/
LOCATION:Irondale City Hall\, 101 20th Street South\, Irondale\, AL\, 35210\, United States
ATTACH;FMTTYPE=image/jpeg:https://cityofirondaleal.gov/wp-content/uploads/download-2-1.jpg
END:VEVENT
END:VCALENDAR