BEGIN:VCALENDAR
VERSION:2.0
PRODID:-//City of Irondale - ECPv6.0.13.1//NONSGML v1.0//EN
CALSCALE:GREGORIAN
METHOD:PUBLISH
X-WR-CALNAME:City of Irondale
X-ORIGINAL-URL:https://cityofirondaleal.gov
X-WR-CALDESC:Events for City of Irondale
REFRESH-INTERVAL;VALUE=DURATION:PT1H
X-Robots-Tag:noindex
X-PUBLISHED-TTL:PT1H
BEGIN:VTIMEZONE
TZID:America/Chicago
BEGIN:DAYLIGHT
TZOFFSETFROM:-0600
TZOFFSETTO:-0500
TZNAME:CDT
DTSTART:20140309T080000
END:DAYLIGHT
BEGIN:STANDARD
TZOFFSETFROM:-0500
TZOFFSETTO:-0600
TZNAME:CST
DTSTART:20141102T070000
END:STANDARD
BEGIN:DAYLIGHT
TZOFFSETFROM:-0600
TZOFFSETTO:-0500
TZNAME:CDT
DTSTART:20150308T080000
END:DAYLIGHT
BEGIN:STANDARD
TZOFFSETFROM:-0500
TZOFFSETTO:-0600
TZNAME:CST
DTSTART:20151101T070000
END:STANDARD
END:VTIMEZONE
BEGIN:VEVENT
DTSTART;TZID=America/Chicago:20150620T140000
DTEND;TZID=America/Chicago:20150620T160000
DTSTAMP:20260424T175318
CREATED:20150612T050000Z
LAST-MODIFIED:20150612T050000Z
UID:6854-1434808800-1434816000@cityofirondaleal.gov
SUMMARY:Holiday Gardens Neighborhood Association - Father's Day Appreciation Cookout
DESCRIPTION:On Saturday\, June 20\, the HGNA will sponsor a Father’s Day appreciation cookout at Irondale Fire Station 1 located on Beacon Drive in Irondale (across from the Senior Center).åÊ The cookout is open to the firemen of Fire Stations 1 and 11\, their families\, and HGNA members from 2PM to 4PM. \nMore reasons to join the HGNA if you live in the Holiday Gardens neighborhood!åÊ (Follow the Association on Facebook.)
URL:https://cityofirondaleal.gov/event/3234/
LOCATION:Irondale Fire Station #1\, 5308 Beacon Drive\, Irondale\, AL\, 35210\, United States
ATTACH;FMTTYPE=image/jpeg:https://cityofirondaleal.gov/wp-content/uploads/1977333_691622990879327_604840861552927523_n.jpg
END:VEVENT
BEGIN:VEVENT
DTSTART;TZID=America/Chicago:20150624T090000
DTEND;TZID=America/Chicago:20150624T110000
DTSTAMP:20260424T175318
CREATED:20150526T050000Z
LAST-MODIFIED:20150526T050000Z
UID:6824-1435136400-1435143600@cityofirondaleal.gov
SUMMARY:Community Health Fair
DESCRIPTION:A Community Health Fair will be held at the Irondale Senior Activity Center on June 24\, 2015\, from 9AM to 11AM. åÊThis event is free to the public and will feature free health screenings (cholesterol and blood pressure)\, demonstrations and plenty of useful health-related information will be provided.
URL:https://cityofirondaleal.gov/event/community-health-fair/
LOCATION:Irondale Senior Activity Center\, 5313 Beacon Drive\, Irondale\, 35210\, United States
ATTACH;FMTTYPE=image/jpeg:https://cityofirondaleal.gov/wp-content/uploads/City-of-Irondale-LOGO11.jpg
END:VEVENT
BEGIN:VEVENT
DTSTART;TZID=America/Chicago:20150519T190000
DTEND;TZID=America/Chicago:20150519T210000
DTSTAMP:20260424T175318
CREATED:20150514T050000Z
LAST-MODIFIED:20150514T050000Z
UID:6814-1432062000-1432069200@cityofirondaleal.gov
SUMMARY:Irondale City Council Meeting
DESCRIPTION:The Irondale City Council will hold a regular meeting on Tuesday\, May 19\, 2015. åÊThe meeting will take place at 7PM at Irondale City Hall. åÊThe Pre-Council meeting starts at 6PM. \nThe agenda and all supporting documents will be posted to the City Council webpage prior to the meeting.
URL:https://cityofirondaleal.gov/event/irondale-city-council-meeting-19/
LOCATION:CIty Hall\, 101 20th St S\, Irondale\, 35210\, United States
ATTACH;FMTTYPE=image/jpeg:https://cityofirondaleal.gov/wp-content/uploads/City-of-Irondale-LOGO11.jpg
END:VEVENT
BEGIN:VEVENT
DTSTART;TZID=America/Chicago:20150316T180000
DTEND;TZID=America/Chicago:20150316T200000
DTSTAMP:20260424T175318
CREATED:20150315T050000Z
LAST-MODIFIED:20150315T050000Z
UID:6765-1426528800-1426536000@cityofirondaleal.gov
SUMMARY:Irondale Park Committee Meeting
DESCRIPTION:The Irondale Park Committee will hold a regular meeting on March 16\, 2015 at 6PM. åÊThe meeting will be held at Irondale City Hall.
URL:https://cityofirondaleal.gov/event/irondale-park-committee-meeting-2/
LOCATION:CIty Hall\, 101 20th St S\, Irondale\, 35210\, United States
ATTACH;FMTTYPE=image/jpeg:https://cityofirondaleal.gov/wp-content/uploads/City-of-Irondale-LOGO1.jpg
END:VEVENT
BEGIN:VEVENT
DTSTART;TZID=America/Chicago:20150317T190000
DTEND;TZID=America/Chicago:20150317T210000
DTSTAMP:20260424T175318
CREATED:20150315T050000Z
LAST-MODIFIED:20150315T050000Z
UID:6767-1426618800-1426626000@cityofirondaleal.gov
SUMMARY:Irondale City Council Meeting
DESCRIPTION:The Irondale City Council will hold a regular City Council meeting on March 17\, 2015 at 7PM. åÊThe meeting will be held at Irondale City Hall. Pre-council will start at 6PM.
URL:https://cityofirondaleal.gov/event/irondale-city-council-meeting-18/
LOCATION:CIty Hall\, 101 20th St S\, Irondale\, 35210\, United States
ATTACH;FMTTYPE=image/jpeg:https://cityofirondaleal.gov/wp-content/uploads/City-of-Irondale-LOGO11.jpg
END:VEVENT
BEGIN:VEVENT
DTSTART;TZID=America/Chicago:20150319T180000
DTEND;TZID=America/Chicago:20150319T200000
DTSTAMP:20260424T175318
CREATED:20150315T050000Z
LAST-MODIFIED:20150315T050000Z
UID:6769-1426788000-1426795200@cityofirondaleal.gov
SUMMARY:Irondale City Council Finance Committee Meeting
DESCRIPTION:The Irondale City Council Finance Committee has scheduled a meeting for Thursday\, March 19\, 2015 at 6PM. åÊThe meeting will be held at the Irondale City Hall.
URL:https://cityofirondaleal.gov/event/irondale-city-council-finance-committee/
LOCATION:CIty Hall\, 101 20th St S\, Irondale\, 35210\, United States
ATTACH;FMTTYPE=image/jpeg:https://cityofirondaleal.gov/wp-content/uploads/City-of-Irondale-LOGO11.jpg
END:VEVENT
BEGIN:VEVENT
DTSTART;TZID=America/Chicago:20150223T180000
DTEND;TZID=America/Chicago:20150223T200000
DTSTAMP:20260424T175318
CREATED:20150223T060000Z
LAST-MODIFIED:20150223T060000Z
UID:6745-1424714400-1424721600@cityofirondaleal.gov
SUMMARY:Irondale City Council - Judicial/Ordinance Committee Meeting
DESCRIPTION:The Irondale City Council Judicial/Ordinance Committee has scheduled a meeting for Monday\, February 23\, 2015 at 6:00 p.m. The meeting will be held at the Irondale City Hall 101 20th Street South\, Irondale AL 35210.
URL:https://cityofirondaleal.gov/event/irondale-city-council-judicialordinance-committee-meeting-2/
LOCATION:CIty Hall\, 101 20th St S\, Irondale\, 35210\, United States
ATTACH;FMTTYPE=image/jpeg:https://cityofirondaleal.gov/wp-content/uploads/City-of-Irondale-LOGO11.jpg
END:VEVENT
BEGIN:VEVENT
DTSTART;TZID=America/Chicago:20150224T180000
DTEND;TZID=America/Chicago:20150224T200000
DTSTAMP:20260424T175318
CREATED:20150223T060000Z
LAST-MODIFIED:20150223T060000Z
UID:6747-1424800800-1424808000@cityofirondaleal.gov
SUMMARY:City of Irondale - Economic Development Committee
DESCRIPTION:The City of Irondale Economic Development Committee has scheduled a meeting for Tuesday\, February 24th\, 2015 at 6:00 p.m. The meeting will be held at the Irondale Police Substation\, 5415 Beacon Drive Suite 125\, Irondale AL 35210.
URL:https://cityofirondaleal.gov/event/city-irondale-economic-development-committee/
LOCATION:Police Sub Station
ATTACH;FMTTYPE=image/jpeg:https://cityofirondaleal.gov/wp-content/uploads/City-of-Irondale-LOGO11.jpg
END:VEVENT
BEGIN:VEVENT
DTSTART;TZID=America/Chicago:20150226T180000
DTEND;TZID=America/Chicago:20150226T200000
DTSTAMP:20260424T175318
CREATED:20150223T060000Z
LAST-MODIFIED:20150223T060000Z
UID:6749-1424973600-1424980800@cityofirondaleal.gov
SUMMARY:Irondale City Council Work Session
DESCRIPTION:The Irondale City Council has scheduled a meeting for Thursday\, February 26\, 2015\, at 6:00 p.m. to discuss Tuesday\, March 3\, 2015 council meeting agenda. åÊThis meeting will be held at the Irondale City Hall\, 101 20th Street South\, Irondale\, AL 35210.
URL:https://cityofirondaleal.gov/event/irondale-city-council-work-session-6/
LOCATION:CIty Hall\, 101 20th St S\, Irondale\, 35210\, United States
ATTACH;FMTTYPE=image/jpeg:https://cityofirondaleal.gov/wp-content/uploads/City-of-Irondale-LOGO11.jpg
END:VEVENT
BEGIN:VEVENT
DTSTART;TZID=America/Chicago:20150228T150000
DTEND;TZID=America/Chicago:20150228T170000
DTSTAMP:20260424T175318
CREATED:20150220T060000Z
LAST-MODIFIED:20150220T060000Z
UID:6744-1425135600-1425142800@cityofirondaleal.gov
SUMMARY:"Go Red for Women"
DESCRIPTION:In the spirit of the American Heart Association’s “Go Red for Women” campaign to educate women about heart disease\, Irondale’s St. James United Methodist Church will host J. Michael Moates\, MD as their guest speaker on Saturday\, February 28\, at 3:00 PM. \nDr. Moates received his undergraduate degree in biomedical engineering from Vanderbilt University and his medical degree from UAB.åÊ He is currently a full-time staff physician at the Birmingham VA Medical Center working with patients in primary care and with diabetes and general endocrine disorders.
URL:https://cityofirondaleal.gov/event/go-red-women/
LOCATION:St. James United Methodist Church\, 2604 Hagood Street\, Irondale\, AL\, 35210
END:VEVENT
BEGIN:VEVENT
DTSTART;TZID=America/Chicago:20141216T190000
DTEND;TZID=America/Chicago:20141216T210000
DTSTAMP:20260424T175318
CREATED:20141216T060000Z
LAST-MODIFIED:20141216T060000Z
UID:6719-1418756400-1418763600@cityofirondaleal.gov
SUMMARY:Irondale City Council Meeting
DESCRIPTION:The Irondale City Council will hold a regular city council meeting on December 16\, 2014 at 7PM. åÊThe meeting will take place at Irondale City Hall. åÊPre-council meeting starts at 6PM. The meeting agenda and supporting documents can be found on the City of Irondale’s website or by clicking here.
URL:https://cityofirondaleal.gov/event/irondale-city-council-meeting-12/
LOCATION:CIty Hall\, 101 20th St S\, Irondale\, 35210\, United States
ATTACH;FMTTYPE=image/jpeg:https://cityofirondaleal.gov/wp-content/uploads/City-of-Irondale-LOGO11.jpg
END:VEVENT
BEGIN:VEVENT
DTSTART;TZID=America/Chicago:20141118T190000
DTEND;TZID=America/Chicago:20141118T210000
DTSTAMP:20260424T175318
CREATED:20141102T050000Z
LAST-MODIFIED:20141102T050000Z
UID:6694-1416337200-1416344400@cityofirondaleal.gov
SUMMARY:Irondale City Council Meeting
DESCRIPTION:The Irondale City Council will hold a regular meeting on Tuesday\, November 18\, 2014 at 7PM. åÊPre-Council meeting will start at 6PM. Both meetings will be held at Irondale City Hall
URL:https://cityofirondaleal.gov/event/irondale-city-council-meeting-10/
LOCATION:CIty Hall\, 101 20th St S\, Irondale\, 35210\, United States
ATTACH;FMTTYPE=image/jpeg:https://cityofirondaleal.gov/wp-content/uploads/City-of-Irondale-LOGO.jpg
END:VEVENT
BEGIN:VEVENT
DTSTART;TZID=America/Chicago:20141027T180000
DTEND;TZID=America/Chicago:20141027T200000
DTSTAMP:20260424T175318
CREATED:20141027T050000Z
LAST-MODIFIED:20141027T050000Z
UID:6677-1414432800-1414440000@cityofirondaleal.gov
SUMMARY:Irondale City Council Parks Committee Meeting
DESCRIPTION:Notice of Irondale City Council Parks Committee Meeting \nThe Irondale City Council Parks Committee has scheduled a meeting for Monday\, October 27\, 2014 at 6:00 p.m. The meeting will be held at the Irondale City Hall\, 101 20th Street South\, Irondale AL 35210. \n 
URL:https://cityofirondaleal.gov/event/irondale-city-council-parks-committee-meeting-2/
LOCATION:CIty Hall\, 101 20th St S\, Irondale\, 35210\, United States
ATTACH;FMTTYPE=image/jpeg:https://cityofirondaleal.gov/wp-content/uploads/City-of-Irondale-LOGO1.jpg
END:VEVENT
BEGIN:VEVENT
DTSTART;TZID=America/Chicago:20141019T150000
DTEND;TZID=America/Chicago:20141019T170000
DTSTAMP:20260424T175318
CREATED:20141007T050000Z
LAST-MODIFIED:20141007T050000Z
UID:6663-1413730800-1413738000@cityofirondaleal.gov
SUMMARY:Irondale United Methodist Fall Festival
DESCRIPTION:Irondale United Methodist Church will hold their annual Fall Festival on October 19th\, from 3PM to 5PM. åÊThe event will take place on the campus of Irondale United Methodist Church. åÊBring the entire family and enjoy food\, games\, prizes and inflatables for the kids. For more information visit http://www.irondaleumc.org/index.html.
URL:https://cityofirondaleal.gov/event/irondale-united-methodist-fall-festival/
LOCATION:Irondale United Methodist Church\, 400 Deering St\, Irondale\, AL\, 35210\, United States
ATTACH;FMTTYPE=image/jpeg:https://cityofirondaleal.gov/wp-content/uploads/download-13.jpg
END:VEVENT
BEGIN:VEVENT
DTSTART;TZID=America/Chicago:20141030T180000
DTEND;TZID=America/Chicago:20141030T200000
DTSTAMP:20260424T175318
CREATED:20141007T050000Z
LAST-MODIFIED:20141007T050000Z
UID:6666-1414692000-1414699200@cityofirondaleal.gov
SUMMARY:Irondale First Baptist Church - Trunk R' Treat
DESCRIPTION:
URL:https://cityofirondaleal.gov/event/irondale-first-batptist-trunk-r-treat/
LOCATION:The Church at Grants Mill\, 6001 Old Leeds Road\, Irondale\, AL\, 35210\, United States
END:VEVENT
BEGIN:VEVENT
DTSTART;TZID=America/Chicago:20140923T180000
DTEND;TZID=America/Chicago:20140923T200000
DTSTAMP:20260424T175318
CREATED:20140923T050000Z
LAST-MODIFIED:20140923T050000Z
UID:6638-1411495200-1411502400@cityofirondaleal.gov
SUMMARY:Irondale City Council - Finance Committee Meeting
DESCRIPTION:Notice of Irondale City Council Finance Committee Meeting \nThe Irondale City Council Finance Committee has scheduled a meeting for Tuesday\, September 23\, 2014 at 6:00 p.m. åÊThe meeting will be held at the Irondale City Hall 101 20th Street South\, Irondale AL 35210. \n 
URL:https://cityofirondaleal.gov/event/irondale-city-council-finance-committee-meeting/
LOCATION:CIty Hall\, 101 20th St S\, Irondale\, 35210\, United States
ATTACH;FMTTYPE=image/jpeg:https://cityofirondaleal.gov/wp-content/uploads/City-of-Irondale-LOGO1.jpg
END:VEVENT
BEGIN:VEVENT
DTSTART;TZID=America/Chicago:20140924T180000
DTEND;TZID=America/Chicago:20140924T200000
DTSTAMP:20260424T175318
CREATED:20140923T050000Z
LAST-MODIFIED:20140923T050000Z
UID:6640-1411581600-1411588800@cityofirondaleal.gov
SUMMARY:Irondale City Council - Work Session
DESCRIPTION:Notice of Irondale City Council Work Session \nThe Irondale City Council has scheduled a work session for Wednesday\, September 24\, 2014 at 6:00 p.m. åÊThis work session will be held at the Irondale City Hall\, 101 20th Street South\, Irondale\, AL 35210. \n 
URL:https://cityofirondaleal.gov/event/irondale-city-council-work-session-3/
LOCATION:CIty Hall\, 101 20th St S\, Irondale\, 35210\, United States
ATTACH;FMTTYPE=image/jpeg:https://cityofirondaleal.gov/wp-content/uploads/City-of-Irondale-LOGO1.jpg
END:VEVENT
BEGIN:VEVENT
DTSTART;TZID=America/Chicago:20140916T190000
DTEND;TZID=America/Chicago:20140916T210000
DTSTAMP:20260424T175318
CREATED:20140828T050000Z
LAST-MODIFIED:20140828T050000Z
UID:6598-1410894000-1410901200@cityofirondaleal.gov
SUMMARY:Irondale City Council Meeting
DESCRIPTION:The Irondale City Council will hold a regular City Council Meeting on September 16\, 2014 at 7PM. Pre-council meeting will be held at 6PM. åÊPlease check the City of Irondale website at www.cityofirondaleal.gov for agenda and supporting documents.
URL:https://cityofirondaleal.gov/event/irondale-city-council-meeting-7/
LOCATION:CIty Hall\, 101 20th St S\, Irondale\, 35210\, United States
ATTACH;FMTTYPE=image/jpeg:https://cityofirondaleal.gov/wp-content/uploads/City-of-Irondale-LOGO1.jpg
END:VEVENT
BEGIN:VEVENT
DTSTART;TZID=America/Chicago:20140925T170000
DTEND;TZID=America/Chicago:20140925T190000
DTSTAMP:20260424T175318
CREATED:20140828T050000Z
LAST-MODIFIED:20140828T050000Z
UID:6604-1411664400-1411671600@cityofirondaleal.gov
SUMMARY:Chamber After Hours
DESCRIPTION:Come join the Greater Irondale Chamber of Commerce for an after hours network event. This is a a great opportunity to networking with local business professionals from Irondale\, Birmingham and Mountain Brook. åÊThe event will be held at the i-Store Self Storage on Montclair Road from 5PM to 7PM. Light refreshments will be served.
URL:https://cityofirondaleal.gov/event/chamber-hours/
LOCATION:i-Store Self Storage\, 1533 Montclair Rd\, Birmingham\, AL\, 35210\, United States
ATTACH;FMTTYPE=image/jpeg:https://cityofirondaleal.gov/wp-content/uploads/chambe.jpg
END:VEVENT
BEGIN:VEVENT
DTSTART;TZID=America/Chicago:20140829T190000
DTEND;TZID=America/Chicago:20140829T210000
DTSTAMP:20260424T175318
CREATED:20140828T050000Z
LAST-MODIFIED:20140828T050000Z
UID:6606-1409338800-1409346000@cityofirondaleal.gov
SUMMARY:Shades Valley VS Bessemer City
DESCRIPTION:
URL:https://cityofirondaleal.gov/event/shades-valley-vs-bessemer-city/
LOCATION:Bessemer City High School\, 4950 Premier Parkway\, Bessemer\, AL\, 35022\, United States
ATTACH;FMTTYPE=image/jpeg:https://cityofirondaleal.gov/wp-content/uploads/svhs1.jpg
END:VEVENT
BEGIN:VEVENT
DTSTART;TZID=America/Chicago:20140822T190000
DTEND;TZID=America/Chicago:20140822T210000
DTSTAMP:20260424T175318
CREATED:20140821T050000Z
LAST-MODIFIED:20140821T050000Z
UID:6588-1408734000-1408741200@cityofirondaleal.gov
SUMMARY:Shades Valley VS Florence - Football Game
DESCRIPTION:First home Game at Frank Nix Stadium\, starting at 7PM. åÊPlease come out and support our 2014 Mounties ranked #3 in the state of Alabama.
URL:https://cityofirondaleal.gov/event/shades-valley-vs-florence-football-game/
LOCATION:Shades Valley High School\, 6100 Old Leeds Rd\, Irondale\, AL\, 35210\, United States
ATTACH;FMTTYPE=image/jpeg:https://cityofirondaleal.gov/wp-content/uploads/svhs1.jpg
END:VEVENT
BEGIN:VEVENT
DTSTART;TZID=America/Chicago:20140819T190000
DTEND;TZID=America/Chicago:20140819T210000
DTSTAMP:20260424T175318
CREATED:20140817T050000Z
LAST-MODIFIED:20140817T050000Z
UID:6582-1408474800-1408482000@cityofirondaleal.gov
SUMMARY:Irondale City Council Meeting
DESCRIPTION:An Irondale City Council meeting will be held on 8/19/2014 at 7PM at Irondale City Hall. åÊPre-council meeting will start at 6PM. Click here or visit the city website under the city council section to view and download the meeting agenda and all supporting documents. åÊ
URL:https://cityofirondaleal.gov/event/irondale-city-council-meeting-5/
LOCATION:CIty Hall\, 101 20th St S\, Irondale\, 35210\, United States
ATTACH;FMTTYPE=image/jpeg:https://cityofirondaleal.gov/wp-content/uploads/City-of-Irondale-LOGO1.jpg
END:VEVENT
BEGIN:VEVENT
DTSTART;TZID=America/Chicago:20140826T180000
DTEND;TZID=America/Chicago:20140826T200000
DTSTAMP:20260424T175318
CREATED:20140811T050000Z
LAST-MODIFIED:20140811T050000Z
UID:6579-1409076000-1409083200@cityofirondaleal.gov
SUMMARY:Irondale Business Masters Exchange Club Meeting
DESCRIPTION:The growing Irondale Business Masters Exchange Club will be meeting at Trio’s in Irondale atåÊ6 PM on August 26\, 2014. åÊPlease bring potential members with you to allow them the opportunity to meet with fellow business men and women who want to network as well as serve their community.\n\nI would like us to plan some projects\, which we can do even though we are not officially chartered as a club yet. åÊSo bring a variety of service project ideas for which you would like our club to participate in as we help others in our community.\n\nAs always\, Trio’s has deli meals and drinks of all kinds for purchase if you would like to come early for a quick bite to eat before our meeting.
URL:https://cityofirondaleal.gov/event/irondale-business-masters-exchange-club-meeting/
LOCATION:Trios Train Stop Restaraunt\, 5407 Beacon Drive\, Irondale\, AL\, 35210\, United States
ORGANIZER;CN="Joyce%20Franklin":MAILTO:joyce35210@gmail.com
END:VEVENT
BEGIN:VEVENT
DTSTART;TZID=America/Chicago:20140818T180000
DTEND;TZID=America/Chicago:20140818T200000
DTSTAMP:20260424T175318
CREATED:20140810T050000Z
LAST-MODIFIED:20140810T050000Z
UID:6577-1408384800-1408392000@cityofirondaleal.gov
SUMMARY:Irondale CDA Monthly Meeting
DESCRIPTION:The Irondale Commercial Development Authority will hold their monthly meeting on August 18\, 2014 at the Grants Mill Station\, Police Sub-Station. åÊThe meeting will start at 6PM and is open to the public.
URL:https://cityofirondaleal.gov/event/irondale-cda-monthly-meeting/
LOCATION:Police Sub Station
ATTACH;FMTTYPE=image/jpeg:https://cityofirondaleal.gov/wp-content/uploads/cda.jpg
END:VEVENT
BEGIN:VEVENT
DTSTART;TZID=America/Chicago:20140717T190000
DTEND;TZID=America/Chicago:20140717T210000
DTSTAMP:20260424T175318
CREATED:20140712T050000Z
LAST-MODIFIED:20140712T050000Z
UID:6558-1405623600-1405630800@cityofirondaleal.gov
SUMMARY:Irondale City Council Meeting
DESCRIPTION:Please Note: åÊThe regular July City Council meeting normally held on the 3rd Tuesday of the month has been rescheduled due to area elections. åÊåÊThe new date of the City Council meeting is Thursday\, July 17\,2014 at 7PM. åÊPre-Council meeting will start at 6PM.åÊThe meeting will be held at Irondale City Hall. \n  \nPlease click here åÊor visit the City Council Pages to view and print all supporting documents related to this meeting.
URL:https://cityofirondaleal.gov/event/irondale-city-council-meeting-3/
LOCATION:CIty Hall\, 101 20th St S\, Irondale\, 35210\, United States
ATTACH;FMTTYPE=image/jpeg:https://cityofirondaleal.gov/wp-content/uploads/irondale_banner_011.jpg
END:VEVENT
BEGIN:VEVENT
DTSTART;TZID=America/Chicago:20140630T180000
DTEND;TZID=America/Chicago:20140630T200000
DTSTAMP:20260424T175318
CREATED:20140626T050000Z
LAST-MODIFIED:20140626T050000Z
UID:6543-1404151200-1404158400@cityofirondaleal.gov
SUMMARY:Irondale CDA Board Meeting
DESCRIPTION:The Irondale Commercial Development Authority will hold their monthly board meeting on Monday\, June 30th at 6PM. åÊThe meeting will take place at the Police Sub-Station located at The Station at Grants Mill. åÊAn agenda will be posted prior to the meeting.
URL:https://cityofirondaleal.gov/event/irondale-cda-board-meeting/
LOCATION:Police Sub Station
ATTACH;FMTTYPE=image/jpeg:https://cityofirondaleal.gov/wp-content/uploads/cda.jpg
END:VEVENT
BEGIN:VEVENT
DTSTART;TZID=America/Chicago:20140617T190000
DTEND;TZID=America/Chicago:20140617T210000
DTSTAMP:20260424T175318
CREATED:20140617T050000Z
LAST-MODIFIED:20140617T050000Z
UID:6530-1403031600-1403038800@cityofirondaleal.gov
SUMMARY:Irondale City Council Meeting
DESCRIPTION:The Irondale City Council meets every 1st and 3rd Tuesday of the month at 7PM CST. åÊMeetings are held at City Hall located at 101 South 20th Street in Irondale. åÊPre-Council starts at 6PM CST. \nAll City Council meetings and work sessions are open to the public.
URL:https://cityofirondaleal.gov/event/irondale-city-council-meeting/
LOCATION:CIty Hall\, 101 20th St S\, Irondale\, 35210\, United States
END:VEVENT
BEGIN:VEVENT
DTSTART;TZID=America/Chicago:20140721T180000
DTEND;TZID=America/Chicago:20140721T200000
DTSTAMP:20260424T175318
CREATED:20140531T050000Z
LAST-MODIFIED:20140531T050000Z
UID:6524-1405965600-1405972800@cityofirondaleal.gov
SUMMARY:CDA Monthly Meeting
DESCRIPTION:The Irondale Commercial Development Authority (CDA) meets every third Monday of the month. The meetings are open to the public and are normally held at the Police Sub Station at The Station at Grants Mill. For more information about the Irondale CDA please visit their website atåÊhttp://www.irondalecda.com/åÊ.
URL:https://cityofirondaleal.gov/event/cda-monthly-meeting-2/
LOCATION:Police Sub Station
END:VEVENT
BEGIN:VEVENT
DTSTART;TZID=America/Chicago:20140227T180000
DTEND;TZID=America/Chicago:20140227T200000
DTSTAMP:20260424T175318
CREATED:20140227T060000Z
LAST-MODIFIED:20140227T060000Z
UID:6520-1393524000-1393531200@cityofirondaleal.gov
SUMMARY:City Council Meeting
DESCRIPTION:Meeting on 2/26
URL:https://cityofirondaleal.gov/event/city-council-meeting-2/
LOCATION:CIty Hall\, 101 20th St S\, Irondale\, 35210\, United States
END:VEVENT
BEGIN:VEVENT
DTSTART;TZID=America/Chicago:20150831T171500
DTEND;TZID=America/Chicago:20150831T190000
DTSTAMP:20260424T175318
CREATED:20150831T050000Z
LAST-MODIFIED:20150831T050000Z
UID:6888-1441041300-1441047600@cityofirondaleal.gov
SUMMARY:Irondale City Council - Finance Committee Meeting
DESCRIPTION:The Irondale City Council – Finance Committee will hold a regular meeting at 5:15 PM on August 31\, 2015. åÊThe meeting will take place at Irondale City Hall and will be chaired by Councilor Craig Sanderson.
URL:https://cityofirondaleal.gov/event/irondale-city-council-finance-committee-meeting-9/
LOCATION:Irondale City Hall\, 101 20th Street South\, Irondale\, AL\, 35210\, United States
ATTACH;FMTTYPE=image/jpeg:https://cityofirondaleal.gov/wp-content/uploads/City-of-Irondale-LOGO11.jpg
END:VEVENT
END:VCALENDAR