BEGIN:VCALENDAR
VERSION:2.0
PRODID:-//City of Irondale - ECPv6.0.13.1//NONSGML v1.0//EN
CALSCALE:GREGORIAN
METHOD:PUBLISH
X-WR-CALNAME:City of Irondale
X-ORIGINAL-URL:https://cityofirondaleal.gov
X-WR-CALDESC:Events for City of Irondale
REFRESH-INTERVAL;VALUE=DURATION:PT1H
X-Robots-Tag:noindex
X-PUBLISHED-TTL:PT1H
BEGIN:VTIMEZONE
TZID:America/Chicago
BEGIN:DAYLIGHT
TZOFFSETFROM:-0600
TZOFFSETTO:-0500
TZNAME:CDT
DTSTART:20140309T080000
END:DAYLIGHT
BEGIN:STANDARD
TZOFFSETFROM:-0500
TZOFFSETTO:-0600
TZNAME:CST
DTSTART:20141102T070000
END:STANDARD
BEGIN:DAYLIGHT
TZOFFSETFROM:-0600
TZOFFSETTO:-0500
TZNAME:CDT
DTSTART:20150308T080000
END:DAYLIGHT
BEGIN:STANDARD
TZOFFSETFROM:-0500
TZOFFSETTO:-0600
TZNAME:CST
DTSTART:20151101T070000
END:STANDARD
BEGIN:DAYLIGHT
TZOFFSETFROM:-0600
TZOFFSETTO:-0500
TZNAME:CDT
DTSTART:20160313T080000
END:DAYLIGHT
BEGIN:STANDARD
TZOFFSETFROM:-0500
TZOFFSETTO:-0600
TZNAME:CST
DTSTART:20161106T070000
END:STANDARD
END:VTIMEZONE
BEGIN:VEVENT
DTSTART;TZID=America/Chicago:20160419T180000
DTEND;TZID=America/Chicago:20160419T200000
DTSTAMP:20260424T104450
CREATED:20160413T050000Z
LAST-MODIFIED:20160413T050000Z
UID:7070-1461088800-1461096000@cityofirondaleal.gov
SUMMARY:April Holiday Gardens Neighborhood Association Meeting
DESCRIPTION:Due to the elections held on April 12\, 2016\, the April 2016åÊHoliday Gardens Neighborhood AssociationåÊwill be held on Tuesday\, April 19\, 2016 at 6PM. åÊThe meeting will take place at the Irondale Senior Activity Center. \nWe invite all citizens in Holiday Gardens to attend this event as we discuss ways to improve our great neighborhood.
URL:https://cityofirondaleal.gov/event/april-holiday-gardens-neighborhood-association-meeting/
LOCATION:Irondale Senior Activity Center\, 5313 Beacon Drive\, Irondale\, 35210\, United States
ATTACH;FMTTYPE=image/jpeg:https://cityofirondaleal.gov/wp-content/uploads/10484954_727781520596807_1238007574565252972_n.jpg
END:VEVENT
BEGIN:VEVENT
DTSTART;TZID=America/Chicago:20160315T190000
DTEND;TZID=America/Chicago:20160315T210000
DTSTAMP:20260424T104450
CREATED:20160312T060000Z
LAST-MODIFIED:20160312T060000Z
UID:7041-1458068400-1458075600@cityofirondaleal.gov
SUMMARY:Irondale City Council Meeting
DESCRIPTION:The Irondale City Council will hold a regular meeting on Tuesday\, March 15\, 2016 at Irondale City Hall.åÊ The meeting starts at 7PM and is open to the public. \nA pre-council meeting to discuss agenda items only\, will take placeåÊfrom 6PM to 7PM prior to the regular meeting. \nWe encourage all Irondale residents\, businesses and community stakeholders to attend. \nClick the link below to view the meeting agenda: \nCityCouncilMeetingAgenda03152016
URL:https://cityofirondaleal.gov/event/irondale-city-council-meeting-34/
LOCATION:Irondale City Hall\, 101 20th Street South\, Irondale\, AL\, 35210\, United States
ATTACH;FMTTYPE=image/jpeg:https://cityofirondaleal.gov/wp-content/uploads/Irondale-City-Council_0007.jpg
END:VEVENT
BEGIN:VEVENT
DTSTART;TZID=America/Chicago:20160314T180000
DTEND;TZID=America/Chicago:20160314T200000
DTSTAMP:20260424T104450
CREATED:20160312T060000Z
LAST-MODIFIED:20160312T060000Z
UID:7043-1457978400-1457985600@cityofirondaleal.gov
SUMMARY:Notice of Irondale City Council Work Session
DESCRIPTION:The Irondale City Council has scheduled a work session for Monday\, March 14\, 2016 at 6:00 p.m. åÊThis work session will be held at the Irondale City Hall\, 101 20th Street South\, Irondale\, AL 35210.
URL:https://cityofirondaleal.gov/event/notice-of-irondale-city-council-work-session-3/
LOCATION:Irondale City Hall\, 101 20th Street South\, Irondale\, AL\, 35210\, United States
ATTACH;FMTTYPE=image/jpeg:https://cityofirondaleal.gov/wp-content/uploads/TERRY-BEARDEN-e1428706916732.jpg
END:VEVENT
BEGIN:VEVENT
DTSTART;TZID=America/Chicago:20160316T180000
DTEND;TZID=America/Chicago:20160316T200000
DTSTAMP:20260424T104450
CREATED:20160302T060000Z
LAST-MODIFIED:20160302T060000Z
UID:7028-1458151200-1458158400@cityofirondaleal.gov
SUMMARY:Irondale Downtown Redevelopment Authority Meeting
DESCRIPTION:The Irondale Downtown Redevelopment Authority has scheduled a meeting for Wednesday\, March 16\, 2016 at 6:00 p.m. åÊThis meeting will be held at the Irondale City Hall\, 101 20th Street South\, Irondale\, AL 35210.
URL:https://cityofirondaleal.gov/event/4144/
LOCATION:Irondale City Hall\, 101 20th Street South\, Irondale\, AL\, 35210\, United States
ATTACH;FMTTYPE=image/jpeg:https://cityofirondaleal.gov/wp-content/uploads/DSCN4479.jpg
END:VEVENT
BEGIN:VEVENT
DTSTART;TZID=America/Chicago:20160219T190000
DTEND;TZID=America/Chicago:20160219T210000
DTSTAMP:20260424T104450
CREATED:20160216T060000Z
LAST-MODIFIED:20160216T060000Z
UID:7023-1455908400-1455915600@cityofirondaleal.gov
SUMMARY:The Evolution of Time\, A Celebration of Black History
DESCRIPTION:We would like to invite all of you to join us on Friday or Saturday\, February 19th or 20th at 7 PM for The Evolution of Time\, A Celebration of Black History. åÊ This is a student designed\, produced\, and led Black History Month program that will take place at the Shades Valley High School Theater. \nAdmission is $5.åÊ All proceeds go to the Taylor Chatman Scholarship Fund for a qualifying senior who past has made a difference in their future.
URL:https://cityofirondaleal.gov/event/the-evolution-of-time-a-celebration-of-black-history/
LOCATION:Shades Valley High School\, 6100 Old Leeds Rd\, Irondale\, AL\, 35210\, United States
ATTACH;FMTTYPE=image/jpeg:https://cityofirondaleal.gov/wp-content/uploads/download-8.jpg
END:VEVENT
BEGIN:VEVENT
DTSTART;TZID=America/Chicago:20160217T080000
DTEND;TZID=America/Chicago:20160217T100000
DTSTAMP:20260424T104450
CREATED:20160202T060000Z
LAST-MODIFIED:20160202T060000Z
UID:7007-1455696000-1455703200@cityofirondaleal.gov
SUMMARY:Coffee with the Mayor åÊ
DESCRIPTION:Tommy Joe Alexander will open the Mayor’s office on Wednesday\, February 17 to Irondale workers and residents to talk about the City’s present and future.\n\nJoin Mayor Alexander and others and share ideas over coffee and light refreshments any time between 8 and 10 AM on February 17.
URL:https://cityofirondaleal.gov/event/coffee-with-the-mayor/
LOCATION:Irondale City Hall\, 101 20th Street South\, Irondale\, AL\, 35210\, United States
END:VEVENT
BEGIN:VEVENT
DTSTART;TZID=America/Chicago:20160121T180000
DTEND;TZID=America/Chicago:20160121T200000
DTSTAMP:20260424T104450
CREATED:20160121T060000Z
LAST-MODIFIED:20160121T060000Z
UID:6988-1453399200-1453406400@cityofirondaleal.gov
SUMMARY:Irondale Public LibraryåÊpresentsåÊNational Pie Day
DESCRIPTION:Irondale Public LibraryåÊpresentsåÊNational Pie Day \nThursday\, January 21 at 6pm\n\nPie Potluck: Bring a pie to share if you like. We will have some pies for tasting. Special thanks to our partners:åÊThe Irondale Cafe and Golden Rule BarBQ.\n\n \n\nRecipe Exchange: Email\, send or deliver your favorite pie recipe and we will print copies. Email:librarian@irondalelibrary.org\nPie film: We will show the PBS film A Few Good Pie Places (2015) on the big screen.
URL:https://cityofirondaleal.gov/event/irondale-public-library-presents-national-pie-day/
LOCATION:Irondale Public Library\, 105 20th Street South\, Irondale\, AL\, 35210\, United States
ATTACH;FMTTYPE=image/jpeg:https://cityofirondaleal.gov/wp-content/uploads/1unnamed.jpg
END:VEVENT
BEGIN:VEVENT
DTSTART;TZID=America/Chicago:20160121T183000
DTEND;TZID=America/Chicago:20160121T203000
DTSTAMP:20260424T104450
CREATED:20160120T060000Z
LAST-MODIFIED:20160120T060000Z
UID:6984-1453401000-1453408200@cityofirondaleal.gov
SUMMARY:Ruffner Mountain Nature Preserve - 2016 Annual Meeting
DESCRIPTION:Ruffner Mountain Nature Preserve willåÊhost their 2016 Annual Meeting on January 21\, 2016 from 6:30PM to 8:30PM.åÊ The meeting will take place at Ruffner Mountain Nature Preserve’s Treehouse and isåÊFree to the public. \nComeåÊmix and mingle with the new Ruffner board of directors\, staff and introducing new Executive Director\, Carlee Sanford.åÊCarlee will give an overview of some of the exciting programs\, events and projects planned for 2016. A special auction will also be held with a chance to winåÊsome awesomeåÊRuffner Mountain Nature Preserve vintage items. \nSpecial thanks to the following sponsors for providing food and refreshments for the event; Cahaba Brewing\, Octane\, Jim and Nicks\, Tri-Tab Brewing Company and PieLab.
URL:https://cityofirondaleal.gov/event/ruffner-mountain-nature-preserve-2016-annual-meeting/
LOCATION:Ruffner Mountain Nature Preserve\, 1214 81st St S\, Birmingham\, AL\, 35206\, United States
ATTACH;FMTTYPE=image/png:https://cityofirondaleal.gov/wp-content/uploads/Wide-Cone-Logo-75DPI.png
END:VEVENT
BEGIN:VEVENT
DTSTART;TZID=America/Chicago:20151215T190000
DTEND;TZID=America/Chicago:20151215T210000
DTSTAMP:20260424T104450
CREATED:20151215T060000Z
LAST-MODIFIED:20151215T060000Z
UID:6965-1450206000-1450213200@cityofirondaleal.gov
SUMMARY:Irondale City Council Meeting
DESCRIPTION:The Irondale City Council will hold the final city council meeting of 2015 on Tuesday\, December 15\, 2015 at 7PM. åÊThe meeting will be held at Irondale City Hall. åÊPre-Council meeting to discuss agenda items will take place at 6PM. \nThe meeting agenda and supporting documents are as follows: \nCityCouncilMeetingAgenda12152015 \nCopy of 12.15.15 COUNCILMEETING \nPYMT APPROVAL 12.15.2015 \n  \n 
URL:https://cityofirondaleal.gov/event/irondale-city-council-meeting-28/
LOCATION:Irondale City Hall\, 101 20th Street South\, Irondale\, AL\, 35210\, United States
ATTACH;FMTTYPE=image/jpeg:https://cityofirondaleal.gov/wp-content/uploads/Irondale-City-City-Council_0049.jpg
END:VEVENT
BEGIN:VEVENT
DTSTART;TZID=America/Chicago:20151123T180000
DTEND;TZID=America/Chicago:20151123T200000
DTSTAMP:20260424T104450
CREATED:20151123T060000Z
LAST-MODIFIED:20151123T060000Z
UID:6948-1448301600-1448308800@cityofirondaleal.gov
SUMMARY:Irondale City Council - Work Session
DESCRIPTION:The Irondale City Council will hold a regular work session on Monday\, November 23\, 2015 at 6PM. åÊThe meeting will take place at Irondale City Hall.
URL:https://cityofirondaleal.gov/event/irondale-city-council-work-session-11/
LOCATION:Irondale City Hall\, 101 20th Street South\, Irondale\, AL\, 35210\, United States
ATTACH;FMTTYPE=image/jpeg:https://cityofirondaleal.gov/wp-content/uploads/Irondale-City-City-Council_0049.jpg
END:VEVENT
BEGIN:VEVENT
DTSTART;TZID=America/Chicago:20151117T190000
DTEND;TZID=America/Chicago:20151117T210000
DTSTAMP:20260424T104450
CREATED:20151114T060000Z
LAST-MODIFIED:20151114T060000Z
UID:6946-1447786800-1447794000@cityofirondaleal.gov
SUMMARY:Irondale City Council Meeting
DESCRIPTION:The Irondale City Council will hold a regular City Council meeting on November 17\, 2015 at 7PM.åÊ The meeting will be held at Irondale City Hall.åÊ Pre-Council meeting to discuss agenda items will convene at 6PM. \nThe agenda and supporting documents are as follows: \nCityCouncilMeetingAgenda11172015 Copy of 11.17.15 COUNCILMEETING PYMT APPROVAL 11.17.2015
URL:https://cityofirondaleal.gov/event/irondale-city-council-meeting-26/
LOCATION:Irondale City Hall\, 101 20th Street South\, Irondale\, AL\, 35210\, United States
ATTACH;FMTTYPE=image/jpeg:https://cityofirondaleal.gov/wp-content/uploads/Irondale-City-City-Council_0049.jpg
END:VEVENT
BEGIN:VEVENT
DTSTART;TZID=America/Chicago:20151031T150000
DTEND;TZID=America/Chicago:20151031T170000
DTSTAMP:20260424T104450
CREATED:20151026T050000Z
LAST-MODIFIED:20151026T050000Z
UID:6931-1446303600-1446310800@cityofirondaleal.gov
SUMMARY:First Baptist Irondale - Trunk-or-Treat
DESCRIPTION:Bring the whole family to a fun filled event with food\, fun and treats at First Baptist Irondale Trunk-or-Treat on October 31\, 2015 from 3-5PM.
URL:https://cityofirondaleal.gov/event/first-baptist-irondale-trunk-or-treat/
LOCATION:First Baptist Church Irondale\, 6001 Old Leeds Rd.\, Irondale\, AL\, 35210\, United States
END:VEVENT
BEGIN:VEVENT
DTSTART;TZID=America/Chicago:20150915T190000
DTEND;TZID=America/Chicago:20150915T210000
DTSTAMP:20260424T104450
CREATED:20150901T050000Z
LAST-MODIFIED:20150901T050000Z
UID:6892-1442343600-1442350800@cityofirondaleal.gov
SUMMARY:Irondale City Council Meeting
DESCRIPTION:The Irondale City Council will hold a regular council meeting on September 15\, 2015 at 7PM. åÊThe meeting will be held at Irondale City Hall. åÊA pre-council meeting will take place at 6PM to discuss agenda items.
URL:https://cityofirondaleal.gov/event/3512/
LOCATION:Irondale City Hall\, 101 20th Street South\, Irondale\, AL\, 35210\, United States
ATTACH;FMTTYPE=image/jpeg:https://cityofirondaleal.gov/wp-content/uploads/Irondale-City-City-Council_0049.jpg
END:VEVENT
BEGIN:VEVENT
DTSTART;TZID=America/Chicago:20150813T180000
DTEND;TZID=America/Chicago:20150813T200000
DTSTAMP:20260424T104450
CREATED:20150812T050000Z
LAST-MODIFIED:20150812T050000Z
UID:6882-1439488800-1439496000@cityofirondaleal.gov
SUMMARY:Special City Council Meeting
DESCRIPTION:The Irondale City Council will hold a special city council meeting on August 13\, 2015 at 6PM. åÊThe meeting will be held at Irondale City Hall. åÊThe meeting agendaåÊcan be viewed or printed by clicking here.
URL:https://cityofirondaleal.gov/event/special-city-council-meeting-2/
LOCATION:Irondale City Hall\, 101 20th Street South\, Irondale\, AL\, 35210\, United States
ATTACH;FMTTYPE=image/jpeg:https://cityofirondaleal.gov/wp-content/uploads/Irondale-City-City-Council_0049.jpg
END:VEVENT
BEGIN:VEVENT
DTSTART;TZID=America/Chicago:20150814T120000
DTEND;TZID=America/Chicago:20150814T140000
DTSTAMP:20260424T104450
CREATED:20150812T050000Z
LAST-MODIFIED:20150812T050000Z
UID:6884-1439553600-1439560800@cityofirondaleal.gov
SUMMARY:Special City Council Meeting
DESCRIPTION:The Irondale City Council will hold a special city council meeting on August 14\, 2015 at noon.
URL:https://cityofirondaleal.gov/event/special-city-council-meeting-3/
LOCATION:Irondale City Hall\, 101 20th Street South\, Irondale\, AL\, 35210\, United States
ATTACH;FMTTYPE=image/jpeg:https://cityofirondaleal.gov/wp-content/uploads/Irondale-City-City-Council_0049.jpg
END:VEVENT
BEGIN:VEVENT
DTSTART;TZID=America/Chicago:20150818T180000
DTEND;TZID=America/Chicago:20150818T200000
DTSTAMP:20260424T104450
CREATED:20150810T050000Z
LAST-MODIFIED:20150810T050000Z
UID:6878-1439920800-1439928000@cityofirondaleal.gov
SUMMARY:Paper Making Workshop
DESCRIPTION:ClassåÊDescription:åÊ Throughout history\, many different cultures have made paper out of various organic fibers.åÊ In this hands-on workshop we will discuss and make various types of paper formation including sheet\, relief\, and three-dimensional structures.åÊ We will discuss the natural overlap between plant fibers and paper making\, learning about cellulose and how and what fibers can be harvested in Alabama. \nBring shoes that can get wet.\n\n\n\n\n\n\n\n\n\n\n\n\n\n\nAbout the artist:åÊåÊDouglas Pierre Baulos was born in Springfield\, Illinois. In 1990\, he received a Bachelor of Fine Arts from the University of Alabama at Birmingham. In 1993\, he received a Master of Fine Arts from the University of New Orleans. His drawings\, poems\, and books have been exhibited/published both nationally and internationally. His current books are explorations (visual) and meditations (poetry) centering on his ideas of spirituality\, love\, death\, shelter\, and hope. Books\, because of their exterior/interior format\, as well as their sequential ordering\, have been of particular interest lately. The book as an object allows the viewer to be guided through a thought process as well as evoking time\, journey/text\, and image in an intimate fashion.
URL:https://cityofirondaleal.gov/event/paper-making-workshop-2/
LOCATION:Irondale Public Library\, 105 20th Street South\, Irondale\, AL\, 35210\, United States
ATTACH;FMTTYPE=image/jpeg:https://cityofirondaleal.gov/wp-content/uploads/download-121.jpg
END:VEVENT
BEGIN:VEVENT
DTSTART;TZID=America/Chicago:20150627T200000
DTEND;TZID=America/Chicago:20150627T220000
DTSTAMP:20260424T104450
CREATED:20150615T050000Z
LAST-MODIFIED:20150615T050000Z
UID:6860-1435435200-1435442400@cityofirondaleal.gov
SUMMARY:Andrea Lucas Presents  - The Junction Talent Showcase
DESCRIPTION:  \n \n 
URL:https://cityofirondaleal.gov/event/andrea-lucas-presents-the-junction-talent-showcase/
LOCATION:Andrea Lucas Studios\, 1910 1st Avenue North\, Irondale\, AL\, 35210\, United States
ATTACH;FMTTYPE=image/jpeg:https://cityofirondaleal.gov/wp-content/uploads/June-2015-flyer.jpg
END:VEVENT
BEGIN:VEVENT
DTSTART;TZID=America/Chicago:20150624T183000
DTEND;TZID=America/Chicago:20150624T203000
DTSTAMP:20260424T104450
CREATED:20150615T050000Z
LAST-MODIFIED:20150615T050000Z
UID:6863-1435170600-1435177800@cityofirondaleal.gov
SUMMARY:An Evening of Interracial Conversation hosted by St. James United Methodist Church and the Over the Mountain Democrats.
DESCRIPTION:EVENT INFORMATION: \nAn evening of interracial conversation hosted by St. James United Methodist Church and the Over the Mountain Democrats. \nThis is an evening for open discussion to foster cross-cultural understanding. Following brief informative talks by panelists\, we want to hear from the audience about their life experiences with prejudice. Our hope is to help sensitize others to racial prejudice that people of color face everyday. Come to talk\, to listen\, and to learn from each other. \nGuest Panelists: \nDr. Zac Henson\, Birmingham Institute for Social Change \nMarie King\, Love Commandment Ministries \nAvee-Ashanti Shabazz\, Birmingham Black Lives Matter \nScott Douglas\, Greater Birmingham Ministries
URL:https://cityofirondaleal.gov/event/an-evening-of-interracial-conversation-hosted-by-st-james-united-methodist-church-and-the-over-the-mountain-democrats/
LOCATION:St. James United Methodist Church\, 2604 Hagood Street\, Irondale\, AL\, 35210
END:VEVENT
BEGIN:VEVENT
DTSTART;TZID=America/Chicago:20150616T190000
DTEND;TZID=America/Chicago:20150616T210000
DTSTAMP:20260424T104450
CREATED:20150612T050000Z
LAST-MODIFIED:20150612T050000Z
UID:6847-1434481200-1434488400@cityofirondaleal.gov
SUMMARY:Irondale City Council Meeting
DESCRIPTION:The Irondale City Council will hold a regular city council meeting at Irondale City Hall on June 16\, 2015 at 7PM. åÊA pre-council meeting to discuss agenda items will start at 6PM. \nIrondale City Council President\, Terry Bearden will preside over the meeting which is open to the public. åÊThe meeting agenda and supporting documents will be added to the Irondale City Council webpage once they become available.
URL:https://cityofirondaleal.gov/event/irondale-city-council-meeting-21/
LOCATION:Irondale City Hall\, 101 20th Street South\, Irondale\, AL\, 35210\, United States
ATTACH;FMTTYPE=image/jpeg:https://cityofirondaleal.gov/wp-content/uploads/Irondale-City-City-Council_0049.jpg
END:VEVENT
BEGIN:VEVENT
DTSTART;TZID=America/Chicago:20150620T140000
DTEND;TZID=America/Chicago:20150620T160000
DTSTAMP:20260424T104450
CREATED:20150612T050000Z
LAST-MODIFIED:20150612T050000Z
UID:6854-1434808800-1434816000@cityofirondaleal.gov
SUMMARY:Holiday Gardens Neighborhood Association - Father's Day Appreciation Cookout
DESCRIPTION:On Saturday\, June 20\, the HGNA will sponsor a Father’s Day appreciation cookout at Irondale Fire Station 1 located on Beacon Drive in Irondale (across from the Senior Center).åÊ The cookout is open to the firemen of Fire Stations 1 and 11\, their families\, and HGNA members from 2PM to 4PM. \nMore reasons to join the HGNA if you live in the Holiday Gardens neighborhood!åÊ (Follow the Association on Facebook.)
URL:https://cityofirondaleal.gov/event/3234/
LOCATION:Irondale Fire Station #1\, 5308 Beacon Drive\, Irondale\, AL\, 35210\, United States
ATTACH;FMTTYPE=image/jpeg:https://cityofirondaleal.gov/wp-content/uploads/1977333_691622990879327_604840861552927523_n.jpg
END:VEVENT
BEGIN:VEVENT
DTSTART;TZID=America/Chicago:20150624T090000
DTEND;TZID=America/Chicago:20150624T110000
DTSTAMP:20260424T104450
CREATED:20150526T050000Z
LAST-MODIFIED:20150526T050000Z
UID:6824-1435136400-1435143600@cityofirondaleal.gov
SUMMARY:Community Health Fair
DESCRIPTION:A Community Health Fair will be held at the Irondale Senior Activity Center on June 24\, 2015\, from 9AM to 11AM. åÊThis event is free to the public and will feature free health screenings (cholesterol and blood pressure)\, demonstrations and plenty of useful health-related information will be provided.
URL:https://cityofirondaleal.gov/event/community-health-fair/
LOCATION:Irondale Senior Activity Center\, 5313 Beacon Drive\, Irondale\, 35210\, United States
ATTACH;FMTTYPE=image/jpeg:https://cityofirondaleal.gov/wp-content/uploads/City-of-Irondale-LOGO11.jpg
END:VEVENT
BEGIN:VEVENT
DTSTART;TZID=America/Chicago:20150519T190000
DTEND;TZID=America/Chicago:20150519T210000
DTSTAMP:20260424T104450
CREATED:20150514T050000Z
LAST-MODIFIED:20150514T050000Z
UID:6814-1432062000-1432069200@cityofirondaleal.gov
SUMMARY:Irondale City Council Meeting
DESCRIPTION:The Irondale City Council will hold a regular meeting on Tuesday\, May 19\, 2015. åÊThe meeting will take place at 7PM at Irondale City Hall. åÊThe Pre-Council meeting starts at 6PM. \nThe agenda and all supporting documents will be posted to the City Council webpage prior to the meeting.
URL:https://cityofirondaleal.gov/event/irondale-city-council-meeting-19/
LOCATION:CIty Hall\, 101 20th St S\, Irondale\, 35210\, United States
ATTACH;FMTTYPE=image/jpeg:https://cityofirondaleal.gov/wp-content/uploads/City-of-Irondale-LOGO11.jpg
END:VEVENT
BEGIN:VEVENT
DTSTART;TZID=America/Chicago:20150316T180000
DTEND;TZID=America/Chicago:20150316T200000
DTSTAMP:20260424T104450
CREATED:20150315T050000Z
LAST-MODIFIED:20150315T050000Z
UID:6765-1426528800-1426536000@cityofirondaleal.gov
SUMMARY:Irondale Park Committee Meeting
DESCRIPTION:The Irondale Park Committee will hold a regular meeting on March 16\, 2015 at 6PM. åÊThe meeting will be held at Irondale City Hall.
URL:https://cityofirondaleal.gov/event/irondale-park-committee-meeting-2/
LOCATION:CIty Hall\, 101 20th St S\, Irondale\, 35210\, United States
ATTACH;FMTTYPE=image/jpeg:https://cityofirondaleal.gov/wp-content/uploads/City-of-Irondale-LOGO1.jpg
END:VEVENT
BEGIN:VEVENT
DTSTART;TZID=America/Chicago:20150317T190000
DTEND;TZID=America/Chicago:20150317T210000
DTSTAMP:20260424T104450
CREATED:20150315T050000Z
LAST-MODIFIED:20150315T050000Z
UID:6767-1426618800-1426626000@cityofirondaleal.gov
SUMMARY:Irondale City Council Meeting
DESCRIPTION:The Irondale City Council will hold a regular City Council meeting on March 17\, 2015 at 7PM. åÊThe meeting will be held at Irondale City Hall. Pre-council will start at 6PM.
URL:https://cityofirondaleal.gov/event/irondale-city-council-meeting-18/
LOCATION:CIty Hall\, 101 20th St S\, Irondale\, 35210\, United States
ATTACH;FMTTYPE=image/jpeg:https://cityofirondaleal.gov/wp-content/uploads/City-of-Irondale-LOGO11.jpg
END:VEVENT
BEGIN:VEVENT
DTSTART;TZID=America/Chicago:20150319T180000
DTEND;TZID=America/Chicago:20150319T200000
DTSTAMP:20260424T104450
CREATED:20150315T050000Z
LAST-MODIFIED:20150315T050000Z
UID:6769-1426788000-1426795200@cityofirondaleal.gov
SUMMARY:Irondale City Council Finance Committee Meeting
DESCRIPTION:The Irondale City Council Finance Committee has scheduled a meeting for Thursday\, March 19\, 2015 at 6PM. åÊThe meeting will be held at the Irondale City Hall.
URL:https://cityofirondaleal.gov/event/irondale-city-council-finance-committee/
LOCATION:CIty Hall\, 101 20th St S\, Irondale\, 35210\, United States
ATTACH;FMTTYPE=image/jpeg:https://cityofirondaleal.gov/wp-content/uploads/City-of-Irondale-LOGO11.jpg
END:VEVENT
BEGIN:VEVENT
DTSTART;TZID=America/Chicago:20150223T180000
DTEND;TZID=America/Chicago:20150223T200000
DTSTAMP:20260424T104450
CREATED:20150223T060000Z
LAST-MODIFIED:20150223T060000Z
UID:6745-1424714400-1424721600@cityofirondaleal.gov
SUMMARY:Irondale City Council - Judicial/Ordinance Committee Meeting
DESCRIPTION:The Irondale City Council Judicial/Ordinance Committee has scheduled a meeting for Monday\, February 23\, 2015 at 6:00 p.m. The meeting will be held at the Irondale City Hall 101 20th Street South\, Irondale AL 35210.
URL:https://cityofirondaleal.gov/event/irondale-city-council-judicialordinance-committee-meeting-2/
LOCATION:CIty Hall\, 101 20th St S\, Irondale\, 35210\, United States
ATTACH;FMTTYPE=image/jpeg:https://cityofirondaleal.gov/wp-content/uploads/City-of-Irondale-LOGO11.jpg
END:VEVENT
BEGIN:VEVENT
DTSTART;TZID=America/Chicago:20150224T180000
DTEND;TZID=America/Chicago:20150224T200000
DTSTAMP:20260424T104450
CREATED:20150223T060000Z
LAST-MODIFIED:20150223T060000Z
UID:6747-1424800800-1424808000@cityofirondaleal.gov
SUMMARY:City of Irondale - Economic Development Committee
DESCRIPTION:The City of Irondale Economic Development Committee has scheduled a meeting for Tuesday\, February 24th\, 2015 at 6:00 p.m. The meeting will be held at the Irondale Police Substation\, 5415 Beacon Drive Suite 125\, Irondale AL 35210.
URL:https://cityofirondaleal.gov/event/city-irondale-economic-development-committee/
LOCATION:Police Sub Station
ATTACH;FMTTYPE=image/jpeg:https://cityofirondaleal.gov/wp-content/uploads/City-of-Irondale-LOGO11.jpg
END:VEVENT
BEGIN:VEVENT
DTSTART;TZID=America/Chicago:20150226T180000
DTEND;TZID=America/Chicago:20150226T200000
DTSTAMP:20260424T104450
CREATED:20150223T060000Z
LAST-MODIFIED:20150223T060000Z
UID:6749-1424973600-1424980800@cityofirondaleal.gov
SUMMARY:Irondale City Council Work Session
DESCRIPTION:The Irondale City Council has scheduled a meeting for Thursday\, February 26\, 2015\, at 6:00 p.m. to discuss Tuesday\, March 3\, 2015 council meeting agenda. åÊThis meeting will be held at the Irondale City Hall\, 101 20th Street South\, Irondale\, AL 35210.
URL:https://cityofirondaleal.gov/event/irondale-city-council-work-session-6/
LOCATION:CIty Hall\, 101 20th St S\, Irondale\, 35210\, United States
ATTACH;FMTTYPE=image/jpeg:https://cityofirondaleal.gov/wp-content/uploads/City-of-Irondale-LOGO11.jpg
END:VEVENT
BEGIN:VEVENT
DTSTART;TZID=America/Chicago:20150228T150000
DTEND;TZID=America/Chicago:20150228T170000
DTSTAMP:20260424T104450
CREATED:20150220T060000Z
LAST-MODIFIED:20150220T060000Z
UID:6744-1425135600-1425142800@cityofirondaleal.gov
SUMMARY:"Go Red for Women"
DESCRIPTION:In the spirit of the American Heart Association’s “Go Red for Women” campaign to educate women about heart disease\, Irondale’s St. James United Methodist Church will host J. Michael Moates\, MD as their guest speaker on Saturday\, February 28\, at 3:00 PM. \nDr. Moates received his undergraduate degree in biomedical engineering from Vanderbilt University and his medical degree from UAB.åÊ He is currently a full-time staff physician at the Birmingham VA Medical Center working with patients in primary care and with diabetes and general endocrine disorders.
URL:https://cityofirondaleal.gov/event/go-red-women/
LOCATION:St. James United Methodist Church\, 2604 Hagood Street\, Irondale\, AL\, 35210
END:VEVENT
BEGIN:VEVENT
DTSTART;TZID=America/Chicago:20141216T190000
DTEND;TZID=America/Chicago:20141216T210000
DTSTAMP:20260424T104450
CREATED:20141216T060000Z
LAST-MODIFIED:20141216T060000Z
UID:6719-1418756400-1418763600@cityofirondaleal.gov
SUMMARY:Irondale City Council Meeting
DESCRIPTION:The Irondale City Council will hold a regular city council meeting on December 16\, 2014 at 7PM. åÊThe meeting will take place at Irondale City Hall. åÊPre-council meeting starts at 6PM. The meeting agenda and supporting documents can be found on the City of Irondale’s website or by clicking here.
URL:https://cityofirondaleal.gov/event/irondale-city-council-meeting-12/
LOCATION:CIty Hall\, 101 20th St S\, Irondale\, 35210\, United States
ATTACH;FMTTYPE=image/jpeg:https://cityofirondaleal.gov/wp-content/uploads/City-of-Irondale-LOGO11.jpg
END:VEVENT
END:VCALENDAR