BEGIN:VCALENDAR
VERSION:2.0
PRODID:-//City of Irondale - ECPv6.0.13.1//NONSGML v1.0//EN
CALSCALE:GREGORIAN
METHOD:PUBLISH
X-WR-CALNAME:City of Irondale
X-ORIGINAL-URL:https://cityofirondaleal.gov
X-WR-CALDESC:Events for City of Irondale
REFRESH-INTERVAL;VALUE=DURATION:PT1H
X-Robots-Tag:noindex
X-PUBLISHED-TTL:PT1H
BEGIN:VTIMEZONE
TZID:America/Chicago
BEGIN:DAYLIGHT
TZOFFSETFROM:-0600
TZOFFSETTO:-0500
TZNAME:CDT
DTSTART:20230312T080000
END:DAYLIGHT
BEGIN:STANDARD
TZOFFSETFROM:-0500
TZOFFSETTO:-0600
TZNAME:CST
DTSTART:20231105T070000
END:STANDARD
END:VTIMEZONE
BEGIN:VEVENT
DTSTART;TZID=America/Chicago:20230402T150000
DTEND;TZID=America/Chicago:20230402T153000
DTSTAMP:20260420T024255
CREATED:20230327T164845Z
LAST-MODIFIED:20230327T164845Z
UID:14746-1680447600-1680449400@cityofirondaleal.gov
SUMMARY:Message from the Mayor - Facebook Live - 3PM
DESCRIPTION:
URL:https://cityofirondaleal.gov/event/message-from-the-mayor-facebook-live-3pm-2/
END:VEVENT
BEGIN:VEVENT
DTSTART;TZID=America/Chicago:20230402T140000
DTEND;TZID=America/Chicago:20230402T160000
DTSTAMP:20260420T024255
CREATED:20230227T165500Z
LAST-MODIFIED:20230227T171320Z
UID:14683-1680444000-1680451200@cityofirondaleal.gov
SUMMARY:Mayor Stewart's 2nd Annual Irondale Easter Eggs-perience\, 2:00pm - 4:00pm - Beacon Park
DESCRIPTION:
URL:https://cityofirondaleal.gov/event/mayor-stewarts-2nd-annual-irondale-easter-eggs-perience-200pm-400pm/
END:VEVENT
BEGIN:VEVENT
DTSTART;TZID=America/Chicago:20230401T080000
DTEND;TZID=America/Chicago:20230401T130000
DTSTAMP:20260420T024255
CREATED:20230327T170716Z
LAST-MODIFIED:20230327T170716Z
UID:14748-1680336000-1680354000@cityofirondaleal.gov
SUMMARY:Roebuck Plaza Pocket Park Pop-Up (8:00am-1:00pm) - East Ventura Drive\, Mayor Stewart and Church of the Highlands will partner to revitalize the park and host a FREE cook-out for the neighborhood.  All are welcome to join us!
DESCRIPTION:
URL:https://cityofirondaleal.gov/event/roebuck-plaza-pocket-park-pop-up-800am-100pm-east-ventura-drive-mayor-stewart-and-church-of-the-highlands-will-partner-to-revitalize-the-park-and-host-a-free-cook-out-for-the-neighborhood-all/
END:VEVENT
BEGIN:VEVENT
DTSTART;TZID=America/Chicago:20230328T150000
DTEND;TZID=America/Chicago:20230328T160000
DTSTAMP:20260420T024255
CREATED:20230227T165140Z
LAST-MODIFIED:20230320T144039Z
UID:14681-1680015600-1680019200@cityofirondaleal.gov
SUMMARY:Afternoon Coffee with the Mayor - Irondale City Hall\, 3:00pm (Join Mayor Stewart for an informal conversation in his office and enjoy an afternoon cup of coffee and snack)
DESCRIPTION:
URL:https://cityofirondaleal.gov/event/afternoon-coffee-with-the-mayor-irondale-city-hall-300pm-join-mayor-stewart-for-an-informal-conversation-in-his-office-and-enjoy-an-afternoon-cup-of-coffee-and-snack/
END:VEVENT
BEGIN:VEVENT
DTSTART;TZID=America/Chicago:20230323T180000
DTEND;TZID=America/Chicago:20230323T193000
DTSTAMP:20260420T024255
CREATED:20230123T145133Z
LAST-MODIFIED:20230327T204352Z
UID:14563-1679594400-1679599800@cityofirondaleal.gov
SUMMARY:Citizen Engagement Institute Class of 2023 Graduation - 3/23/2023 - 6:00pm - 7:30pm (Irondale Senior Activity Center)
DESCRIPTION:
URL:https://cityofirondaleal.gov/event/citizen-engagement-institute-class-of-2023-graduation-3-23-2023-600pm-730pm-location-tbd/
END:VEVENT
BEGIN:VEVENT
DTSTART;TZID=America/Chicago:20230323T180000
DTEND;TZID=America/Chicago:20230323T190000
DTSTAMP:20260420T024255
CREATED:20221215T202940Z
LAST-MODIFIED:20221215T202940Z
UID:14371-1679594400-1679598000@cityofirondaleal.gov
SUMMARY:Planning and Zoning Commission - City Hall - 6PM
DESCRIPTION:
URL:https://cityofirondaleal.gov/event/planning-and-zoning-commission-city-hall-6pm-3/
END:VEVENT
BEGIN:VEVENT
DTSTART;TZID=America/Chicago:20230321T180000
DTEND;TZID=America/Chicago:20230321T190000
DTSTAMP:20260420T024255
CREATED:20221215T190136Z
LAST-MODIFIED:20221215T190136Z
UID:14277-1679421600-1679425200@cityofirondaleal.gov
SUMMARY:City Council Meeting - City Hall - 6PM
DESCRIPTION:
URL:https://cityofirondaleal.gov/event/city-council-meeting-city-hall-6pm-6/
END:VEVENT
BEGIN:VEVENT
DTSTART;TZID=America/Chicago:20230321T160000
DTEND;TZID=America/Chicago:20230321T170000
DTSTAMP:20260420T024255
CREATED:20221215T205606Z
LAST-MODIFIED:20221215T205606Z
UID:14395-1679414400-1679418000@cityofirondaleal.gov
SUMMARY:Commercial Development Authority - City Hall - 4PM
DESCRIPTION:
URL:https://cityofirondaleal.gov/event/commercial-development-authority-city-hall-4pm-3/
END:VEVENT
BEGIN:VEVENT
DTSTART;TZID=America/Chicago:20230318T090000
DTEND;TZID=America/Chicago:20230318T110000
DTSTAMP:20260420T024255
CREATED:20230227T164843Z
LAST-MODIFIED:20230227T164843Z
UID:14679-1679130000-1679137200@cityofirondaleal.gov
SUMMARY:Community Shred-It Day - Irondale City Hall\, 9:00am - 11:00am (Bring Unneeded Documents and Electronics for Free Shredding)
DESCRIPTION:
URL:https://cityofirondaleal.gov/event/community-shred-it-day-irondale-city-hall-900am-1100am-bring-unneeded-documents-and-electronics-for-free-shredding/
END:VEVENT
BEGIN:VEVENT
DTSTART;TZID=America/Chicago:20230316T180000
DTEND;TZID=America/Chicago:20230316T193000
DTSTAMP:20260420T024255
CREATED:20230123T144828Z
LAST-MODIFIED:20230123T144828Z
UID:14561-1678989600-1678995000@cityofirondaleal.gov
SUMMARY:Citizen Engagement Institute Class of 2023 - 6:00pm - 7:30pm - Irondale Police Substation.
DESCRIPTION:
URL:https://cityofirondaleal.gov/event/citizen-engagement-institute-class-of-2023-600pm-730pm-irondale-police-substation-4/
END:VEVENT
BEGIN:VEVENT
DTSTART;TZID=America/Chicago:20230314T180000
DTEND;TZID=America/Chicago:20230314T190000
DTSTAMP:20260420T024255
CREATED:20221215T194250Z
LAST-MODIFIED:20221215T194250Z
UID:14323-1678816800-1678820400@cityofirondaleal.gov
SUMMARY:Zoning Board of Adjustment - City Hall - 6PM
DESCRIPTION:
URL:https://cityofirondaleal.gov/event/zoning-board-of-adjustment-city-hall-6pm-2/
END:VEVENT
BEGIN:VEVENT
DTSTART;TZID=America/Chicago:20230309T180000
DTEND;TZID=America/Chicago:20230309T193000
DTSTAMP:20260420T024255
CREATED:20230123T144752Z
LAST-MODIFIED:20230123T144752Z
UID:14559-1678384800-1678390200@cityofirondaleal.gov
SUMMARY:Citizen Engagement Institute Class of 2023 - 6:00pm - 7:30pm - Irondale Police Substation.
DESCRIPTION:
URL:https://cityofirondaleal.gov/event/citizen-engagement-institute-class-of-2023-600pm-730pm-irondale-police-substation-3/
END:VEVENT
BEGIN:VEVENT
DTSTART;TZID=America/Chicago:20230308T180000
DTEND;TZID=America/Chicago:20230308T190000
DTSTAMP:20260420T024255
CREATED:20221215T195722Z
LAST-MODIFIED:20221215T195722Z
UID:14347-1678298400-1678302000@cityofirondaleal.gov
SUMMARY:Abatement Board Meeting - City Hall - 6PM
DESCRIPTION:
URL:https://cityofirondaleal.gov/event/abatement-board-meeting-city-hall-6pm-3/
END:VEVENT
BEGIN:VEVENT
DTSTART;TZID=America/Chicago:20230307T180000
DTEND;TZID=America/Chicago:20230307T190000
DTSTAMP:20260420T024255
CREATED:20221215T190046Z
LAST-MODIFIED:20221215T190046Z
UID:14275-1678212000-1678215600@cityofirondaleal.gov
SUMMARY:City Council Meeting - City Hall - 6PM
DESCRIPTION:
URL:https://cityofirondaleal.gov/event/city-council-meeting-city-hall-6pm-5/
END:VEVENT
BEGIN:VEVENT
DTSTART;TZID=America/Chicago:20230305T150000
DTEND;TZID=America/Chicago:20230305T153000
DTSTAMP:20260420T024255
CREATED:20230131T141759Z
LAST-MODIFIED:20230131T141759Z
UID:14610-1678028400-1678030200@cityofirondaleal.gov
SUMMARY:Message from the Mayor - Facebook Live @ Mayor James D. Stewart\, Jr.\, - 3:00pm
DESCRIPTION:
URL:https://cityofirondaleal.gov/event/message-from-the-mayor-facebook-live-mayor-james-d-stewart-jr-300pm-2/
END:VEVENT
BEGIN:VEVENT
DTSTART;TZID=America/Chicago:20230304T130000
DTEND;TZID=America/Chicago:20230304T160000
DTSTAMP:20260420T024255
CREATED:20221228T163221Z
LAST-MODIFIED:20230104T192330Z
UID:14447-1677934800-1677945600@cityofirondaleal.gov
SUMMARY:The 2nd Annual Irondale Young Entrepreneurs Day - Shades Valley High School Gymnasium - 1:00pm - 4:00pm
DESCRIPTION:
URL:https://cityofirondaleal.gov/event/the-2nd-annual-irondale-young-entrepreneurs-day-shades-valley-high-school-100pm-400pm/
END:VEVENT
BEGIN:VEVENT
DTSTART;TZID=America/Chicago:20230302T180000
DTEND;TZID=America/Chicago:20230302T193000
DTSTAMP:20260420T024255
CREATED:20230123T144709Z
LAST-MODIFIED:20230123T144709Z
UID:14557-1677780000-1677785400@cityofirondaleal.gov
SUMMARY:Citizen Engagement Institute Class of 2023 - 6:00pm - 7:30pm - Irondale Police Substation.
DESCRIPTION:
URL:https://cityofirondaleal.gov/event/citizen-engagement-institute-class-of-2023-600pm-730pm-irondale-police-substation-2/
END:VEVENT
BEGIN:VEVENT
DTSTART;TZID=America/Chicago:20230302T090000
DTEND;TZID=America/Chicago:20230302T100000
DTSTAMP:20260420T024255
CREATED:20230130T183322Z
LAST-MODIFIED:20230130T183322Z
UID:14589-1677747600-1677751200@cityofirondaleal.gov
SUMMARY:Mayor's Monthly Prayer Meeting - Church of the Highlands - 9:00am
DESCRIPTION:
URL:https://cityofirondaleal.gov/event/mayors-monthly-prayer-meeting-church-of-the-highlands-900am-7/
END:VEVENT
BEGIN:VEVENT
DTSTART;TZID=America/Chicago:20230301T180000
DTEND;TZID=America/Chicago:20230301T190000
DTSTAMP:20260420T024255
CREATED:20230301T214759Z
LAST-MODIFIED:20230301T214759Z
UID:14692-1677693600-1677697200@cityofirondaleal.gov
SUMMARY:Ordinance Meeting - City Hall - 6PM
DESCRIPTION:
URL:https://cityofirondaleal.gov/event/ordinance-meeting-city-hall-6pm/
END:VEVENT
BEGIN:VEVENT
DTSTART;TZID=America/Chicago:20230228T180000
DTEND;TZID=America/Chicago:20230228T190000
DTSTAMP:20260420T024255
CREATED:20230123T174900Z
LAST-MODIFIED:20230227T164359Z
UID:14574-1677607200-1677610800@cityofirondaleal.gov
SUMMARY:Town Hall Meeting - Irondale City Hall - 6:00pm - "33 in 23" Presentation\, Mid-Year Finance Report\, Development Updates and City App Tutorial
DESCRIPTION:
URL:https://cityofirondaleal.gov/event/town-hall-meeting-irondale-city-hall-600pm-recap-mid-year-finance-report-and-city-app-tutorial/
END:VEVENT
BEGIN:VEVENT
DTSTART;TZID=America/Chicago:20230224T180000
DTEND;TZID=America/Chicago:20230224T210000
DTSTAMP:20260420T024255
CREATED:20230103T154128Z
LAST-MODIFIED:20230104T192141Z
UID:14470-1677261600-1677272400@cityofirondaleal.gov
SUMMARY:Irondale: We Got Game Night/Movie Night - Irondale Civic Center - 6pm-9pm (Movie TBA begins @ 7:30pm) -free pizza\, popcorn\, sodas and cupcakes
DESCRIPTION:
URL:https://cityofirondaleal.gov/event/irondale-we-got-game-night-movie-night-irondale-civic-center-6pm-9pm-free-pizza-popcorn-sodas-and-cupcakes/
END:VEVENT
BEGIN:VEVENT
DTSTART;TZID=America/Chicago:20230223T180000
DTEND;TZID=America/Chicago:20230223T193000
DTSTAMP:20260420T024255
CREATED:20230123T144620Z
LAST-MODIFIED:20230123T144620Z
UID:14555-1677175200-1677180600@cityofirondaleal.gov
SUMMARY:Citizen Engagement Institute Class of 2023 - 6:00pm - 7:30pm - Irondale Police Substation.
DESCRIPTION:
URL:https://cityofirondaleal.gov/event/citizen-engagement-institute-class-of-2023-600pm-730pm-irondale-police-substation/
END:VEVENT
BEGIN:VEVENT
DTSTART;TZID=America/Chicago:20230223T180000
DTEND;TZID=America/Chicago:20230223T190000
DTSTAMP:20260420T024255
CREATED:20221215T202856Z
LAST-MODIFIED:20221215T202856Z
UID:14369-1677175200-1677178800@cityofirondaleal.gov
SUMMARY:Planning and Zoning Commission - City Hall - 6PM
DESCRIPTION:
URL:https://cityofirondaleal.gov/event/planning-and-zoning-commission-city-hall-6pm-2/
END:VEVENT
BEGIN:VEVENT
DTSTART;TZID=America/Chicago:20230221T180000
DTEND;TZID=America/Chicago:20230221T190000
DTSTAMP:20260420T024255
CREATED:20221215T192134Z
LAST-MODIFIED:20221215T192134Z
UID:14291-1677002400-1677006000@cityofirondaleal.gov
SUMMARY:City Council Meeting - City Hall - 6PM
DESCRIPTION:
URL:https://cityofirondaleal.gov/event/city-council-meeting-city-hall-6pm-13/
END:VEVENT
BEGIN:VEVENT
DTSTART;TZID=America/Chicago:20230221T160000
DTEND;TZID=America/Chicago:20230221T170000
DTSTAMP:20260420T024255
CREATED:20221215T205525Z
LAST-MODIFIED:20221215T205525Z
UID:14393-1676995200-1676998800@cityofirondaleal.gov
SUMMARY:Commercial Development Authority - City Hall - 4PM
DESCRIPTION:
URL:https://cityofirondaleal.gov/event/commercial-development-authority-city-hall-4pm-2/
END:VEVENT
BEGIN:VEVENT
DTSTART;TZID=America/Chicago:20230220T080000
DTEND;TZID=America/Chicago:20230220T170000
DTSTAMP:20260420T024255
CREATED:20221006T153828Z
LAST-MODIFIED:20221006T153828Z
UID:13985-1676880000-1676912400@cityofirondaleal.gov
SUMMARY:City Hall Closed - President's Day
DESCRIPTION:
URL:https://cityofirondaleal.gov/event/city-hall-closed-presidents-day-2/
END:VEVENT
BEGIN:VEVENT
DTSTART;TZID=America/Chicago:20230217T080000
DTEND;TZID=America/Chicago:20230217T170000
DTSTAMP:20260420T024255
CREATED:20230123T143000Z
LAST-MODIFIED:20230123T143000Z
UID:14551-1676620800-1676653200@cityofirondaleal.gov
SUMMARY:2023 Black History Month Art Challenge - Students Are Invited to Submit Paintings\, Drawings\, Short Essays\, or Poetry.  You Must include your name and phone number with your submission.  Submissions will be picked up from schools on Friday\, February 17\, 2023\, or may be dropped off at Irondale City Hall any time prior to that.
DESCRIPTION:
URL:https://cityofirondaleal.gov/event/2023-black-history-month-art-challenge-students-are-invited-to-submit-paintings-drawings-short-essays-or-poetry-you-must-include-your-name-and-phone-number-with-your-submission-submissions-wi/
END:VEVENT
BEGIN:VEVENT
DTSTART;TZID=America/Chicago:20230216T180000
DTEND;TZID=America/Chicago:20230216T193000
DTSTAMP:20260420T024255
CREATED:20230123T144207Z
LAST-MODIFIED:20230123T175523Z
UID:14553-1676570400-1676575800@cityofirondaleal.gov
SUMMARY:Citizen Engagement Institute Class of 2023 - 6:00pm - 7:30pm - Irondale Police Substation.
DESCRIPTION:
URL:https://cityofirondaleal.gov/event/citizen-engagement-institute-class-of-2023-will-begin-on-february-16-2023-600pm-730pm-irondale-police-substation/
END:VEVENT
BEGIN:VEVENT
DTSTART;TZID=America/Chicago:20230214T180000
DTEND;TZID=America/Chicago:20230214T190000
DTSTAMP:20260420T024255
CREATED:20221215T194008Z
LAST-MODIFIED:20221215T194008Z
UID:14319-1676397600-1676401200@cityofirondaleal.gov
SUMMARY:Zoning Board of Adjustment - City Hall - 6PM
DESCRIPTION:
URL:https://cityofirondaleal.gov/event/zoning-board-of-adjustment-city-hall-6pm/
END:VEVENT
BEGIN:VEVENT
DTSTART;TZID=America/Chicago:20230209T113000
DTEND;TZID=America/Chicago:20230209T130000
DTSTAMP:20260420T024255
CREATED:20230123T141426Z
LAST-MODIFIED:20230123T174625Z
UID:14548-1675942200-1675947600@cityofirondaleal.gov
SUMMARY:State of the City 2023 - Alabama AGC Building- 5000 Grantswood Road\, Irondale\, Al 35210- 11:30am - 1:00pm
DESCRIPTION:
URL:https://cityofirondaleal.gov/event/state-of-the-city-2023-alabama-agc-5000-grantswood-road-irondale-al-35210-1130am-100pm/
END:VEVENT
END:VCALENDAR