BEGIN:VCALENDAR
VERSION:2.0
PRODID:-//City of Irondale - ECPv6.0.13.1//NONSGML v1.0//EN
CALSCALE:GREGORIAN
METHOD:PUBLISH
X-WR-CALNAME:City of Irondale
X-ORIGINAL-URL:https://cityofirondaleal.gov
X-WR-CALDESC:Events for City of Irondale
REFRESH-INTERVAL;VALUE=DURATION:PT1H
X-Robots-Tag:noindex
X-PUBLISHED-TTL:PT1H
BEGIN:VTIMEZONE
TZID:America/Chicago
BEGIN:DAYLIGHT
TZOFFSETFROM:-0600
TZOFFSETTO:-0500
TZNAME:CDT
DTSTART:20140309T080000
END:DAYLIGHT
BEGIN:STANDARD
TZOFFSETFROM:-0500
TZOFFSETTO:-0600
TZNAME:CST
DTSTART:20141102T070000
END:STANDARD
BEGIN:DAYLIGHT
TZOFFSETFROM:-0600
TZOFFSETTO:-0500
TZNAME:CDT
DTSTART:20150308T080000
END:DAYLIGHT
BEGIN:STANDARD
TZOFFSETFROM:-0500
TZOFFSETTO:-0600
TZNAME:CST
DTSTART:20151101T070000
END:STANDARD
BEGIN:DAYLIGHT
TZOFFSETFROM:-0600
TZOFFSETTO:-0500
TZNAME:CDT
DTSTART:20160313T080000
END:DAYLIGHT
BEGIN:STANDARD
TZOFFSETFROM:-0500
TZOFFSETTO:-0600
TZNAME:CST
DTSTART:20161106T070000
END:STANDARD
BEGIN:DAYLIGHT
TZOFFSETFROM:-0600
TZOFFSETTO:-0500
TZNAME:CDT
DTSTART:20170312T080000
END:DAYLIGHT
BEGIN:STANDARD
TZOFFSETFROM:-0500
TZOFFSETTO:-0600
TZNAME:CST
DTSTART:20171105T070000
END:STANDARD
END:VTIMEZONE
BEGIN:VEVENT
DTSTART;TZID=America/Chicago:20170214T113000
DTEND;TZID=America/Chicago:20170214T140000
DTSTAMP:20260424T073219
CREATED:20170202T060000Z
LAST-MODIFIED:20170202T060000Z
UID:7586-1487071800-1487080800@cityofirondaleal.gov
SUMMARY:ISAC - Valentines Soiree
DESCRIPTION:Irondale Senior Activity Center cordially invites you to our Valentines Soiree at Pine Tree Country Clubæon Tuesday\, February 14th from 11:30 am to 2:00 pm.æTickets are $20.00. Please RSVP by February 10th to Penny at the Center (205) 951-1418. \nPrizes will be provided by ExpectCare æand Right at Home.æ Ray Reach will be on the piano.
URL:https://cityofirondaleal.gov/event/isac-valentines-soiree/
LOCATION:Pine Tree Country Club\, 5100 Whispers Dr.;\, AL 35210\, Irondale\, AL\, 35210\, United States
ATTACH;FMTTYPE=image/jpeg:https://cityofirondaleal.gov/wp-content/uploads/download-1-2.jpg
END:VEVENT
BEGIN:VEVENT
DTSTART;TZID=America/Chicago:20161031T163000
DTEND;TZID=America/Chicago:20161031T190000
DTSTAMP:20260424T073219
CREATED:20161027T050000Z
LAST-MODIFIED:20161027T050000Z
UID:7286-1477931400-1477940400@cityofirondaleal.gov
SUMMARY:First Baptist Church Irondale - Fall Festival
DESCRIPTION:First Baptist Church Irondale will host their annual Fall Festival on Monday Oct. 31st beginning at 4:30 til 7:00. \nThe Irondale community is invited to attend this family friendly event. Come and enjoy the food\, fun\, fellowship and prizes.
URL:https://cityofirondaleal.gov/event/first-baptist-church-irondale-fall-festival/
LOCATION:First Baptist\, 6000 Old Leeds Rd\, Irondale\, AL\, 35210\, United States
ATTACH;FMTTYPE=image/jpeg:https://cityofirondaleal.gov/wp-content/uploads/download.jpg
END:VEVENT
BEGIN:VEVENT
DTSTART;TZID=America/Chicago:20161016T143000
DTEND;TZID=America/Chicago:20161016T170000
DTSTAMP:20260424T073219
CREATED:20161012T050000Z
LAST-MODIFIED:20161012T050000Z
UID:7239-1476628200-1476637200@cityofirondaleal.gov
SUMMARY:Shades Valley's Theater Academy Presents - "The Tempest"
DESCRIPTION:The Jefferson County Academy of Theatre and Dance (at Shades Valley High School) presents William Shakespeare’s\,åÊ“The Tempest” THIS Friday &åÊSaturday\, October 14-15 atåÊ7:00 PM\, and Sunday\, October 16 at 2:30 PM. \nTickets are only $5\, and you can purchase them online.
URL:https://cityofirondaleal.gov/event/shades-valleys-theater-academy-presents-tempest-3/
LOCATION:Shades Valley High School\, 6100 Old Leeds Rd\, Irondale\, AL\, 35210\, United States
ATTACH;FMTTYPE=image/png:https://cityofirondaleal.gov/wp-content/uploads/tempest.png
END:VEVENT
BEGIN:VEVENT
DTSTART;TZID=America/Chicago:20160725T173000
DTEND;TZID=America/Chicago:20160725T200000
DTSTAMP:20260424T073219
CREATED:20160723T050000Z
LAST-MODIFIED:20160723T050000Z
UID:7173-1469467800-1469476800@cityofirondaleal.gov
SUMMARY:Irondale City Council- Finance  Committee Meeting
DESCRIPTION:The Irondale City Council Finance Committee has scheduled a meeting for Monday\, July 25\, 2016 at 5:30 p.m. The meeting will be held at the Irondale City Hall 101 20th Street South\, Irondale AL 35210.
URL:https://cityofirondaleal.gov/event/irondale-city-council-finance-commitee-meeting/
LOCATION:Irondale City Hall\, 101 20th Street South\, Irondale\, AL\, 35210\, United States
END:VEVENT
BEGIN:VEVENT
DTSTART;TZID=America/Chicago:20141120T170000
DTEND;TZID=America/Chicago:20141120T193000
DTSTAMP:20260424T073219
CREATED:20141102T050000Z
LAST-MODIFIED:20141102T050000Z
UID:6691-1416502800-1416511800@cityofirondaleal.gov
SUMMARY:Studio By The Tracks - Open House
DESCRIPTION:
URL:https://cityofirondaleal.gov/event/studio-tracks-open-house/
LOCATION:Studio By The Tracks\, 301 20th Street\, Irondale\, 35210\, United States
END:VEVENT
BEGIN:VEVENT
DTSTART;TZID=America/Chicago:20170824T173000
DTEND;TZID=America/Chicago:20170824T193000
DTSTAMP:20260424T073219
CREATED:20170818T050000Z
LAST-MODIFIED:20170818T050000Z
UID:7895-1503595800-1503603000@cityofirondaleal.gov
SUMMARY:Cop Stop Block Party for Roebuck Plaza
DESCRIPTION:TheæIrondale Police Departmentæ will host a Cop Stop Block Party on the 24th of August in the Ventura Place Park of theæRoebuck Plaza area from 5:30pm to 7:30pm. This event willægive Irondale residents an opportunity to interact with the police officers assigned to their neighborhood\, in a casual and fun setting. \nAll Roebuck Plaza residents are encouraged to attend and share any concerns or suggestions they have on improving their neighborhood. Leaders from the Irondale Police Department and the City will be present to address questions and capture any action items. \nFree food and music will be provided!! æ
URL:https://cityofirondaleal.gov/event/cop-stop-block-party-roebuck-plaza/
LOCATION:Ventura Place GreenSpace\, Ventura Dr & Talmadge Ln\, Birmingham\, AL 35210\, irondale\, AL\, 35210\, United States
END:VEVENT
BEGIN:VEVENT
DTSTART;TZID=America/Chicago:20170729T160000
DTEND;TZID=America/Chicago:20170729T180000
DTSTAMP:20260424T073219
CREATED:20170720T050000Z
LAST-MODIFIED:20170720T050000Z
UID:7876-1501344000-1501351200@cityofirondaleal.gov
SUMMARY:Rock Ridge Green Space Dedication
DESCRIPTION:The Exchange Club will host a Dedication of the neighborhood Green Space on Saturday\, July 29 at 4pm.
URL:https://cityofirondaleal.gov/event/rock-ridge-green-space-dedication/
ATTACH;FMTTYPE=image/jpeg:https://cityofirondaleal.gov/wp-content/uploads/th-1.jpg
END:VEVENT
BEGIN:VEVENT
DTSTART;TZID=America/Chicago:20170615T180000
DTEND;TZID=America/Chicago:20170615T200000
DTSTAMP:20260424T073219
CREATED:20170520T050000Z
LAST-MODIFIED:20170520T050000Z
UID:7752-1497549600-1497556800@cityofirondaleal.gov
SUMMARY:Irondale Chamber After Hours Event & Retreat Grand Re-Opening
DESCRIPTION:The Greater Irondale Chamber of Commerce will co-host\, with the Mountain Brook Chamber\, an After Hours Networking event and Grand Re-Opening at the Retreat at Mountain Brook on Thursday\, June 15\, from 6 to 8 PM.
URL:https://cityofirondaleal.gov/event/irondale-chamber-hours-event-retreat-grand-re-opening/
LOCATION:The Retreat at Mountain Brook\, 4816 Sharpsburg Drive\, Irondale\, AL\, 35210\, United States
END:VEVENT
BEGIN:VEVENT
DTSTART;TZID=America/Chicago:20170317T113000
DTEND;TZID=America/Chicago:20170317T133000
DTSTAMP:20260424T073219
CREATED:20170309T060000Z
LAST-MODIFIED:20170309T060000Z
UID:7673-1489750200-1489757400@cityofirondaleal.gov
SUMMARY:ISAC - St. Patrick's Day Party
DESCRIPTION:St Patrickäó»s Day Party Friday\, March 17th Join us for a St. Patrickäó»s Day Lunch at 11:30 followed by a party at 12:30. There will be Bingo and prizes! Be sure to wear your green so you donäó»t get pinched!
URL:https://cityofirondaleal.gov/event/isac-st-patricks-day-party/
LOCATION:Irondale Senior Activity Center\, 5313 Beacon Drive\, Irondale\, 35210\, United States
ATTACH;FMTTYPE=image/jpeg:https://cityofirondaleal.gov/wp-content/uploads/download-1-3.jpg
END:VEVENT
BEGIN:VEVENT
DTSTART;TZID=America/Chicago:20170322T180000
DTEND;TZID=America/Chicago:20170322T200000
DTSTAMP:20260424T073219
CREATED:20170309T060000Z
LAST-MODIFIED:20170309T060000Z
UID:7658-1490205600-1490212800@cityofirondaleal.gov
SUMMARY:Irondale On The Move - Parks/Greenspaces\, Blueways & Cycling Community Forum
DESCRIPTION:During 2017\, the Irondale On The Move – Community Action Committeeææwill hold quarterly Community Forumsæto share information and seek public input onækey components of the City’s newly adopted comprehensive plan\, æIrondale On The Move. æ \n \nThe next community forum will æfocus onæthe present state and future of Irondale’s Parks/Green Spaces\, Blueways and Outdoor Recreation in Irondale. This family friendly event will take place at Irondale Middle School on March 22\, 2017 from 6-8PM.
URL:https://cityofirondaleal.gov/event/irondale-move-parksgreenspaces-blueways-cycling-community-forum/
LOCATION:Irondale Middle School\, 6200 Old Leeds Road\, Irondale\, AL\, 35210\, United States
ATTACH;FMTTYPE=image/jpeg:https://cityofirondaleal.gov/wp-content/uploads/blkfampark.jpg
END:VEVENT
BEGIN:VEVENT
DTSTART;TZID=America/Chicago:20170217T130000
DTEND;TZID=America/Chicago:20170217T150000
DTSTAMP:20260424T073219
CREATED:20170217T060000Z
LAST-MODIFIED:20170217T060000Z
UID:7650-1487336400-1487343600@cityofirondaleal.gov
SUMMARY:Irondale Tobacco Coalition Meeting
DESCRIPTION:The Irondale Tobacco Coalition will hold a meeting to discuss tobacco and heart disease on February 17\, 2017 at 1PM at the Zamora Temple. \nThe featured speaker will be Cassandra Smith Mynatt\, Healthy Living Coordinator of the American Heart Association. \n 
URL:https://cityofirondaleal.gov/event/irondale-tobacco-coalition-meeting/
LOCATION:Zamora Temple\, 3521 Ratliff Rd\, Irondale\, 35210\, United States
END:VEVENT
BEGIN:VEVENT
DTSTART;TZID=America/Chicago:20170217T100000
DTEND;TZID=America/Chicago:20170217T120000
DTSTAMP:20260424T073219
CREATED:20170208T060000Z
LAST-MODIFIED:20170208T060000Z
UID:7595-1487325600-1487332800@cityofirondaleal.gov
SUMMARY:FYI Fridays at the IPL
DESCRIPTION:FYI Fridays! -æFriday\, February 17 10am \n(For Children 8-12) Join us on the third Friday of each month to meet a different professional\, learn about their interesting jobs\, and do hands-on activities. Free. Registration required. Call 951-1415 or visit www.irondalelibrary.org to register.
URL:https://cityofirondaleal.gov/event/fyi-fridays/
LOCATION:Irondale Public Library\, 105 20th Street South\, Irondale\, AL\, 35210\, United States
ATTACH;FMTTYPE=image/jpeg:https://cityofirondaleal.gov/wp-content/uploads/library.jpg
END:VEVENT
BEGIN:VEVENT
DTSTART;TZID=America/Chicago:20170227T153000
DTEND;TZID=America/Chicago:20170227T173000
DTSTAMP:20260424T073219
CREATED:20170208T060000Z
LAST-MODIFIED:20170208T060000Z
UID:7627-1488209400-1488216600@cityofirondaleal.gov
SUMMARY:IPL - After School Gaming
DESCRIPTION:After School Gaming \nMonday\, February 27 \n \n3:30 – 5:30 pm æBring your friends to play the Wii and a selection of board games.
URL:https://cityofirondaleal.gov/event/ipl-school-gaming/
LOCATION:Irondale Public Library\, 105 20th Street South\, Irondale\, AL\, 35210\, United States
ATTACH;FMTTYPE=image/jpeg:https://cityofirondaleal.gov/wp-content/uploads/216.jpg
END:VEVENT
BEGIN:VEVENT
DTSTART;TZID=America/Chicago:20170223T180000
DTEND;TZID=America/Chicago:20170223T200000
DTSTAMP:20260424T073219
CREATED:20170208T060000Z
LAST-MODIFIED:20170208T060000Z
UID:7593-1487872800-1487880000@cityofirondaleal.gov
SUMMARY:Friends of IPL Meeting
DESCRIPTION:Friends of IPL will meet atæ6 pm on Thursday\, February 23\, 2017. All are welcome to attend. \nThe purpose of the Friends of IPL is to raise funds for programs\, projects at the library.
URL:https://cityofirondaleal.gov/event/friends-ipl-meeting/
LOCATION:Irondale Public Library\, 105 20th Street South\, Irondale\, AL\, 35210\, United States
ATTACH;FMTTYPE=image/jpeg:https://cityofirondaleal.gov/wp-content/uploads/Friends-Logo-color-stack1.jpg
END:VEVENT
BEGIN:VEVENT
DTSTART;TZID=America/Chicago:20170131T180000
DTEND;TZID=America/Chicago:20170131T200000
DTSTAMP:20260424T073219
CREATED:20170123T060000Z
LAST-MODIFIED:20170123T060000Z
UID:7577-1485885600-1485892800@cityofirondaleal.gov
SUMMARY:Shades Valley High School - 2nd Semester Open House
DESCRIPTION:Shades Valley High School will host their 2nd Semester Open House on Tuesday\, January 31\, 2017 at 6PM. The open house is a perfect opportunity: \n\nFor parents to connect with their children’s 2nd semester teachers\nTo learn about upcoming SAT/ACT exam administration\, for sophomores and juniors\nDiscuss the school’s current academic status and discuss how to improve\nLearn about important dates and information for Class of 2017-Seniors\nGet an updates on PTO activities and events\n\nAll Shades Valley High School parents and students are invited to attend.
URL:https://cityofirondaleal.gov/event/shades-valley-high-school-2nd-semester-open-house/
LOCATION:Shades Valley High School\, 6100 Old Leeds Rd\, Irondale\, AL\, 35210\, United States
ATTACH;FMTTYPE=image/jpeg:https://cityofirondaleal.gov/wp-content/uploads/Shades-Valley-High-School_0040.jpg
END:VEVENT
BEGIN:VEVENT
DTSTART;TZID=America/Chicago:20170126T180000
DTEND;TZID=America/Chicago:20170126T200000
DTSTAMP:20260424T073219
CREATED:20170121T060000Z
LAST-MODIFIED:20170121T060000Z
UID:7573-1485453600-1485460800@cityofirondaleal.gov
SUMMARY:Coffee And Conversation With Councilor Bobby Joe Wilson
DESCRIPTION:Irondale citizens who reside in Irondale City Council District 5 are invited to attend\, Coffee and Conversation with Councilman Bobby Joe Wilson. æThis event will take place on Thursdayæ\, January 26\, 2017 at æ6PM at The Retreat. \n \nCouncilman Bobby Joe Wilson will æinteract with residents of District 5 in an open and informal setting. According to Councilman Wilson\, “The purpose of this event is to provide citizens in District 5 with a forum to share concerns and ideas in a casual setting.” \nThis event is open to the public and light refreshments will be provided.
URL:https://cityofirondaleal.gov/event/coffee-conversation-councilor-bobby-joe-wilson/
LOCATION:The Retreat at Mountain Brook\, 4816 Sharpsburg Drive\, Irondale\, AL\, 35210\, United States
ATTACH;FMTTYPE=image/jpeg:https://cityofirondaleal.gov/wp-content/uploads/BOBBY-JOE-WILSON.jpg
END:VEVENT
BEGIN:VEVENT
DTSTART;TZID=America/Chicago:20170131T180000
DTEND;TZID=America/Chicago:20170131T200000
DTSTAMP:20260424T073219
CREATED:20170117T060000Z
LAST-MODIFIED:20170117T060000Z
UID:7369-1485885600-1485892800@cityofirondaleal.gov
SUMMARY:Mayor's Townhall Meeting
DESCRIPTION:Mark your calendar! Mayor Charles Moore will conduct a townhall meeting on Tuesday\, January 31\, 6:00 PM at the Irondale Senior Center. \nThe primary purpose of this meeting is to discuss the communication needs of our city. This topic is of no small interest to many residents and businesses in Irondale\, so plan to attend with your feedback and positive ideas!
URL:https://cityofirondaleal.gov/event/mayors-townhall-meeting/
LOCATION:Irondale Senior Activity Center\, 5313 Beacon Drive\, Irondale\, 35210\, United States
ATTACH;FMTTYPE=image/jpeg:https://cityofirondaleal.gov/wp-content/uploads/City-of-Irondale-LOGO11.jpg
END:VEVENT
BEGIN:VEVENT
DTSTART;TZID=America/Chicago:20170126T180000
DTEND;TZID=America/Chicago:20170126T200000
DTSTAMP:20260424T073219
CREATED:20170106T060000Z
LAST-MODIFIED:20170106T060000Z
UID:7348-1485453600-1485460800@cityofirondaleal.gov
SUMMARY:Friends of Irondale Public Library - Annual Meeting
DESCRIPTION:The Friends of Irondale Public Library will hold their annual meeting and a special performance byåÊThe Seasoned Performers. The Seasoned Performers will present a dramatic reading of Exchange by Ray Bradbury. This meeting is free and open to the public.
URL:https://cityofirondaleal.gov/event/friends-irondale-public-library-annual-meeting/
LOCATION:Irondale Public Library\, 105 20th Street South\, Irondale\, AL\, 35210\, United States
ATTACH;FMTTYPE=image/jpeg:https://cityofirondaleal.gov/wp-content/uploads/Friends-Logo-color-stack1.jpg
END:VEVENT
BEGIN:VEVENT
DTSTART;TZID=America/Chicago:20161218T180000
DTEND;TZID=America/Chicago:20161218T200000
DTSTAMP:20260424T073219
CREATED:20161213T060000Z
LAST-MODIFIED:20161213T060000Z
UID:7332-1482084000-1482091200@cityofirondaleal.gov
SUMMARY:"Christmas Carol Celebration with Friends"
DESCRIPTION:The Irondale United Methodist Church invites you to their Chancel Choir’s Cantata\, “Christmas Carol Celebration with Friends\,” THIS Sunday\, December 18\, at 6 PM. Also join them for a reception after the service. \nClick here for a map to their location.åÊ And call the office if you have questions: 205-956-2711.
URL:https://cityofirondaleal.gov/event/christmas-carol-celebration-friends/
LOCATION:Irondale United Methodist Church\, 400 Deering St\, Irondale\, AL\, 35210\, United States
ATTACH;FMTTYPE=image/jpeg:https://cityofirondaleal.gov/wp-content/uploads/irondaleunitedmeth.jpg
END:VEVENT
BEGIN:VEVENT
DTSTART;TZID=America/Chicago:20161217T130000
DTEND;TZID=America/Chicago:20161217T150000
DTSTAMP:20260424T073219
CREATED:20161213T060000Z
LAST-MODIFIED:20161213T060000Z
UID:7327-1481979600-1481986800@cityofirondaleal.gov
SUMMARY:Meet Santa at The Sports Station
DESCRIPTION:If your kids or grandkids haven’t met Santa yet this year\, he’s making time to visit Irondale again THIS Saturday\, December 17\, from 1:00 to 3:00 PM at the Sports Station in Grants Mill Station. \nOf course\, while you’re there\, take advantage of the opportunity to grab a gift for that sports fan on your Christmas list!
URL:https://cityofirondaleal.gov/event/meet-santa-sports-station/
LOCATION:The Sports Station\, 5415 Beacon Drive\, Suite 135\, Irondale\, AL\, 35210\, United States
ATTACH;FMTTYPE=image/jpeg:https://cityofirondaleal.gov/wp-content/uploads/unnamed-1.jpg
END:VEVENT
BEGIN:VEVENT
DTSTART;TZID=America/Chicago:20161129T180000
DTEND;TZID=America/Chicago:20161129T200000
DTSTAMP:20260424T073219
CREATED:20161125T060000Z
LAST-MODIFIED:20161125T060000Z
UID:7305-1480442400-1480449600@cityofirondaleal.gov
SUMMARY:Meet The New Shades Valley High School Principal - Dr. Antwan Marsh
DESCRIPTION:The Irondale community is invited to a “Meet and Greet” event with new Shades Valley High School Principal\, Dr. Antwan Marsh on Tuesday\, November 29\, 2016 at 6PM. åÊThis event is hosted by the the Shades Valley High School PTSO. \nThis is a great opportunity to learn more about Dr. Marsh and his vision for Shades Valley High School which is one of our City’s greatest assets. \n 
URL:https://cityofirondaleal.gov/event/meet-new-shades-valley-high-school-principal-dr-antwan-marsh/
LOCATION:Shades Valley High School\, 6100 Old Leeds Rd\, Irondale\, AL\, 35210\, United States
ATTACH;FMTTYPE=image/jpeg:https://cityofirondaleal.gov/wp-content/uploads/Shades-Valley-High-School_0040.jpg
END:VEVENT
BEGIN:VEVENT
DTSTART;TZID=America/Chicago:20161129T160000
DTEND;TZID=America/Chicago:20161129T180000
DTSTAMP:20260424T073219
CREATED:20161125T060000Z
LAST-MODIFIED:20161125T060000Z
UID:7307-1480435200-1480442400@cityofirondaleal.gov
SUMMARY:Teen Holiday Crafts Workshop
DESCRIPTION:The Irondale Public Library will hold a Teen Holiday Crafts Workshop on November 29\, 2016 at 4PM. Three stations will be set up for teens to make gift quality crafts.åÊMaterials and instruction provided and this event is Free to the public.
URL:https://cityofirondaleal.gov/event/teen-holiday-crafts-workshop/
LOCATION:Irondale Public Library\, 105 20th Street South\, Irondale\, AL\, 35210\, United States
ATTACH;FMTTYPE=image/jpeg:https://cityofirondaleal.gov/wp-content/uploads/library.jpg
END:VEVENT
BEGIN:VEVENT
DTSTART;TZID=America/Chicago:20161122T180000
DTEND;TZID=America/Chicago:20161122T200000
DTSTAMP:20260424T073219
CREATED:20161121T060000Z
LAST-MODIFIED:20161121T060000Z
UID:7303-1479837600-1479844800@cityofirondaleal.gov
SUMMARY:Irondale City Council Work Session
DESCRIPTION:The Irondale City Council will hold a work session on Tuesday\, November 22\,2016 at 6PM. åÊThe meeting will take place at Irondale City Hall. åÊIrondale City Council President\, John London will preside over the meeting and it is open to the public.
URL:https://cityofirondaleal.gov/event/irondale-city-council-work-session-16/
LOCATION:Irondale City Hall\, 101 20th Street South\, Irondale\, AL\, 35210\, United States
ATTACH;FMTTYPE=image/jpeg:https://cityofirondaleal.gov/wp-content/uploads/meeting3.jpg
END:VEVENT
BEGIN:VEVENT
DTSTART;TZID=America/Chicago:20161117T173000
DTEND;TZID=America/Chicago:20161117T193000
DTSTAMP:20260424T073219
CREATED:20161116T060000Z
LAST-MODIFIED:20161116T060000Z
UID:7300-1479403800-1479411000@cityofirondaleal.gov
SUMMARY:Studio By The Tracks Holiday Open House
DESCRIPTION:Studio by the Tracks’ (SBTT) annual Holiday Art Show and Open House will be 5:30-7:30 PM\, THIS Thursday\, November 17 at the Studio . \nThe event will showcase their SBTT artist works of all shapes and sizes\, including unique ornaments\, beautiful ceramic pieces\, hand-crafted wreaths and more. \nVisitors to the Open House will be able to see their newly re-modeled studio. \nCome early for the best selection. Doors open at 5:30 firm. They will accept cash\, check\, and credit. (NOTE: They will have some paper bags to take your goods home in\, but everyone is encouraged to bring their reusable bags as well.)
URL:https://cityofirondaleal.gov/event/studio-tracks-holiday-open-house/
LOCATION:Studio By The Tracks\, 301 20th Street\, Irondale\, 35210\, United States
END:VEVENT
BEGIN:VEVENT
DTSTART;TZID=America/Chicago:20161114T180000
DTEND;TZID=America/Chicago:20161114T200000
DTSTAMP:20260424T073219
CREATED:20161108T060000Z
LAST-MODIFIED:20161108T060000Z
UID:7292-1479146400-1479153600@cityofirondaleal.gov
SUMMARY:Irondale City Council Work Session
DESCRIPTION:The Irondale City Council will hold a work session on Monday\, November 14\, 2016 at 6PM in Irondale City Hall. \nThe purpose of the meeting is to discuss the agenda items for the upcoming City Council meeting to be held on November 15\, 2016 at 7PM in Irondale City Hall.
URL:https://cityofirondaleal.gov/event/irondale-city-council-work-session-15/
LOCATION:Irondale City Hall\, 101 20th Street South\, Irondale\, AL\, 35210\, United States
END:VEVENT
BEGIN:VEVENT
DTSTART;TZID=America/Chicago:20161027T180000
DTEND;TZID=America/Chicago:20161027T200000
DTSTAMP:20260424T073219
CREATED:20161027T050000Z
LAST-MODIFIED:20161027T050000Z
UID:7277-1477591200-1477598400@cityofirondaleal.gov
SUMMARY:Olive Garden Spirit Night - SVHS Basketball Team
DESCRIPTION:The Shades Valley Boys Basketball Booster Club will host a fun filled Spirit Night on Thursday\, October 27\, 2016 from 6PM to 8PM at Irondale Middle School. \nCome and meet the basketball team and enjoy great food and a silent auction with many great items donated by NBA player KJ NcDaniels. \n \n  \n 
URL:https://cityofirondaleal.gov/event/olive-garden-spirit-night-svhs-basketball-team/
LOCATION:Irondale Middle School\, 6200 Old Leeds Road\, Irondale\, AL\, 35210\, United States
ATTACH;FMTTYPE=image/jpeg:https://cityofirondaleal.gov/wp-content/uploads/SVHS-signsm.jpg
END:VEVENT
BEGIN:VEVENT
DTSTART;TZID=America/Chicago:20161029T180000
DTEND;TZID=America/Chicago:20161029T200000
DTSTAMP:20260424T073219
CREATED:20161027T050000Z
LAST-MODIFIED:20161027T050000Z
UID:7281-1477764000-1477771200@cityofirondaleal.gov
SUMMARY:Connecting Pointe Church Fall Festival
DESCRIPTION:Connecting Pointe Church will host a fabulous Fall Festival onåÊSaturday\, October 29 at 6 PM. \nThis fun filled event will feature; prizes awarded for the best decorated Trucks\,Costume Contest\, Music\, Cake Wake\, Bingo\, & S’mores Bonfire & plenty of Chili !!! \n\nSoup will be sold for $3 a bowl to Help Benefit KiDz In MoTiOn! \nCandy Apples will be sold to Help Benefit Engulfed Youth!\n\nAll are invited to attend this family friendly community event.
URL:https://cityofirondaleal.gov/event/connecting-pointe-church-fall-festival/
LOCATION:Irondale City Council Meeting
ATTACH;FMTTYPE=image/jpeg:https://cityofirondaleal.gov/wp-content/uploads/images.jpg
END:VEVENT
BEGIN:VEVENT
DTSTART;TZID=America/Chicago:20161029T110000
DTEND;TZID=America/Chicago:20161029T130000
DTSTAMP:20260424T073219
CREATED:20161027T050000Z
LAST-MODIFIED:20161027T050000Z
UID:7283-1477738800-1477746000@cityofirondaleal.gov
SUMMARY:Irondale United Methodist Church - Fall Festival
DESCRIPTION:Irondale United Methodist will hold their annual Fall Festival on Saturday\, Oct 29th from 11:00 – 1:00PM.åÊ \nThe Irondale community is invited to attend this family friendly event where there will be plenty of åÊgames\, food and truck or treat !!!!
URL:https://cityofirondaleal.gov/event/irondale-united-methodist-church-fall-festival/
LOCATION:Irondale United Methodist Church\, 400 Deering St\, Irondale\, AL\, 35210\, United States
ATTACH;FMTTYPE=image/jpeg:https://cityofirondaleal.gov/wp-content/uploads/images-1-1.jpg
END:VEVENT
BEGIN:VEVENT
DTSTART;TZID=America/Chicago:20161026T180000
DTEND;TZID=America/Chicago:20161026T200000
DTSTAMP:20260424T073219
CREATED:20161026T050000Z
LAST-MODIFIED:20161026T050000Z
UID:7272-1477504800-1477512000@cityofirondaleal.gov
SUMMARY:Irondale City Council Special Meeting
DESCRIPTION:The Irondale City Council will hold a special city council meeting onåÊOctober 26\, 2016 atåÊ6:00 p.m. åÊThe meeting will take place at Irondale City Hall. \nThe items to be discussed at this meeting are as follows: \nMEETING A G E N D A \nNew Business \n1. Resolved\, That Resolution 2016-R-160 authorizes the Police \nDepartment to apply for the Edward Byrne Memorial/JAG Grant in an amount not to exceed $ 10\,000.00. (Police Chief Atkinson) \n2. Resolved\, That Resolution 2016-R-161 authorizes the Mayor to sell water to the Birmingham Water Works Board. (Mayor Tommy Joe Alexander)
URL:https://cityofirondaleal.gov/event/irondale-city-council-special-meeting-2/
LOCATION:Irondale City Hall\, 101 20th Street South\, Irondale\, AL\, 35210\, United States
ATTACH;FMTTYPE=image/jpeg:https://cityofirondaleal.gov/wp-content/uploads/Irondale-City-City-Council_0049.jpg
END:VEVENT
BEGIN:VEVENT
DTSTART;TZID=America/Chicago:20161026T100000
DTEND;TZID=America/Chicago:20161026T120000
DTSTAMP:20260424T073219
CREATED:20161019T050000Z
LAST-MODIFIED:20161019T050000Z
UID:7270-1477476000-1477483200@cityofirondaleal.gov
SUMMARY:Commissioner Joe Knight Discusses Proposed Amendments
DESCRIPTION:Jefferson County Commissioner\, Joe Knight will host a public meeting to discuss the various amendments that will appear on the upcoming November 8th ballot. \nThe event is open to the public and promises to be both interactive and informative.
URL:https://cityofirondaleal.gov/event/commissioner-joe-knight-discusses-proposed-amendments/
LOCATION:Irondale Senior Activity Center\, 5313 Beacon Drive\, Irondale\, 35210\, United States
ATTACH;FMTTYPE=image/jpeg:https://cityofirondaleal.gov/wp-content/uploads/IMG_5577.jpg
END:VEVENT
END:VCALENDAR