BEGIN:VCALENDAR
VERSION:2.0
PRODID:-//City of Irondale - ECPv6.0.13.1//NONSGML v1.0//EN
CALSCALE:GREGORIAN
METHOD:PUBLISH
X-WR-CALNAME:City of Irondale
X-ORIGINAL-URL:https://cityofirondaleal.gov
X-WR-CALDESC:Events for City of Irondale
REFRESH-INTERVAL;VALUE=DURATION:PT1H
X-Robots-Tag:noindex
X-PUBLISHED-TTL:PT1H
BEGIN:VTIMEZONE
TZID:America/Chicago
BEGIN:DAYLIGHT
TZOFFSETFROM:-0600
TZOFFSETTO:-0500
TZNAME:CDT
DTSTART:20140309T080000
END:DAYLIGHT
BEGIN:STANDARD
TZOFFSETFROM:-0500
TZOFFSETTO:-0600
TZNAME:CST
DTSTART:20141102T070000
END:STANDARD
BEGIN:DAYLIGHT
TZOFFSETFROM:-0600
TZOFFSETTO:-0500
TZNAME:CDT
DTSTART:20150308T080000
END:DAYLIGHT
BEGIN:STANDARD
TZOFFSETFROM:-0500
TZOFFSETTO:-0600
TZNAME:CST
DTSTART:20151101T070000
END:STANDARD
BEGIN:DAYLIGHT
TZOFFSETFROM:-0600
TZOFFSETTO:-0500
TZNAME:CDT
DTSTART:20160313T080000
END:DAYLIGHT
BEGIN:STANDARD
TZOFFSETFROM:-0500
TZOFFSETTO:-0600
TZNAME:CST
DTSTART:20161106T070000
END:STANDARD
BEGIN:DAYLIGHT
TZOFFSETFROM:-0600
TZOFFSETTO:-0500
TZNAME:CDT
DTSTART:20170312T080000
END:DAYLIGHT
BEGIN:STANDARD
TZOFFSETFROM:-0500
TZOFFSETTO:-0600
TZNAME:CST
DTSTART:20171105T070000
END:STANDARD
END:VTIMEZONE
BEGIN:VEVENT
DTSTART;TZID=America/Chicago:20150620T090000
DTEND;TZID=America/Chicago:20150620T130000
DTSTAMP:20260424T041531
CREATED:20150614T050000Z
LAST-MODIFIED:20150614T050000Z
UID:6857-1434790800-1434805200@cityofirondaleal.gov
SUMMARY:Irondale Senior Activity Center - Community Yard Sale
DESCRIPTION:The Irondale Senior Activity Center will sponsor a Community Yard Sale on Saturday\, June 20\, from 9:00 AM to 1:00 PM. \nThe Activity Center will sell hot dogs\, chips\, drinks\, and – of course – their very fragrant pop corn!åÊ Some of Irondale’s talented cooks will also prepare tasty baked goods for sale. \nBooth cost is only $10.åÊ You can also rent a table and two chairs for an additional $5.åÊ To register for a booth or to volunteer to help\, contact Alisa\, Cathy\, or Penny at the Center: (205) 951-1418. \nCheck out more Center news in their June newsletter. \nAll proceeds from the yard sale will benefit the Irondale Senior Activity Center and all those residents who enjoy its activities.
URL:https://cityofirondaleal.gov/event/irondale-senior-activity-center-community-yard-sale/
LOCATION:Irondale Senior Activity Center\, 5313 Beacon Drive\, Irondale\, 35210\, United States
ATTACH;FMTTYPE=image/png:https://cityofirondaleal.gov/wp-content/uploads/unnamed-1.png
END:VEVENT
BEGIN:VEVENT
DTSTART;TZID=America/Chicago:20141025T180000
DTEND;TZID=America/Chicago:20141025T220000
DTSTAMP:20260424T041531
CREATED:20141023T050000Z
LAST-MODIFIED:20141023T050000Z
UID:6674-1414260000-1414274400@cityofirondaleal.gov
SUMMARY:Andrea Lucas Studios - Gallery Open House and Hootenanny
DESCRIPTION:See attached flyer for details
URL:https://cityofirondaleal.gov/event/andrea-lucas-studios-gallery-open-house-hootenanny/
LOCATION:Andrea Lucas Studios\, 1910 1st Avenue North\, Irondale\, AL\, 35210\, United States
ATTACH;FMTTYPE=image/jpeg:https://cityofirondaleal.gov/wp-content/uploads/Oct2014Flyer_LightGreen.jpg
END:VEVENT
BEGIN:VEVENT
DTSTART;TZID=America/Chicago:20141017T180000
DTEND;TZID=America/Chicago:20141017T220000
DTSTAMP:20260424T041531
CREATED:20141011T050000Z
LAST-MODIFIED:20141011T050000Z
UID:6667-1413568800-1413583200@cityofirondaleal.gov
SUMMARY:Ruffner Mountain Nature Preserve - Beer on the Back Porch
DESCRIPTION:ThereÛªs no better way to start your weekend than with delicious food from Downstairs Diner\, cold beer from Back Forty\, and live music from Motel Ice Machine. $25 gets you dinner and three drink tokens\, though food and beverages can be purchased separately\, and there will be limited vegetarian options available. \nTickets are $25 for adults and $15 for kids. 6pm to 10pm on Fri.\, Oct. 17th. Fun for all ages.
URL:https://cityofirondaleal.gov/event/ruffner-mountain-nature-preserve-beer-back-porch/
LOCATION:Ruffner Mountain Nature Preserve\, 1214 81st St S\, Birmingham\, AL\, 35206\, United States
ATTACH;FMTTYPE=image/jpeg:https://cityofirondaleal.gov/wp-content/uploads/ruffimages-e1430802643566.jpg
END:VEVENT
BEGIN:VEVENT
DTSTART;TZID=America/Chicago:20161118T090000
DTEND;TZID=America/Chicago:20161118T123000
DTSTAMP:20260424T041531
CREATED:20161117T060000Z
LAST-MODIFIED:20161117T060000Z
UID:7301-1479459600-1479472200@cityofirondaleal.gov
SUMMARY:Ruffner Road Clean Up Day
DESCRIPTION:Please join Ruffner Mountain Nature PreserveåÊ(RMNP) as their staff and volunteers will help clean-up the Irondale side of Ruffner Mountain along Ruffner Road. They will be collecting trash and debris this Friday\, November 18\, 2016 from 9:00am to 12:30pm.åÊVolunteers and RMNP staff will meet at 300 Ruffner Road in the Ruffner Ballfields parking lot. åÊPlease bring energy\,åÊwater and a smile! \nClick on the link below to sign-up to participate: \nhttps://ruffnermountain.org/waiver-and-signup-form \nThe City of Irondale is a proud partner of Ruffner Mountain Nature Preserve. Thousands of people annually use the Ruffner Mountain ÛÒ Irondale Trail Head to access over (15 ) miles of hiking trails at Ruffner Mountain Nature Preserve. \nRuffner MountainÛªs ÛÒ Irondale Trail Head is located on Ruffner Road across the street from the Ruffner Baseball Fields. åÊThere is plenty of free parking available in the parking lot of the ballfields and the preserve is open 7-days a week from dusk to dawn.
URL:https://cityofirondaleal.gov/event/ruffner-road-clean-day/
LOCATION:Ruffner Park\, 333-\, 399 Ruffner Rd\, Irondale\, AL\, 35210\, United States
ATTACH;FMTTYPE=image/jpeg:https://cityofirondaleal.gov/wp-content/uploads/10721703_G.jpg
END:VEVENT
BEGIN:VEVENT
DTSTART;TZID=America/Chicago:20150627T113000
DTEND;TZID=America/Chicago:20150627T150000
DTSTAMP:20260424T041531
CREATED:20150624T050000Z
LAST-MODIFIED:20150624T050000Z
UID:6864-1435404600-1435417200@cityofirondaleal.gov
SUMMARY:The New Beacon Park Grand Opening
DESCRIPTION:The Greater Irondale community is invited join us for The Beacon Park Grand Opening which will be heldåÊTHIS Saturday\, June 27.åÊ The City of Irondale and the Greater Irondale Chamber of Commerce will sponsor FREE hotdogs and FUN between 11:30 AM and 3:00 PM. åÊ A specialRibbon Cutting Ceremony will start at 12:30 PM.åÊ DonÛªt miss it!
URL:https://cityofirondaleal.gov/event/the-new-beacon-park-grand-opening/
LOCATION:Beacon Park\, Irondale\, AL\, United States
ATTACH;FMTTYPE=image/jpeg:https://cityofirondaleal.gov/wp-content/uploads/unnamed.jpg
END:VEVENT
BEGIN:VEVENT
DTSTART;TZID=America/Chicago:20150518T183000
DTEND;TZID=America/Chicago:20150518T220000
DTSTAMP:20260424T041531
CREATED:20150505T050000Z
LAST-MODIFIED:20150505T050000Z
UID:6808-1431973800-1431986400@cityofirondaleal.gov
SUMMARY:Dinner and Bikes at Ruffner Mountain Nature Preserve
DESCRIPTION:Please join us on Monday\, May 18th from 6:30pm to 10pm for a traveling road show of vegan food and bicycle inspiration. Joshua Ploeg will delight with a vegan and gluten free buffet dinner. Elly Blue and Joe Biel will co-present films\, a talk\, and slides aboutåÊGroundswellåÊmovements\, incidences where people demanded and implemented better neighborhood and bicycling conditions. \nThe event is followed with a book signing and time for questions\, discussion of local issues\, and perusing the traveling bookstore. [Admission cost: $20; includes dinner.]
URL:https://cityofirondaleal.gov/event/dinner-and-bikes-at-ruffner-mountain-nature-preserve/
LOCATION:Ruffner Mountain Nature Preserve\, 1214 81st St S\, Birmingham\, AL\, 35206\, United States
ATTACH;FMTTYPE=image/jpeg:https://cityofirondaleal.gov/wp-content/uploads/ruffimages-e1430802643566.jpg
END:VEVENT
BEGIN:VEVENT
DTSTART;TZID=America/Chicago:20141016T163000
DTEND;TZID=America/Chicago:20141016T200000
DTSTAMP:20260424T041531
CREATED:20140828T050000Z
LAST-MODIFIED:20140828T050000Z
UID:6594-1413477000-1413489600@cityofirondaleal.gov
SUMMARY:Neighborhood Night Out - Blues & Barbecue
DESCRIPTION:The City of Irondale and the Greater Irondale Chamber of Commerce will host the Irondale Neighborhood Night Out -åÊBlues & Barbecue celebration onåÊThursday\, October 16\, 2014 fromåÊ4:30 pm to 8:00 pm. åÊThe event will take place at The Station at Grants Mill.  \nPlease come and enjoy family fun\, food and activities including: \n\nPolice and Fire Department Safety Education\nMoonwalk & Inflatables\nLive Blues\n $5 Meal Deals\nCarnival Games
URL:https://cityofirondaleal.gov/event/neighborhood-night-blues-barbecue/
LOCATION:The Station at Grants Mill\, 5415 Beaccon Drive\, Irondale\, AL\, 35210\, United States
ATTACH;FMTTYPE=image/jpeg:https://cityofirondaleal.gov/wp-content/uploads/chambe.jpg
END:VEVENT
BEGIN:VEVENT
DTSTART;TZID=America/Chicago:20170616T100000
DTEND;TZID=America/Chicago:20170616T130000
DTSTAMP:20260424T041531
CREATED:20170612T050000Z
LAST-MODIFIED:20170612T050000Z
UID:7765-1497607200-1497618000@cityofirondaleal.gov
SUMMARY:Community Clean - Up Grants Mill Cahaba Landing
DESCRIPTION:Bring your gloves and trash bags and let’s come together to clean up the Grants Mill Cahaba Landing and Irondale River Walk on Friday\, June 16 from 10am to 1pm.
URL:https://cityofirondaleal.gov/event/community-clean-grants-mill-cahaba-landing/
LOCATION:Grants Mill Cahaba Landing\, 2171 Grants Mill Road\, Irondale\, AL\, 35210\, United States
ATTACH;FMTTYPE=image/jpeg:https://cityofirondaleal.gov/wp-content/uploads/clean-up.jpg
END:VEVENT
BEGIN:VEVENT
DTSTART;TZID=America/Chicago:20170617T090000
DTEND;TZID=America/Chicago:20170617T120000
DTSTAMP:20260424T041531
CREATED:20170606T050000Z
LAST-MODIFIED:20170606T050000Z
UID:7761-1497690000-1497700800@cityofirondaleal.gov
SUMMARY:Fitness in the Park
DESCRIPTION:Fitness in the Park!! æHosted by City of Irondale and Iron Beach Gym \nJune 17th 9am – 12pm \nBootcamp – 9am – 10am (registration 8:30am) \nZumba – 10:15am – 11am (registration 10am) \nIrondale Fireman’s Challenge – 10:30am \nBadminton Tournament – 11am (registration 9am – 10:45am) \nFree Event for the Whole Family
URL:https://cityofirondaleal.gov/event/fitness-in-the-park/
LOCATION:Beacon Park\, Irondale\, AL\, United States
ATTACH;FMTTYPE=image/jpeg:https://cityofirondaleal.gov/wp-content/uploads/beacon-park.jpg
END:VEVENT
BEGIN:VEVENT
DTSTART;TZID=America/Chicago:20170618T180000
DTEND;TZID=America/Chicago:20170618T210000
DTSTAMP:20260424T041531
CREATED:20170526T050000Z
LAST-MODIFIED:20170526T050000Z
UID:7753-1497808800-1497819600@cityofirondaleal.gov
SUMMARY:Jazz in the Park
DESCRIPTION:
URL:https://cityofirondaleal.gov/event/jazz-in-the-park/
LOCATION:Beacon Park\, Irondale\, AL\, United States
END:VEVENT
BEGIN:VEVENT
DTSTART;TZID=America/Chicago:20170624T140000
DTEND;TZID=America/Chicago:20170624T170000
DTSTAMP:20260424T041531
CREATED:20170325T050000Z
LAST-MODIFIED:20170325T050000Z
UID:7689-1498312800-1498323600@cityofirondaleal.gov
SUMMARY:Ms Senior Irondale Pageant
DESCRIPTION:The Ms. Senior Irondale Pageant will be Saturday\, June 24th at 2PMæat the Shades Valley High School Auditorium. This annual event highlights the talents of our community’s greatest resources our beloved senior citizens. \nThe Irondale community is invited to come witness the beauty\, talent and grace of all the contestants of the Ms Senior Irondale Pageant. \n 
URL:https://cityofirondaleal.gov/event/ms-senior-irondale-pageant-2/
LOCATION:Shades Valley High School\, 6100 Old Leeds Rd\, Irondale\, AL\, 35210\, United States
ATTACH;FMTTYPE=image/jpeg:https://cityofirondaleal.gov/wp-content/uploads/12994462_1131463250207445_769949911501405431_n.jpg
END:VEVENT
BEGIN:VEVENT
DTSTART;TZID=America/Chicago:20170120T190000
DTEND;TZID=America/Chicago:20170120T220000
DTSTAMP:20260424T041531
CREATED:20170106T060000Z
LAST-MODIFIED:20170106T060000Z
UID:7357-1484938800-1484949600@cityofirondaleal.gov
SUMMARY:Shades Valley VS Parker - High School Basketball
DESCRIPTION:The Shades Valley Mounties basketball team has a home conference game vs. Parker on Friday\, January 20 @ 7pm.
URL:https://cityofirondaleal.gov/event/shades-valley-vs-parker-high-school-basketball/
LOCATION:Shades Valley High School\, 6100 Old Leeds Rd\, Irondale\, AL\, 35210\, United States
ATTACH;FMTTYPE=image/jpeg:https://cityofirondaleal.gov/wp-content/uploads/svhslogo.jpg
END:VEVENT
BEGIN:VEVENT
DTSTART;TZID=America/Chicago:20160526T163000
DTEND;TZID=America/Chicago:20160526T193000
DTSTAMP:20260424T041531
CREATED:20160520T050000Z
LAST-MODIFIED:20160520T050000Z
UID:7103-1464280200-1464291000@cityofirondaleal.gov
SUMMARY:BBQ for Memorial Day Benefiting Mitchell's Place
DESCRIPTION:If you’re in the mood for some BBQ for Memorial Day\, you’ll want to participate in the Brasfield & Gorrie BBQ Cook-off next Thursday\, May 26. Event proceeds benefit The Bell Center\, Down Syndrome Alabama\, The Exceptional Foundation\,Mitchell’s Place\, and Restoration Academy! \nFor more information about purchasing event tickets\, whole cooked butts\, and more\,click here.
URL:https://cityofirondaleal.gov/event/bbq-memorial-day-benefiting-mitchells-place/
LOCATION:Brasfield & Gorrie\, 3021 7th Avenue South\, Birmingham\, AL\, 35233\, United States
ATTACH;FMTTYPE=image/jpeg:https://cityofirondaleal.gov/wp-content/uploads/bbq.jpg
ORGANIZER;CN="Mitchell%27s%20Place":MAILTO:BBQCookOff@brasfieldgorrie.com
END:VEVENT
BEGIN:VEVENT
DTSTART;TZID=America/Chicago:20160130T150000
DTEND;TZID=America/Chicago:20160130T180000
DTSTAMP:20260424T041531
CREATED:20160129T060000Z
LAST-MODIFIED:20160129T060000Z
UID:6997-1454166000-1454176800@cityofirondaleal.gov
SUMMARY:Andrea Lucas Studios Presents - Cake and Games
DESCRIPTION:Cake and Games will be an afternoon event this month. Please mark your calendars and come join us for a few hours of CHARADES on Sat. Jan 30th at 3 PM. Free!! åÊWine Beer per $3 donation please.
URL:https://cityofirondaleal.gov/event/andrea-lucas-studios-event/
LOCATION:Andrea Lucas Studios\, 1910 1st Avenue North\, Irondale\, AL\, 35210\, United States
ATTACH;FMTTYPE=image/jpeg:https://cityofirondaleal.gov/wp-content/uploads/e6b7cb_43cb3f1ba50846f08b86b371db3c264f.jpg
END:VEVENT
BEGIN:VEVENT
DTSTART;TZID=America/Chicago:20150614T180000
DTEND;TZID=America/Chicago:20150614T210000
DTSTAMP:20260424T041531
CREATED:20150612T050000Z
LAST-MODIFIED:20150612T050000Z
UID:6851-1434304800-1434315600@cityofirondaleal.gov
SUMMARY:"Art From The Heart" - Studio By the Tracks
DESCRIPTION:Studio by the Tracks‘s largest annual fund raiser – “Art from the Heart” – is THIS Sunday\, June 14\, 6:00 PM at B&A Warehouse. \nSBTT provides a place where emotionally conflicted children and adults with Autism Spectrum Disorder or other mental illnesses can attend free art classes.åÊ Each year this auction showcases the work of SBTT students\, and also sells other donated pieces of artwork. \nFor a look at some of the pieces that will be available for purchase\, followSBTT’s Facebook page and click here for new art photos.åÊ You can purchase tickets online now for this worthwhile event.
URL:https://cityofirondaleal.gov/event/art-from-the-heart-studio-by-the-tracks/
LOCATION:B&A Warehouse\, 1531 First Avenue South\, AL\, 35233\, United States
ATTACH;FMTTYPE=image/jpeg:https://cityofirondaleal.gov/wp-content/uploads/SaveTheDate2015.jpg
END:VEVENT
BEGIN:VEVENT
DTSTART;TZID=America/Chicago:20150324T180000
DTEND;TZID=America/Chicago:20150324T210000
DTSTAMP:20260424T041531
CREATED:20150315T050000Z
LAST-MODIFIED:20150315T050000Z
UID:6771-1427220000-1427230800@cityofirondaleal.gov
SUMMARY:Irondale Economic Development Committee
DESCRIPTION:The City of Irondale Economic Development Committee has scheduled a meeting for Tuesday\, March 24\, 2015 at 6:00 p.m. The meeting will be held at the Irondale Police Substation\, 5415 Beacon Drive Suite 125\, Irondale AL 35210.
URL:https://cityofirondaleal.gov/event/irondale-economic-development-committee/
LOCATION:Police Sub Station
ATTACH;FMTTYPE=image/jpeg:https://cityofirondaleal.gov/wp-content/uploads/City-of-Irondale-LOGO11.jpg
END:VEVENT
BEGIN:VEVENT
DTSTART;TZID=America/Chicago:20141024T190000
DTEND;TZID=America/Chicago:20141024T220000
DTSTAMP:20260424T041531
CREATED:20141011T050000Z
LAST-MODIFIED:20141011T050000Z
UID:6669-1414177200-1414188000@cityofirondaleal.gov
SUMMARY:Ruffner Mountain Nature Preserve - Mountain Bingo
DESCRIPTION:Mark your calendars for Mountain Bingo on Friday\, October 24th at 7pm! \nYou can purchase 9 bingo cards/1 sheet for $1.50 each\, or specialty cards for $2 each. The event is BYOB\, but we will be selling hot dogs for $2 each\, and chips and soft drinks for $1 each.
URL:https://cityofirondaleal.gov/event/ruffner-mountain-nature-preserve-mountain-bingo/
LOCATION:Ruffner Mountain Nature Preserve\, 1214 81st St S\, Birmingham\, AL\, 35206\, United States
ATTACH;FMTTYPE=image/jpeg:https://cityofirondaleal.gov/wp-content/uploads/ruffimages-e1430802643566.jpg
END:VEVENT
BEGIN:VEVENT
DTSTART;TZID=America/Chicago:20140628T090000
DTEND;TZID=America/Chicago:20140628T120000
DTSTAMP:20260424T041531
CREATED:20140625T050000Z
LAST-MODIFIED:20140625T050000Z
UID:6541-1403946000-1403956800@cityofirondaleal.gov
SUMMARY:Community Yard Sale
DESCRIPTION:The Irondale Senior Citizens Center will have a community Yard Sale on June 28\, 2014. åÊThe event will be held from 9AM-12PM. åÊCome enjoy great deals\, food and fun !!
URL:https://cityofirondaleal.gov/event/community-yard-sale/
LOCATION:Irondale Senior Activity Center\, 5313 Beacon Drive\, Irondale\, 35210\, United States
ATTACH;FMTTYPE=image/jpeg:https://cityofirondaleal.gov/wp-content/uploads/srcitizen.jpg
END:VEVENT
BEGIN:VEVENT
DTSTART;TZID=America/Chicago:20140816T100000
DTEND;TZID=America/Chicago:20140816T130000
DTSTAMP:20260424T041531
CREATED:20140621T050000Z
LAST-MODIFIED:20140621T050000Z
UID:6537-1408183200-1408194000@cityofirondaleal.gov
SUMMARY:BBQ & Sportsmen Giveaway - Zamora Temple
DESCRIPTION:Doors Open at 10:00 a.m. Lunch Served 11:00 a.m. – 1:00 p.m.\n\n\n\nåÊ \nMust be 21 years of age to purchase a ticket\n\n\n\n\n\n\n\n\n\n\nGun Drawings will begin at 12:00 pm sharp!\nTickets $20.00 Each – On Sale NOW !
URL:https://cityofirondaleal.gov/event/bbq-sportsmans-giveaway-zamora-temple/
LOCATION:Zamora Temple\, 3521 Ratliff Rd\, Irondale\, 35210\, United States
END:VEVENT
BEGIN:VEVENT
DTSTART;TZID=America/Chicago:20140720T180000
DTEND;TZID=America/Chicago:20140720T210000
DTSTAMP:20260424T041531
CREATED:20140617T050000Z
LAST-MODIFIED:20140617T050000Z
UID:6532-1405879200-1405890000@cityofirondaleal.gov
SUMMARY:Jazz In the Park @ The Zamora Temple
DESCRIPTION:The 2nd annual Jazz in the Park concert in Irondale will be moved from Beacon Park to the Zamora Temple due to the high possibility of rain. åÊThe concert will take place Sunday from 6PM to 9PM. The auditorium at the Zamora Temple has an open general seating area for lawn chairs and balcony seating is available. åÊPlease come out and enjoy free jazz\, food and fun !!! \nOver 700 people attended last years event so get there early. \nThis years featured performers are: \nWarren Hill \nPJ Spraggins \n 
URL:https://cityofirondaleal.gov/event/jazz-park-beacon-park/
LOCATION:Zamora Temple\, 3521 Ratliff Rd\, Irondale\, 35210\, United States
ATTACH;FMTTYPE=image/jpeg:https://cityofirondaleal.gov/wp-content/uploads/Jazz-in-the-Park-Birmingham-Logo-1-2011-300.jpg
END:VEVENT
BEGIN:VEVENT
DTSTART;TZID=America/Chicago:20170214T113000
DTEND;TZID=America/Chicago:20170214T140000
DTSTAMP:20260424T041531
CREATED:20170202T060000Z
LAST-MODIFIED:20170202T060000Z
UID:7586-1487071800-1487080800@cityofirondaleal.gov
SUMMARY:ISAC - Valentines Soiree
DESCRIPTION:Irondale Senior Activity Center cordially invites you to our Valentines Soiree at Pine Tree Country Clubæon Tuesday\, February 14th from 11:30 am to 2:00 pm.æTickets are $20.00. Please RSVP by February 10th to Penny at the Center (205) 951-1418. \nPrizes will be provided by ExpectCare æand Right at Home.æ Ray Reach will be on the piano.
URL:https://cityofirondaleal.gov/event/isac-valentines-soiree/
LOCATION:Pine Tree Country Club\, 5100 Whispers Dr.;\, AL 35210\, Irondale\, AL\, 35210\, United States
ATTACH;FMTTYPE=image/jpeg:https://cityofirondaleal.gov/wp-content/uploads/download-1-2.jpg
END:VEVENT
BEGIN:VEVENT
DTSTART;TZID=America/Chicago:20161031T163000
DTEND;TZID=America/Chicago:20161031T190000
DTSTAMP:20260424T041531
CREATED:20161027T050000Z
LAST-MODIFIED:20161027T050000Z
UID:7286-1477931400-1477940400@cityofirondaleal.gov
SUMMARY:First Baptist Church Irondale - Fall Festival
DESCRIPTION:First Baptist Church Irondale will host their annual Fall Festival on Monday Oct. 31st beginning at 4:30 til 7:00. \nThe Irondale community is invited to attend this family friendly event. Come and enjoy the food\, fun\, fellowship and prizes.
URL:https://cityofirondaleal.gov/event/first-baptist-church-irondale-fall-festival/
LOCATION:First Baptist\, 6000 Old Leeds Rd\, Irondale\, AL\, 35210\, United States
ATTACH;FMTTYPE=image/jpeg:https://cityofirondaleal.gov/wp-content/uploads/download.jpg
END:VEVENT
BEGIN:VEVENT
DTSTART;TZID=America/Chicago:20161016T143000
DTEND;TZID=America/Chicago:20161016T170000
DTSTAMP:20260424T041531
CREATED:20161012T050000Z
LAST-MODIFIED:20161012T050000Z
UID:7239-1476628200-1476637200@cityofirondaleal.gov
SUMMARY:Shades Valley's Theater Academy Presents - "The Tempest"
DESCRIPTION:The Jefferson County Academy of Theatre and Dance (at Shades Valley High School) presents William Shakespeare’s\,åÊ“The Tempest” THIS Friday &åÊSaturday\, October 14-15 atåÊ7:00 PM\, and Sunday\, October 16 at 2:30 PM. \nTickets are only $5\, and you can purchase them online.
URL:https://cityofirondaleal.gov/event/shades-valleys-theater-academy-presents-tempest-3/
LOCATION:Shades Valley High School\, 6100 Old Leeds Rd\, Irondale\, AL\, 35210\, United States
ATTACH;FMTTYPE=image/png:https://cityofirondaleal.gov/wp-content/uploads/tempest.png
END:VEVENT
BEGIN:VEVENT
DTSTART;TZID=America/Chicago:20160725T173000
DTEND;TZID=America/Chicago:20160725T200000
DTSTAMP:20260424T041531
CREATED:20160723T050000Z
LAST-MODIFIED:20160723T050000Z
UID:7173-1469467800-1469476800@cityofirondaleal.gov
SUMMARY:Irondale City Council- Finance  Committee Meeting
DESCRIPTION:The Irondale City Council Finance Committee has scheduled a meeting for Monday\, July 25\, 2016 at 5:30 p.m. The meeting will be held at the Irondale City Hall 101 20th Street South\, Irondale AL 35210.
URL:https://cityofirondaleal.gov/event/irondale-city-council-finance-commitee-meeting/
LOCATION:Irondale City Hall\, 101 20th Street South\, Irondale\, AL\, 35210\, United States
END:VEVENT
BEGIN:VEVENT
DTSTART;TZID=America/Chicago:20141120T170000
DTEND;TZID=America/Chicago:20141120T193000
DTSTAMP:20260424T041531
CREATED:20141102T050000Z
LAST-MODIFIED:20141102T050000Z
UID:6691-1416502800-1416511800@cityofirondaleal.gov
SUMMARY:Studio By The Tracks - Open House
DESCRIPTION:
URL:https://cityofirondaleal.gov/event/studio-tracks-open-house/
LOCATION:Studio By The Tracks\, 301 20th Street\, Irondale\, 35210\, United States
END:VEVENT
BEGIN:VEVENT
DTSTART;TZID=America/Chicago:20170824T173000
DTEND;TZID=America/Chicago:20170824T193000
DTSTAMP:20260424T041531
CREATED:20170818T050000Z
LAST-MODIFIED:20170818T050000Z
UID:7895-1503595800-1503603000@cityofirondaleal.gov
SUMMARY:Cop Stop Block Party for Roebuck Plaza
DESCRIPTION:TheæIrondale Police Departmentæ will host a Cop Stop Block Party on the 24th of August in the Ventura Place Park of theæRoebuck Plaza area from 5:30pm to 7:30pm. This event willægive Irondale residents an opportunity to interact with the police officers assigned to their neighborhood\, in a casual and fun setting. \nAll Roebuck Plaza residents are encouraged to attend and share any concerns or suggestions they have on improving their neighborhood. Leaders from the Irondale Police Department and the City will be present to address questions and capture any action items. \nFree food and music will be provided!! æ
URL:https://cityofirondaleal.gov/event/cop-stop-block-party-roebuck-plaza/
LOCATION:Ventura Place GreenSpace\, Ventura Dr & Talmadge Ln\, Birmingham\, AL 35210\, irondale\, AL\, 35210\, United States
END:VEVENT
BEGIN:VEVENT
DTSTART;TZID=America/Chicago:20170729T160000
DTEND;TZID=America/Chicago:20170729T180000
DTSTAMP:20260424T041531
CREATED:20170720T050000Z
LAST-MODIFIED:20170720T050000Z
UID:7876-1501344000-1501351200@cityofirondaleal.gov
SUMMARY:Rock Ridge Green Space Dedication
DESCRIPTION:The Exchange Club will host a Dedication of the neighborhood Green Space on Saturday\, July 29 at 4pm.
URL:https://cityofirondaleal.gov/event/rock-ridge-green-space-dedication/
ATTACH;FMTTYPE=image/jpeg:https://cityofirondaleal.gov/wp-content/uploads/th-1.jpg
END:VEVENT
BEGIN:VEVENT
DTSTART;TZID=America/Chicago:20170615T180000
DTEND;TZID=America/Chicago:20170615T200000
DTSTAMP:20260424T041531
CREATED:20170520T050000Z
LAST-MODIFIED:20170520T050000Z
UID:7752-1497549600-1497556800@cityofirondaleal.gov
SUMMARY:Irondale Chamber After Hours Event & Retreat Grand Re-Opening
DESCRIPTION:The Greater Irondale Chamber of Commerce will co-host\, with the Mountain Brook Chamber\, an After Hours Networking event and Grand Re-Opening at the Retreat at Mountain Brook on Thursday\, June 15\, from 6 to 8 PM.
URL:https://cityofirondaleal.gov/event/irondale-chamber-hours-event-retreat-grand-re-opening/
LOCATION:The Retreat at Mountain Brook\, 4816 Sharpsburg Drive\, Irondale\, AL\, 35210\, United States
END:VEVENT
BEGIN:VEVENT
DTSTART;TZID=America/Chicago:20170322T180000
DTEND;TZID=America/Chicago:20170322T200000
DTSTAMP:20260424T041531
CREATED:20170309T060000Z
LAST-MODIFIED:20170309T060000Z
UID:7658-1490205600-1490212800@cityofirondaleal.gov
SUMMARY:Irondale On The Move - Parks/Greenspaces\, Blueways & Cycling Community Forum
DESCRIPTION:During 2017\, the Irondale On The Move – Community Action Committeeææwill hold quarterly Community Forumsæto share information and seek public input onækey components of the City’s newly adopted comprehensive plan\, æIrondale On The Move. æ \n \nThe next community forum will æfocus onæthe present state and future of Irondale’s Parks/Green Spaces\, Blueways and Outdoor Recreation in Irondale. This family friendly event will take place at Irondale Middle School on March 22\, 2017 from 6-8PM.
URL:https://cityofirondaleal.gov/event/irondale-move-parksgreenspaces-blueways-cycling-community-forum/
LOCATION:Irondale Middle School\, 6200 Old Leeds Road\, Irondale\, AL\, 35210\, United States
ATTACH;FMTTYPE=image/jpeg:https://cityofirondaleal.gov/wp-content/uploads/blkfampark.jpg
END:VEVENT
BEGIN:VEVENT
DTSTART;TZID=America/Chicago:20170317T113000
DTEND;TZID=America/Chicago:20170317T133000
DTSTAMP:20260424T041531
CREATED:20170309T060000Z
LAST-MODIFIED:20170309T060000Z
UID:7673-1489750200-1489757400@cityofirondaleal.gov
SUMMARY:ISAC - St. Patrick's Day Party
DESCRIPTION:St Patrickäó»s Day Party Friday\, March 17th Join us for a St. Patrickäó»s Day Lunch at 11:30 followed by a party at 12:30. There will be Bingo and prizes! Be sure to wear your green so you donäó»t get pinched!
URL:https://cityofirondaleal.gov/event/isac-st-patricks-day-party/
LOCATION:Irondale Senior Activity Center\, 5313 Beacon Drive\, Irondale\, 35210\, United States
ATTACH;FMTTYPE=image/jpeg:https://cityofirondaleal.gov/wp-content/uploads/download-1-3.jpg
END:VEVENT
END:VCALENDAR