BEGIN:VCALENDAR
VERSION:2.0
PRODID:-//City of Irondale - ECPv6.0.13.1//NONSGML v1.0//EN
CALSCALE:GREGORIAN
METHOD:PUBLISH
X-WR-CALNAME:City of Irondale
X-ORIGINAL-URL:https://cityofirondaleal.gov
X-WR-CALDESC:Events for City of Irondale
REFRESH-INTERVAL;VALUE=DURATION:PT1H
X-Robots-Tag:noindex
X-PUBLISHED-TTL:PT1H
BEGIN:VTIMEZONE
TZID:America/Chicago
BEGIN:DAYLIGHT
TZOFFSETFROM:-0600
TZOFFSETTO:-0500
TZNAME:CDT
DTSTART:20140309T080000
END:DAYLIGHT
BEGIN:STANDARD
TZOFFSETFROM:-0500
TZOFFSETTO:-0600
TZNAME:CST
DTSTART:20141102T070000
END:STANDARD
BEGIN:DAYLIGHT
TZOFFSETFROM:-0600
TZOFFSETTO:-0500
TZNAME:CDT
DTSTART:20150308T080000
END:DAYLIGHT
BEGIN:STANDARD
TZOFFSETFROM:-0500
TZOFFSETTO:-0600
TZNAME:CST
DTSTART:20151101T070000
END:STANDARD
BEGIN:DAYLIGHT
TZOFFSETFROM:-0600
TZOFFSETTO:-0500
TZNAME:CDT
DTSTART:20160313T080000
END:DAYLIGHT
BEGIN:STANDARD
TZOFFSETFROM:-0500
TZOFFSETTO:-0600
TZNAME:CST
DTSTART:20161106T070000
END:STANDARD
BEGIN:DAYLIGHT
TZOFFSETFROM:-0600
TZOFFSETTO:-0500
TZNAME:CDT
DTSTART:20170312T080000
END:DAYLIGHT
BEGIN:STANDARD
TZOFFSETFROM:-0500
TZOFFSETTO:-0600
TZNAME:CST
DTSTART:20171105T070000
END:STANDARD
BEGIN:DAYLIGHT
TZOFFSETFROM:-0600
TZOFFSETTO:-0500
TZNAME:CDT
DTSTART:20180311T080000
END:DAYLIGHT
BEGIN:STANDARD
TZOFFSETFROM:-0500
TZOFFSETTO:-0600
TZNAME:CST
DTSTART:20181104T070000
END:STANDARD
END:VTIMEZONE
BEGIN:VEVENT
DTSTART;TZID=America/Chicago:20180422T140000
DTEND;TZID=America/Chicago:20180422T150000
DTSTAMP:20260422T174007
CREATED:20180420T143623Z
LAST-MODIFIED:20180420T143623Z
UID:8567-1524405600-1524409200@cityofirondaleal.gov
SUMMARY:Student Art Contest Awards Ceremony
DESCRIPTION:Please join the Irondale Arts Council for the presentation of awards for the Student Art Contest at the Irondale Public Library from 2pm -3pm on Sunday\, April 22nd.
URL:https://cityofirondaleal.gov/event/student-art-contest-awards-ceremony/
LOCATION:Irondale Public Library\, 105 20th Street South\, Irondale\, AL\, 35210\, United States
END:VEVENT
BEGIN:VEVENT
DTSTART;TZID=America/Chicago:20180419T180000
DTEND;TZID=America/Chicago:20180419T193000
DTSTAMP:20260422T174007
CREATED:20180326T211548Z
LAST-MODIFIED:20180326T211548Z
UID:8345-1524160800-1524166200@cityofirondaleal.gov
SUMMARY:Citizen's Police Academy
DESCRIPTION:The Irondale Citizen Police Academy is a great way to learn more about your Irondale Police Department and meet some of the officers that are serving and protecting everyday. Our Spring session is now open for enrollment. We are looking forward to meeting another great group of citizens. \nTo reserve a spot call Sgt. Meadows at 205.789.4890 or email mmeadows@irondalepolice.org \n 
URL:https://cityofirondaleal.gov/event/citizens-police-academy/
LOCATION:Police Sub Station
END:VEVENT
BEGIN:VEVENT
DTSTART;TZID=America/Chicago:20180416T173000
DTEND;TZID=America/Chicago:20180416T183000
DTSTAMP:20260422T174007
CREATED:20180411T215208Z
LAST-MODIFIED:20180411T215208Z
UID:8450-1523899800-1523903400@cityofirondaleal.gov
SUMMARY:City Council Work Session
DESCRIPTION:The Irondale City Council will hold a work session on Monday\, April 16\, 2018 at 5:30pm to discuss agenda items for the April 17th meeting.
URL:https://cityofirondaleal.gov/event/city-council-work-session-4/
LOCATION:Irondale City Hall\, 101 20th Street South\, Irondale\, AL\, 35210\, United States
END:VEVENT
BEGIN:VEVENT
DTSTART;TZID=America/Chicago:20180412T113000
DTEND;TZID=America/Chicago:20180412T130000
DTSTAMP:20260422T174007
CREATED:20180411T205142Z
LAST-MODIFIED:20180411T205142Z
UID:8433-1523532600-1523538000@cityofirondaleal.gov
SUMMARY:Greater Irondale Chamber of Commerce Luncheon
DESCRIPTION:The Greater Irondale Chamber of Commerce hosts a luncheon on the 2nd Thursday of every month at Pine Tree Country Club.\n\n\nAdmission is $20 for GICC members\, $25 for non-members\, and we accept cash\, check\, or debit/credit card (sorry\, not AmEx). Please RSVP no later than noon on the Wednesday prior to the meeting by responding to our invitation email or by emailing Lynda directly.
URL:https://cityofirondaleal.gov/event/greater-irondale-chamber-of-commerce-luncheon-2/
LOCATION:Pine Tree Country Club\, 5100 Whispers Dr.;\, AL 35210\, Irondale\, AL\, 35210\, United States
END:VEVENT
BEGIN:VEVENT
DTSTART;TZID=America/Chicago:20180410T183000
DTEND;TZID=America/Chicago:20180410T200000
DTSTAMP:20260422T174007
CREATED:20180326T211007Z
LAST-MODIFIED:20180326T211007Z
UID:8341-1523385000-1523390400@cityofirondaleal.gov
SUMMARY:Holiday Gardens Neighborhood Association Meeting
DESCRIPTION:The Holiday Gardens Neighborhood Association meets every second Tuesday of each month at the Irondale Senior Activity Center. The meeting is for residence of Holiday Gardens and the purpose is to discuss community issues\, events and programs.
URL:https://cityofirondaleal.gov/event/holiday-gardens-neighborhood-association-meeting-10/
LOCATION:Irondale Senior Activity Center\, 5313 Beacon Drive\, Irondale\, 35210\, United States
END:VEVENT
BEGIN:VEVENT
DTSTART;TZID=America/Chicago:20180410T113000
DTEND;TZID=America/Chicago:20180410T130000
DTSTAMP:20260422T174007
CREATED:20180411T204350Z
LAST-MODIFIED:20180411T204350Z
UID:8428-1523359800-1523365200@cityofirondaleal.gov
SUMMARY:Exchange Club Luncheon
DESCRIPTION:The Exchange Club of Irondale luncheon is located at the Habitat for Humanity Workshop Center on the 2nd Tuesday of every month at 11:30am. Please contact Joyce Franklin at joyce35210@gmail.com for more details.
URL:https://cityofirondaleal.gov/event/exchange-club-luncheon-3/
LOCATION:Habitat For Humanity\, 7954 Crestwood Boulevard\, Irondale\, AL\, 35210\, United States
END:VEVENT
BEGIN:VEVENT
DTSTART;TZID=America/Chicago:20180303T133000
DTEND;TZID=America/Chicago:20180303T160000
DTSTAMP:20260422T174007
CREATED:20180326T212207Z
LAST-MODIFIED:20180326T212207Z
UID:8353-1520083800-1520092800@cityofirondaleal.gov
SUMMARY:CERT Training
DESCRIPTION:Community Emergency Response Team Training
URL:https://cityofirondaleal.gov/event/cert-training/
LOCATION:Iron Beach Gym\, 1729 Crestwood Blvd.\, Irondale\, AL\, 35210\, United States
END:VEVENT
BEGIN:VEVENT
DTSTART;TZID=America/Chicago:20170930T100000
DTEND;TZID=America/Chicago:20170930T180000
DTSTAMP:20260422T174007
CREATED:20170817T050000Z
LAST-MODIFIED:20170903T005947Z
UID:7897-1506765600-1506794400@cityofirondaleal.gov
SUMMARY:Whistle Stop Festival
DESCRIPTION:The 26th Annual Whistle Stop Festival is on Saturday\, September 30th in Historic Downtown Irondale\, more than one hundred vendors will be selling art\, crafts\, and terrific food. \nEntertainment on the Main Stage on 1st Avenue South will start at 10:00 AM \nThe Historic Irondale Café will be open throughout the day and a shuttle will be onsite to transport festival goers from the main festival on Irondale’s south side to the Irondale Café on 1st Avenue North. \nSee you there!
URL:https://cityofirondaleal.gov/event/whistle-stop-festival/
LOCATION:Historic Downtown Irondale\, 1912 1st Avenue South\, Irondale\, AL\, 35210\, United States
END:VEVENT
BEGIN:VEVENT
DTSTART;TZID=America/Chicago:20170914T113000
DTEND;TZID=America/Chicago:20170914T130000
DTSTAMP:20260422T174007
CREATED:20170817T050000Z
LAST-MODIFIED:20170903T010124Z
UID:7896-1505388600-1505394000@cityofirondaleal.gov
SUMMARY:GICC Membership Luncheon
DESCRIPTION:The Greater Irondale Chamber of Commerce’s membership luncheon this month will take place on Thursday\, September 14\, 2017\, at Pine Tree Country Club. (Doors open at 11:30 AM!) \nOur monthly luncheons begin with networking followed by brief announcements and a buffet lunch at approximately Noon. After the speaker’s presentation\, and Q&A if time allows\, dismissal is promptly at 1 PM. \nAdmission is $20 for members and $25 for non-members. We accept cash\, check\, or debit/credit card (sorry\, no AmEx) at the door. \nIf you would like to attend this luncheon\, email your reservation no later than 12 Noon\, Wednesday\, September 13.
URL:https://cityofirondaleal.gov/event/gicc-membership-luncheon/
LOCATION:Pine Tree Country Club\, 5100 Whispers Dr.;\, AL 35210\, Irondale\, AL\, 35210\, United States
END:VEVENT
BEGIN:VEVENT
DTSTART;TZID=America/Chicago:20170911T090000
DTEND;TZID=America/Chicago:20170911T093000
DTSTAMP:20260422T174007
CREATED:20170817T050000Z
LAST-MODIFIED:20170903T005545Z
UID:7894-1505120400-1505122200@cityofirondaleal.gov
SUMMARY:9/11 Ceremony
DESCRIPTION:The City of Irondale will host its third annual 9/11 remembrance service in memory of all who died on September 11\, 2001. The City takes this occasion to recognize and honor the first responders of Irondale.
URL:https://cityofirondaleal.gov/event/911-ceremony/
LOCATION:CIty Hall\, 101 20th St S\, Irondale\, 35210\, United States
END:VEVENT
BEGIN:VEVENT
DTSTART;TZID=America/Chicago:20170825T080000
DTEND;TZID=America/Chicago:20170825T170000
DTSTAMP:20260422T174007
CREATED:20170825T145959Z
LAST-MODIFIED:20170825T145959Z
UID:1816-1503648000-1503680400@cityofirondaleal.gov
SUMMARY:test
DESCRIPTION:
URL:https://cityofirondaleal.gov/event/test/
ATTACH;FMTTYPE=image/jpeg:https://cityofirondaleal.gov/wp-content/uploads/financial_2.jpg
END:VEVENT
BEGIN:VEVENT
DTSTART;TZID=America/Chicago:20170718T180000
DTEND;TZID=America/Chicago:20170718T193000
DTSTAMP:20260422T174007
CREATED:20160902T050000Z
LAST-MODIFIED:20201104T180231Z
UID:7204-1500400800-1500406200@cityofirondaleal.gov
SUMMARY:Irondale City Council Meeting
DESCRIPTION:Beginning November 4\, 2020 The Irondale City Council will meet every 1st and 3rd Wednesday of each month. All meetings take place at 6:00 PM in Irondale City Hall. \n 
URL:https://cityofirondaleal.gov/event/irondale-city-council-meeting-45-2016-11-15/
LOCATION:Irondale City Hall\, 101 20th Street South\, Irondale\, AL\, 35210\, United States
ATTACH;FMTTYPE=image/jpeg:https://cityofirondaleal.gov/wp-content/uploads/City-of-Irondale-LOGO11.jpg
END:VEVENT
BEGIN:VEVENT
DTSTART;TZID=America/Chicago:20170509T183000
DTEND;TZID=America/Chicago:20170509T200000
DTSTAMP:20260422T174007
CREATED:20170503T050000Z
LAST-MODIFIED:20170903T005825Z
UID:7742-1494354600-1494360000@cityofirondaleal.gov
SUMMARY:Holiday Gardens Neighborhood Association Meeting
DESCRIPTION:The Holiday Gardens Neighborhood Association meets every second Tuesday of each month at the Irondale Senior Activity Center. The meeting is for residence of Holiday Gardens and the purpose is to discuss community issues\, events and programs. The July meeting will include the election of new officers!
URL:https://cityofirondaleal.gov/event/holiday-gardens-neighborhood-association-meeting-9/
LOCATION:Irondale Senior Activity Center\, 5313 Beacon Drive\, Irondale\, 35210\, United States
ATTACH;FMTTYPE=image/jpeg:https://cityofirondaleal.gov/wp-content/uploads/1977333_691622990879327_604840861552927523_n.jpg
END:VEVENT
BEGIN:VEVENT
DTSTART;TZID=America/Chicago:20170406T180000
DTEND;TZID=America/Chicago:20170406T200000
DTSTAMP:20260422T174007
CREATED:20170214T060000Z
LAST-MODIFIED:20170906T213301Z
UID:7646-1491501600-1491508800@cityofirondaleal.gov
SUMMARY:IPD Citizens Police Academy
DESCRIPTION:The Irondale Police Academy will hold the next Citizens Police Academy April 6 – May 18\, 2017. æThe Citizens Police Academy is an interactive academy for Irondale citizens who want to learn more about law enforcement. Police officers will provide classroom instruction and hands-on demonstrations. \nClass topics include: \n\nRange Day\nActive Shooter Training\nTour Irondale Police Department and Dispatch\nDetective Investigations\nTactical Demonstration\n\nFor more information click the flyer and application below: \n\ncitizenspolice\n\nTo sign up now to reserve a spot contact: \nSgt. Meadows at 205-789-4890 or email: mmeadows@irondalepolice.org
URL:https://cityofirondaleal.gov/event/ipd-citizens-police-academy/
LOCATION:Police Sub Station
ATTACH;FMTTYPE=image/jpeg:https://cityofirondaleal.gov/wp-content/uploads/police1.jpg
END:VEVENT
BEGIN:VEVENT
DTSTART;TZID=America/Chicago:20151212T110000
DTEND;TZID=America/Chicago:20151212T130000
DTSTAMP:20260422T174007
CREATED:20151026T050000Z
LAST-MODIFIED:20151026T050000Z
UID:6928-1449918000-1449925200@cityofirondaleal.gov
SUMMARY:Irondale Christmas Parade
DESCRIPTION:The Greater Irondale Chamber of Commerce is again pleased to present\, on behalf of the City of Irondale\, the 2015 Irondale Christmas Parade and Tree Lighting Ceremony on Saturday\, December 12\, 2015\, at 11:00 AM. \nLine-up is promptly at 10:00 AM at Irondale Community School.åÊ The route is the same as last year (see map to the right). \nAfter the parade makes its way through the residential streets of downtown Irondale\, it ends in front of City Hall\, where we’ll have the Tree Lighting Ceremony at approximately 11:30 AM. \nAt the end of the parade route\, enjoy choral music and SNOW!åÊ The Exchange Club of Irondale will provide cookies and hot chocolate. \nThere is NO entry fee.åÊ Those interested in entering the parade should complete this application and turn it in to the Chamber by Thursday\, December 10 (instructions on the form). \n 
URL:https://cityofirondaleal.gov/event/irondale-christmas-parade-2/
LOCATION:Historic Downtown Irondale\, 1912 1st Avenue South\, Irondale\, AL\, 35210\, United States
ATTACH;FMTTYPE=image/jpeg:https://cityofirondaleal.gov/wp-content/uploads/chambe.jpg
END:VEVENT
BEGIN:VEVENT
DTSTART;TZID=America/Chicago:20161211T150000
DTEND;TZID=America/Chicago:20161211T170000
DTSTAMP:20260422T174007
CREATED:20161203T060000Z
LAST-MODIFIED:20161203T060000Z
UID:7319-1481468400-1481475600@cityofirondaleal.gov
SUMMARY:A Joyful Celebration Choir Concert @ Guiding Light Church
DESCRIPTION:On Sunday\, December 11\, 2016 at 3:00 p.m.\, the Guiding Light Church Fine Arts Ministry will present ÛÏA Joyful CelebrationÛ Choir Concert with special guests: Producer\, Songwriter and Musician Kelvin Wooten; Guitarist Eric Essix; Vocalists Paula Champion and Pastor Jeremy Wallace. \n  \n 
URL:https://cityofirondaleal.gov/event/joyful-celebration-choir-concert-guiding-light-church/
LOCATION:Guiding Light Church\, 1800 John Rogers Dr\, Birmingham\, AL\, 35210\, United States
ATTACH;FMTTYPE=image/jpeg:https://cityofirondaleal.gov/wp-content/uploads/CHOIR-CONCERT-2016-web-and-facebook-banner.jpg
END:VEVENT
BEGIN:VEVENT
DTSTART;TZID=America/Chicago:20151211T100000
DTEND;TZID=America/Chicago:20151211T150000
DTSTAMP:20260422T174008
CREATED:20151114T060000Z
LAST-MODIFIED:20151114T060000Z
UID:6942-1449828000-1449846000@cityofirondaleal.gov
SUMMARY:Irondale Arts Council - Holiday Market Art Show
DESCRIPTION:
URL:https://cityofirondaleal.gov/event/irondale-arts-council-holiday-market-art-show/
LOCATION:Habitat For Humanity\, 7954 Crestwood Boulevard\, Irondale\, AL\, 35210\, United States
ATTACH;FMTTYPE=image/jpeg:https://cityofirondaleal.gov/wp-content/uploads/image1.jpg
END:VEVENT
BEGIN:VEVENT
DTSTART;TZID=America/Chicago:20141211T183000
DTEND;TZID=America/Chicago:20141211T200000
DTSTAMP:20260422T174008
CREATED:20141206T060000Z
LAST-MODIFIED:20141206T060000Z
UID:6713-1418322600-1418328000@cityofirondaleal.gov
SUMMARY:Irondale City Council Agenda Meeting
DESCRIPTION:The Irondale City Council has scheduled a meeting for Thursday\, December 11\, 2014 at åÊ6:30 p.m. to discuss the Tuesday\, December 16\, 2014 council meeting agenda. åÊThis meeting will be held at the Irondale City Hall\, 101 20th Street South\, Irondale\, AL 35210. \n 
URL:https://cityofirondaleal.gov/event/irondale-city-council-agenda-meeting/
LOCATION:CIty Hall\, 101 20th St S\, Irondale\, 35210\, United States
ATTACH;FMTTYPE=image/jpeg:https://cityofirondaleal.gov/wp-content/uploads/City-of-Irondale-LOGO11.jpg
END:VEVENT
BEGIN:VEVENT
DTSTART;TZID=America/Chicago:20161210T110000
DTEND;TZID=America/Chicago:20161210T130000
DTSTAMP:20260422T174008
CREATED:20161018T050000Z
LAST-MODIFIED:20161018T050000Z
UID:7266-1481367600-1481374800@cityofirondaleal.gov
SUMMARY:City of Irondale's Christmas Parade and Christmas Tree Lighting
DESCRIPTION:The Greater Irondale Chamber of Commerce is again pleased to present\, on behalf of the City of Irondale\, the 2016 Irondale Christmas Parade and Tree Lighting Ceremony onåÊSaturday\, December 10\, 2016\, at 11 AM. \nLine-up is promptly at 10:00 AM at Irondale Community School.åÊ The route is the same as last year (see map to the right). \nAfter the parade makes its way through the residential streets of downtown Irondale\, it ends in front of City Hall\, where we’ll have the Tree Lighting Ceremony at approximately 11:30 AM. \n \nAt the end of the parade route\, enjoy choral music and SNOW!åÊ The Exchange Club of Irondale will provide refreshments. \nThere is NO entry fee.åÊ Those interested in entering the parade should complete this applicationåÊand turn it in to the Chamber NO LATER than 4 PM\, Thursday\, December 8 (instructions on the form).
URL:https://cityofirondaleal.gov/event/city-irondales-christmas-parade-christmas-tree-lighting/
LOCATION:Historic Downtown Irondale\, 1912 1st Avenue South\, Irondale\, AL\, 35210\, United States
ATTACH;FMTTYPE=image/jpeg:https://cityofirondaleal.gov/wp-content/uploads/bigstock_Happy_Holidays_Illustration_edit.jpg
END:VEVENT
BEGIN:VEVENT
DTSTART;TZID=America/Chicago:20161210T110000
DTEND;TZID=America/Chicago:20161210T130000
DTSTAMP:20260422T174008
CREATED:20160923T050000Z
LAST-MODIFIED:20160923T050000Z
UID:7224-1481367600-1481374800@cityofirondaleal.gov
SUMMARY:
DESCRIPTION:The Greater Irondale Chamber of Commerce is again pleased to present\, on behalf of the City of Irondale\, the 2016 Irondale Christmas Parade and Tree Lighting Ceremony on Saturday\, December 10\, 2016\, at 11 AM. \nLine-up is promptly at 10:00 AM at Irondale Community School. The route is the same as last year (see map to the right). \nAfter the parade makes its way through the residential streets of downtown Irondale\, it ends in front of City Hall\, where we’ll have the Tree Lighting Ceremony at approximately 11:30 AM. \nAt the end of the parade route\, enjoy choral music and SNOW! The Exchange Club of Irondale will provide refreshments. \nThere is NO entry fee. \nThose interested in entering the parade should complete this application and turn it in to the Chamber NO LATER than 4 PM\, Thursday\, December 8 (instructions on the form).
URL:https://cityofirondaleal.gov/event/4964/
LOCATION:Historic Downtown Irondale\, 1912 1st Avenue South\, Irondale\, AL\, 35210\, United States
END:VEVENT
BEGIN:VEVENT
DTSTART;TZID=America/Chicago:20151210T183000
DTEND;TZID=America/Chicago:20151210T200000
DTSTAMP:20260422T174008
CREATED:20151125T060000Z
LAST-MODIFIED:20151125T060000Z
UID:6950-1449772200-1449777600@cityofirondaleal.gov
SUMMARY:Shades Valley High School - Winter Wonderland
DESCRIPTION:
URL:https://cityofirondaleal.gov/event/shades-valley-high-school-winter-wonderland/
LOCATION:Shades Valley High School\, 6100 Old Leeds Rd\, Irondale\, AL\, 35210\, United States
ATTACH;FMTTYPE=image/jpeg:https://cityofirondaleal.gov/wp-content/uploads/SV-Winter-Wonderland-2015.jpg
END:VEVENT
BEGIN:VEVENT
DTSTART;TZID=America/Chicago:20141210T180000
DTEND;TZID=America/Chicago:20141210T200000
DTSTAMP:20260422T174008
CREATED:20141206T060000Z
LAST-MODIFIED:20141206T060000Z
UID:6717-1418234400-1418241600@cityofirondaleal.gov
SUMMARY:Irondale Downtown Redevelopment Authority Meeting
DESCRIPTION:The Irondale Downtown Redevelopment Authority has scheduled a meeting for Wednesday\, December 10\, 2014 at 6:00 p.m. åÊThis meeting will be held at the Irondale City Hall\, 101 20th Street South\, Irondale\, AL 35210. \n 
URL:https://cityofirondaleal.gov/event/irondale-downtown-redevelopment-authority-meeting/
LOCATION:CIty Hall\, 101 20th St S\, Irondale\, 35210\, United States
ATTACH;FMTTYPE=image/jpeg:https://cityofirondaleal.gov/wp-content/uploads/City-of-Irondale-LOGO11.jpg
END:VEVENT
BEGIN:VEVENT
DTSTART;TZID=America/Chicago:20171209T110000
DTEND;TZID=America/Chicago:20171209T123000
DTSTAMP:20260422T174008
CREATED:20170818T050000Z
LAST-MODIFIED:20170818T050000Z
UID:7898-1512817200-1512822600@cityofirondaleal.gov
SUMMARY:Irondale 2017 Christmas Parade & Tree Lighting
DESCRIPTION:The Greater Irondale Chamber of Commerce is again pleased to present\, on behalf of the City of Irondale\, the 2017 Irondale Christmas Parade and Tree Lighting Ceremony onæSaturday\, December 9\, 2017\, at 11 AM. \nLine-up is promptly at 10:00 AM at Irondale Community School.æ The route is the same as last year (see the map below). \nAfter the parade makes its way through the residential streets of downtown Irondale\, it ends in front of City Hall\, where we’ll have the Tree Lighting Ceremony at approximately 11:30 AM. \nAt the end of the parade route\, enjoy choral music and SNOW!æ The Exchange Club of Irondale will provide refreshments. \nThere is NO entry fee.æ Those interested in entering the parade should completeæthis applicationæand turn it in to the ChamberæNO LATER than 3 PM\, Thursday\, December 7æ(instructions on the form).
URL:https://cityofirondaleal.gov/event/irondale-2017-christmas-parade-tree-lighting/
ATTACH;FMTTYPE=image/png:https://cityofirondaleal.gov/wp-content/uploads/parade-1.png
END:VEVENT
BEGIN:VEVENT
DTSTART;TZID=America/Chicago:20161209T123000
DTEND;TZID=America/Chicago:20161209T133000
DTSTAMP:20260422T174008
CREATED:20161201T060000Z
LAST-MODIFIED:20161201T060000Z
UID:7314-1481286600-1481290200@cityofirondaleal.gov
SUMMARY:Irondale Senior Activity Center - Christmas Caroling With Marti
DESCRIPTION:Join us in some Christmas Caroling Around the Grand Piano at the Irondale Senior Activity Center on Friday\, December 9th\, 12:30. åÊHave a favorite fun song (mine is Grandma Got Run Over By A Reindeer) Or Standard? We can sing it! We will be serving Hot Chocolate!
URL:https://cityofirondaleal.gov/event/irondale-senior-activity-center-christmas-caroling-marti/
LOCATION:Irondale Senior Activity Center\, 5313 Beacon Drive\, Irondale\, 35210\, United States
ATTACH;FMTTYPE=image/jpeg:https://cityofirondaleal.gov/wp-content/uploads/bigstock_Happy_Holidays_Illustration_edit.jpg
END:VEVENT
BEGIN:VEVENT
DTSTART;TZID=America/Chicago:20161209T100000
DTEND;TZID=America/Chicago:20161210T150000
DTSTAMP:20260422T174008
CREATED:20161018T050000Z
LAST-MODIFIED:20161018T050000Z
UID:7259-1481277600-1481382000@cityofirondaleal.gov
SUMMARY:Irondale Arts Council - Two Day Holiday Market
DESCRIPTION:Annual Irondale Arts Council Holiday Market will be take on December 9th and 10th from 10AM to 3PM. åÊThis festive event will take place at the Habitat for Humanity Restore Conference Center. \n 
URL:https://cityofirondaleal.gov/event/iac-holiday-market/
LOCATION:Habitat For Humanity\, 7954 Crestwood Boulevard\, Irondale\, AL\, 35210\, United States
ATTACH;FMTTYPE=image/png:https://cityofirondaleal.gov/wp-content/uploads/arts-e1429043494363.png
END:VEVENT
BEGIN:VEVENT
DTSTART;TZID=America/Chicago:20151209T090000
DTEND;TZID=America/Chicago:20151209T110000
DTSTAMP:20260422T174008
CREATED:20151208T060000Z
LAST-MODIFIED:20151208T060000Z
UID:6960-1449651600-1449658800@cityofirondaleal.gov
SUMMARY:City of Irondale- Economic Development Committee Meeting
DESCRIPTION:The City of Irondale Economic Development Committee has scheduled a meeting for Wednesday\, December 9\, 2015 at 9:00 a.m. The meeting will be held at Irondale City Hall\, 101 20th Street South\, Irondale\, AL 35210.åÊ The meeting will be facilitated by Economic Development Committee Chairman\, Craig Sanderson.åÊ åÊ \n 
URL:https://cityofirondaleal.gov/event/city-of-irondale-economic-development-committee-meeting/
LOCATION:Irondale City Hall\, 101 20th Street South\, Irondale\, AL\, 35210\, United States
ATTACH;FMTTYPE=image/jpeg:https://cityofirondaleal.gov/wp-content/uploads/City-of-Irondale-LOGO.jpg
END:VEVENT
BEGIN:VEVENT
DTSTART;TZID=America/Chicago:20161208T183000
DTEND;TZID=America/Chicago:20161208T200000
DTSTAMP:20260422T174008
CREATED:20161115T060000Z
LAST-MODIFIED:20161115T060000Z
UID:7298-1481221800-1481227200@cityofirondaleal.gov
SUMMARY:Neighborhood Watch Planning Meeting
DESCRIPTION:The Holiday Gardens Neighborhood Association is sponsoring a Neighborhood Watch Planning Meeting on December 8\, 2016 at 6:30PM. åÊThe meeting will take place at the Irondale Police Sub Station in Grants Mill Station. \n 
URL:https://cityofirondaleal.gov/event/neighborhood-watch-planning-meeting/
LOCATION:Police Sub Station
ATTACH;FMTTYPE=image/jpeg:https://cityofirondaleal.gov/wp-content/uploads/1977333_691622990879327_604840861552927523_n.jpg
END:VEVENT
BEGIN:VEVENT
DTSTART;TZID=America/Chicago:20151208T180000
DTEND;TZID=America/Chicago:20151208T190000
DTSTAMP:20260422T174008
CREATED:20151128T060000Z
LAST-MODIFIED:20151128T060000Z
UID:6953-1449597600-1449601200@cityofirondaleal.gov
SUMMARY:Downtown Irondale Neighborhood Association Meeting
DESCRIPTION:The Irondale Downtown Neighborhood Association will hold a meeting on December 8\, 2015 at 6PM.åÊ This meeting will take place at the Irondale Public Library.
URL:https://cityofirondaleal.gov/event/downtown-irondale-neighborhood-association-meeting/
LOCATION:Irondale Public Library\, 105 20th Street South\, Irondale\, AL\, 35210\, United States
ATTACH;FMTTYPE=image/jpeg:https://cityofirondaleal.gov/wp-content/uploads/Irondale_Cafe_Irondale_Alabama-e1403660957395.jpg
END:VEVENT
BEGIN:VEVENT
DTSTART;TZID=America/Chicago:20141208T183000
DTEND;TZID=America/Chicago:20141208T200000
DTSTAMP:20260422T174008
CREATED:20141206T060000Z
LAST-MODIFIED:20141206T060000Z
UID:6715-1418063400-1418068800@cityofirondaleal.gov
SUMMARY:Irondale City Council Finance Committee Meeting
DESCRIPTION:The Irondale City Council Finance Committee has scheduled a meeting for Monday\, December 8\, 2014 at 6:30 p.m. to discuss the 2014-15 Budget. åÊThe meeting will be held at the Irondale City Hall 101 20th Street South\, Irondale AL 35210.
URL:https://cityofirondaleal.gov/event/irondale-city-council-finance-committee-meeting-5/
LOCATION:CIty Hall\, 101 20th St S\, Irondale\, 35210\, United States
ATTACH;FMTTYPE=image/jpeg:https://cityofirondaleal.gov/wp-content/uploads/City-of-Irondale-LOGO11.jpg
END:VEVENT
BEGIN:VEVENT
DTSTART;TZID=America/Chicago:20161207T180000
DTEND;TZID=America/Chicago:20161207T200000
DTSTAMP:20260422T174008
CREATED:20161206T060000Z
LAST-MODIFIED:20161206T060000Z
UID:7322-1481133600-1481140800@cityofirondaleal.gov
SUMMARY:Irondale City Council Work Session
DESCRIPTION:The Irondale City Council has scheduled a work session for Wednesday\, December 7\, 2016 at 6:00 p.m. The work session will be held at the Irondale City Hall 101 20th Street South\, Irondale AL 35210.
URL:https://cityofirondaleal.gov/event/irondale-city-council-work-session-17/
LOCATION:Irondale City Hall\, 101 20th Street South\, Irondale\, AL\, 35210\, United States
ATTACH;FMTTYPE=image/jpeg:https://cityofirondaleal.gov/wp-content/uploads/Meeting.jpg
END:VEVENT
END:VCALENDAR