BEGIN:VCALENDAR
VERSION:2.0
PRODID:-//City of Irondale - ECPv6.0.13.1//NONSGML v1.0//EN
CALSCALE:GREGORIAN
METHOD:PUBLISH
X-WR-CALNAME:City of Irondale
X-ORIGINAL-URL:https://cityofirondaleal.gov
X-WR-CALDESC:Events for City of Irondale
REFRESH-INTERVAL;VALUE=DURATION:PT1H
X-Robots-Tag:noindex
X-PUBLISHED-TTL:PT1H
BEGIN:VTIMEZONE
TZID:America/Chicago
BEGIN:DAYLIGHT
TZOFFSETFROM:-0600
TZOFFSETTO:-0500
TZNAME:CDT
DTSTART:20180311T080000
END:DAYLIGHT
BEGIN:STANDARD
TZOFFSETFROM:-0500
TZOFFSETTO:-0600
TZNAME:CST
DTSTART:20181104T070000
END:STANDARD
END:VTIMEZONE
BEGIN:VEVENT
DTSTART;VALUE=DATE:20181122
DTEND;VALUE=DATE:20181124
DTSTAMP:20260422T060915
CREATED:20181121T222605Z
LAST-MODIFIED:20181121T222605Z
UID:9999-1542844800-1543017599@cityofirondaleal.gov
SUMMARY:City Hall Closed - Thanksgiving
DESCRIPTION:City Hall will be closed on Thursday\, November 22 and Friday\, November 23 in observance of Thanksgiving.
URL:https://cityofirondaleal.gov/event/city-hall-closed-thanksgiving/
LOCATION:Irondale City Hall\, 101 20th Street South\, Irondale\, AL\, 35210\, United States
END:VEVENT
BEGIN:VEVENT
DTSTART;TZID=America/Chicago:20181119T173000
DTEND;TZID=America/Chicago:20181119T193000
DTSTAMP:20260422T060915
CREATED:20181114T180211Z
LAST-MODIFIED:20181114T180211Z
UID:9986-1542648600-1542655800@cityofirondaleal.gov
SUMMARY:Greater Irondale Chamber of Commerce Brews and Bingo
DESCRIPTION:The Greater Irondale Chamber of Commerce will host a Brews and Bingo fundraiser at Marty’s GM on Monday\, November 19th from 5:30pm to 7:30pm. \n$20 (required admission) includes one beverage (beer\, wine\, soda) and one Bingo card\n$10 (optional) buys an additional pack of 5 cards (maximum of 6 cards per player)\nCards are good for all games and there is a prize for every Bingo! \n  \nTo Register please follow the link https://irondalecoc.com/events/2018/11/7456/
URL:https://cityofirondaleal.gov/event/greater-irondale-chamber-of-commerce-brews-and-bingo/
LOCATION:Marty’s GM\, 5415 Beacon Drive\, Irondale\, AL\, 35210\, United States
END:VEVENT
BEGIN:VEVENT
DTSTART;TZID=America/Chicago:20181115T173000
DTEND;TZID=America/Chicago:20181115T193000
DTSTAMP:20260422T060915
CREATED:20181114T175749Z
LAST-MODIFIED:20181114T175749Z
UID:9984-1542303000-1542310200@cityofirondaleal.gov
SUMMARY:City Council Work Session
DESCRIPTION:The Irondale City Council will hold a work session to discuss Parks on Thursday\, November 15th at 5:30pm in the Council Chambers.
URL:https://cityofirondaleal.gov/event/city-council-work-session-5/
LOCATION:Irondale City Hall\, 101 20th Street South\, Irondale\, AL\, 35210\, United States
END:VEVENT
BEGIN:VEVENT
DTSTART;TZID=America/Chicago:20181112T083000
DTEND;TZID=America/Chicago:20181112T100000
DTSTAMP:20260422T060915
CREATED:20181016T184532Z
LAST-MODIFIED:20181016T184532Z
UID:9898-1542011400-1542016800@cityofirondaleal.gov
SUMMARY:Veteran's Day Breakfast
DESCRIPTION:The 16th annual ONE NATION UNDER GOD Veterans Day Breakfast will be held this year at St. Martins in the Pines Arbors Apartments Dining room on Monday\, November the 12th (Veterans Day Observed) at 8:30 am to 10:00 am.  Our speaker will be veteran Jack McNair\, with ESGR and there will be entertainment.  All veterans will eat free.  Guests will be asked for $5 each.
URL:https://cityofirondaleal.gov/event/veterans-day-breakfast/
LOCATION:St. Martin’s in the Pines\, 4941 Montevallo Rd.\, Birmingham\, AL\, 35210\, United States
END:VEVENT
BEGIN:VEVENT
DTSTART;TZID=America/Chicago:20181031T170000
DTEND;TZID=America/Chicago:20181031T190000
DTSTAMP:20260422T060915
CREATED:20181016T185734Z
LAST-MODIFIED:20181016T185901Z
UID:9900-1541005200-1541012400@cityofirondaleal.gov
SUMMARY:2nd Annual Trunk or Treat
DESCRIPTION:Please join the City Departments\, organizations and residents for a Trunk or Treat event on Wednesday\, October 31st from 5pm to 7pm in front of City Hall. There will be hotdogs\, music and plenty of candy at this Family and Dog Friendly Event.
URL:https://cityofirondaleal.gov/event/2nd-annual-trunk-or-treat/
LOCATION:Irondale City Hall\, 101 20th Street South\, Irondale\, AL\, 35210\, United States
END:VEVENT
BEGIN:VEVENT
DTSTART;TZID=America/Chicago:20181030T170000
DTEND;TZID=America/Chicago:20181030T190000
DTSTAMP:20260422T060915
CREATED:20181016T184308Z
LAST-MODIFIED:20181016T184308Z
UID:9896-1540918800-1540926000@cityofirondaleal.gov
SUMMARY:Exchange Club Fundraiser
DESCRIPTION:The Exchange Club will host a fund raiser on October 30th from 5pm to7pm. There will be a Chili and Potato\, etc. meal and silent auction at the Irondale Senior Activities Center\, 5313 Beacon Dr.\, Irondale.      $9\, all you can eat\, meal tickets are available from Exchange members or at the door.  For more info call 205-956-5980 or email exchangeclubofirondale@gmail.com.
URL:https://cityofirondaleal.gov/event/exchange-club-fundraiser/
LOCATION:Irondale Senior Activity Center\, 5313 Beacon Drive\, Irondale\, 35210\, United States
END:VEVENT
BEGIN:VEVENT
DTSTART;TZID=America/Chicago:20181003T183000
DTEND;TZID=America/Chicago:20181003T193000
DTSTAMP:20260422T060915
CREATED:20180924T204823Z
LAST-MODIFIED:20180924T204823Z
UID:9848-1538591400-1538595000@cityofirondaleal.gov
SUMMARY:Irondale City Council Meeting
DESCRIPTION:The Irondale City Council meets  at 6:30 PM in Irondale City Hall. Pre-Council meeting is at 5:30pm.
URL:https://cityofirondaleal.gov/event/irondale-city-council-meeting-48/
LOCATION:Irondale City Hall\, 101 20th Street South\, Irondale\, AL\, 35210\, United States
END:VEVENT
BEGIN:VEVENT
DTSTART;TZID=America/Chicago:20181003T180000
DTEND;TZID=America/Chicago:20181003T183000
DTSTAMP:20260422T060915
CREATED:20180924T211942Z
LAST-MODIFIED:20191203T154925Z
UID:9851-1538589600-1538591400@cityofirondaleal.gov
SUMMARY:Pre-Council Meeting
DESCRIPTION:The City Council meets at 6:00pm prior to council meetings to discuss agenda items.
URL:https://cityofirondaleal.gov/event/pre-council-meeting/
LOCATION:Irondale City Hall\, 101 20th Street South\, Irondale\, AL\, 35210\, United States
END:VEVENT
BEGIN:VEVENT
DTSTART;TZID=America/Chicago:20181002T180000
DTEND;TZID=America/Chicago:20181002T200000
DTSTAMP:20260422T060915
CREATED:20180918T235332Z
LAST-MODIFIED:20180924T204312Z
UID:9836-1538503200-1538510400@cityofirondaleal.gov
SUMMARY:National Night Out
DESCRIPTION:
URL:https://cityofirondaleal.gov/event/national-night-out-2/
LOCATION:Historic Downtown Irondale\, 1912 1st Avenue South\, Irondale\, AL\, 35210\, United States
END:VEVENT
BEGIN:VEVENT
DTSTART;TZID=America/Chicago:20180929T090000
DTEND;TZID=America/Chicago:20180929T170000
DTSTAMP:20260422T060915
CREATED:20180924T204420Z
LAST-MODIFIED:20180924T204420Z
UID:9844-1538211600-1538240400@cityofirondaleal.gov
SUMMARY:Celebrate Irondale
DESCRIPTION:
URL:https://cityofirondaleal.gov/event/celebrate-irondale/
LOCATION:Historic Downtown Irondale\, 1912 1st Avenue South\, Irondale\, AL\, 35210\, United States
END:VEVENT
BEGIN:VEVENT
DTSTART;TZID=America/Chicago:20180911T090000
DTEND;TZID=America/Chicago:20180911T100000
DTSTAMP:20260422T060915
CREATED:20180822T001414Z
LAST-MODIFIED:20180822T001414Z
UID:9010-1536656400-1536660000@cityofirondaleal.gov
SUMMARY:9/11 Rememberance Ceremony
DESCRIPTION:The Greater Irondale Chamber of Commerce will host a rememberance ceremony for the events of 9/11. In addition it is a celebration and appreciation of our first responders.
URL:https://cityofirondaleal.gov/event/9-11-rememberance-ceremony/
LOCATION:Irondale City Hall\, 101 20th Street South\, Irondale\, AL\, 35210\, United States
END:VEVENT
BEGIN:VEVENT
DTSTART;TZID=America/Chicago:20180820T173000
DTEND;TZID=America/Chicago:20180820T193000
DTSTAMP:20260422T060915
CREATED:20180816T210705Z
LAST-MODIFIED:20180816T210807Z
UID:8969-1534786200-1534793400@cityofirondaleal.gov
SUMMARY:Brews and Bingo - Irondale Chamber Fundraiser
DESCRIPTION:https://irondalecoc.com/events/2018/08/brews-and-bingo-fundraiser/
URL:https://cityofirondaleal.gov/event/brews-and-bingo-irondale-chamber-fundraiser/
LOCATION:Marty’s GM\, 5415 Beacon Drive\, Irondale\, AL\, 35210\, United States
END:VEVENT
BEGIN:VEVENT
DTSTART;TZID=America/Chicago:20180816T180000
DTEND;TZID=America/Chicago:20180816T193000
DTSTAMP:20260422T060915
CREATED:20180710T212632Z
LAST-MODIFIED:20180710T212632Z
UID:8913-1534442400-1534447800@cityofirondaleal.gov
SUMMARY:Mayor's Town Hall Meeting
DESCRIPTION:On August 16th at 6pm the Mayor will have his 5th Town Hall Meeting in the Council Chambers. These meetings are typically an open forum to address questions from residents.
URL:https://cityofirondaleal.gov/event/mayors-town-hall-meeting/
LOCATION:Irondale City Hall\, 101 20th Street South\, Irondale\, AL\, 35210\, United States
END:VEVENT
BEGIN:VEVENT
DTSTART;TZID=America/Chicago:20180814T173000
DTEND;TZID=America/Chicago:20180814T190000
DTSTAMP:20260422T060915
CREATED:20180816T214456Z
LAST-MODIFIED:20180816T215014Z
UID:8999-1534267800-1534273200@cityofirondaleal.gov
SUMMARY:Exchange Club of Irondale Meetings
DESCRIPTION:Exchange is a group of men and women serving greater Irondale through projects of Community Service\, Americanism\, Youth and the Prevention of Child Abuse. We meet on the 2nd and 4th Tuesdays\, 5:30 PM Dinner at the ReStore (meeting room) near Dance N Things; 7952 Crestwood Blvd.; Irondale\, AL 35210 and have a HAPPY HOUR on the 5th Tuesday in each quarter. Fun\, Friendship and Fulfilment are the cornerstones of our efforts.
URL:https://cityofirondaleal.gov/event/exchange-club-of-irondale-meetings/
LOCATION:Habitat for Humanity Workshop Center\, 7954 Crestwood Blvd\, Irodale\, AL\, 35210\, United States
END:VEVENT
BEGIN:VEVENT
DTSTART;TZID=America/Chicago:20180809T113000
DTEND;TZID=America/Chicago:20180809T130000
DTSTAMP:20260422T060915
CREATED:20180816T210328Z
LAST-MODIFIED:20180816T210856Z
UID:8954-1533814200-1533819600@cityofirondaleal.gov
SUMMARY:Greater Irondale Chamber of Commerce Luncheon
DESCRIPTION:Greater Irondale Chamber of Commerce membership luncheons are held the second Thursday of each month (except June and December) at Irondale’s own Pine Tree Country Club. Doors open at 11:30 AM with networking and brief announcements followed by a buffet luncheon at approximately Noon. The speaker is announced at approximately 12:20 PM\, and dismissal is promptly at 1:00 PM. \nThe Chamber schedules relevant speakers who address current issues affecting business\, city\, state\, and the community. Join us for great food\, discussion\, and networking.​ \nReservations are requested via the link in the event on our calendar. You may also email or call (205-956-3104) with your reservation. Admission is $20 for members and $25 for non-members. We accept prepayment with your reservation or most forms of payment at the door (sorry\, not AmEx). \nEach Chamber luncheon is carefully planned to serve our members – with maximum networking\, delicious lunch\, informative speaker – and to dismiss on time. \nChamber members who have announcements or promotional material to share are welcome to bring items for our front table. If you wish to sponsor a luncheon\, contact Tellis. The best opportunity to get your news to the largest audience is to email it to Lynda by Friday of each week for the next week’s edition of the e-newsletter!
URL:https://cityofirondaleal.gov/event/greater-irondale-chamber-of-commerce-luncheon-3/
LOCATION:Pine Tree Country Club\, 5100 Whispers Dr.;\, AL 35210\, Irondale\, AL\, 35210\, United States
END:VEVENT
BEGIN:VEVENT
DTSTART;TZID=America/Chicago:20180726T183000
DTEND;TZID=America/Chicago:20180726T190000
DTSTAMP:20260422T060915
CREATED:20180718T190931Z
LAST-MODIFIED:20180718T190931Z
UID:8918-1532629800-1532631600@cityofirondaleal.gov
SUMMARY:Planning and Zoning Board
DESCRIPTION:This board has a scheduled meeting for the last Thursday of every month. The planning and zoning board will not meet if they have no business to conduct and sometimes call special meetings if needed. \nPlease check the City Hall bulletin board for confirmation of monthly meetings and notification of any special called meeting.
URL:https://cityofirondaleal.gov/event/planning-and-zoning-board/
LOCATION:Irondale City Hall\, 101 20th Street South\, Irondale\, AL\, 35210\, United States
END:VEVENT
BEGIN:VEVENT
DTSTART;TZID=America/Chicago:20180719T183000
DTEND;TZID=America/Chicago:20180719T200000
DTSTAMP:20260422T060915
CREATED:20160902T050000Z
LAST-MODIFIED:20180627T180605Z
UID:8769-1532025000-1532030400@cityofirondaleal.gov
SUMMARY:Irondale City Council Meeting
DESCRIPTION:The Irondale City Council typically meets every 1st and 3rd Tuesday of each month. All meetings take place at 6:30 PM in Irondale City Hall. \nA pre-council meeting to discuss agenda items takes place at 6PM. These and all Irondale City Council meetings are open to the public.
URL:https://cityofirondaleal.gov/event/irondale-city-council-meeting-45-2016-11-15-2018-07-17/
LOCATION:Irondale City Hall\, 101 20th Street South\, Irondale\, AL\, 35210\, United States
ATTACH;FMTTYPE=image/jpeg:https://cityofirondaleal.gov/wp-content/uploads/City-of-Irondale-LOGO11.jpg
END:VEVENT
BEGIN:VEVENT
DTSTART;TZID=America/Chicago:20180710T183000
DTEND;TZID=America/Chicago:20180710T193000
DTSTAMP:20260422T060915
CREATED:20180709T192711Z
LAST-MODIFIED:20180709T192711Z
UID:8897-1531247400-1531251000@cityofirondaleal.gov
SUMMARY:Holiday Gardens Neighborhood Association Meeting
DESCRIPTION:The Holiday Gardens Neighborhood Association Meeting is typically held the 2nd Tuesday of the month at the Irondale Senior Activity Center.
URL:https://cityofirondaleal.gov/event/holiday-gardens-neighborhood-association-meeting-12/
LOCATION:Irondale Senior Activity Center\, 5313 Beacon Drive\, Irondale\, 35210\, United States
END:VEVENT
BEGIN:VEVENT
DTSTART;TZID=America/Chicago:20180710T173000
DTEND;TZID=America/Chicago:20180710T183000
DTSTAMP:20260422T060915
CREATED:20180709T192905Z
LAST-MODIFIED:20180709T192905Z
UID:8907-1531243800-1531247400@cityofirondaleal.gov
SUMMARY:Parks Committee Meeting
DESCRIPTION:Councilman John London has called a Parks Committee Meeting for Tuesday\, July 10th at 5:30pm.
URL:https://cityofirondaleal.gov/event/parks-committee-meeting/
LOCATION:Irondale City Hall\, 101 20th Street South\, Irondale\, AL\, 35210\, United States
END:VEVENT
BEGIN:VEVENT
DTSTART;TZID=America/Chicago:20180529T180000
DTEND;TZID=America/Chicago:20180529T190000
DTSTAMP:20260422T060915
CREATED:20180518T211740Z
LAST-MODIFIED:20180518T211740Z
UID:8619-1527616800-1527620400@cityofirondaleal.gov
SUMMARY:Special Called Council Meeting
DESCRIPTION:There will be a special called Council Meeting on May 29th at 6pm. They will consider an incentive proposal from Motion Industries and there will be a public hearing about the occupational tax.
URL:https://cityofirondaleal.gov/event/special-called-council-meeting/
LOCATION:Irondale City Hall\, 101 20th Street South\, Irondale\, AL\, 35210\, United States
END:VEVENT
BEGIN:VEVENT
DTSTART;TZID=America/Chicago:20180524T170000
DTEND;TZID=America/Chicago:20180524T190000
DTSTAMP:20260422T060915
CREATED:20180501T235433Z
LAST-MODIFIED:20180501T235433Z
UID:8595-1527181200-1527188400@cityofirondaleal.gov
SUMMARY:At Work Staffing Ribbon Cutting
DESCRIPTION:The Greater Irondale Chamber of Commerce will host a ribbon cutting for AtWork Staffing on May 24th from 5:00pm to 7:00pm.
URL:https://cityofirondaleal.gov/event/at-work-staffing-ribbon-cutting/
LOCATION:AtWork Staffing\, 5415 Beacon Dr suite 163\, Irondale\, 35210\, United States
END:VEVENT
BEGIN:VEVENT
DTSTART;TZID=America/Chicago:20180508T183000
DTEND;TZID=America/Chicago:20180508T193000
DTSTAMP:20260422T060915
CREATED:20180501T234940Z
LAST-MODIFIED:20180501T234940Z
UID:8591-1525804200-1525807800@cityofirondaleal.gov
SUMMARY:Holiday Gardens Neighborhood Association Meeting
DESCRIPTION:The Holiday Gardens Neighborhood Association meets on the 2nd Tuesday of every month to discuss events in the neighborhood.
URL:https://cityofirondaleal.gov/event/holiday-gardens-neighborhood-association-meeting-11/
END:VEVENT
BEGIN:VEVENT
DTSTART;TZID=America/Chicago:20180424T173000
DTEND;TZID=America/Chicago:20180424T190000
DTSTAMP:20260422T060915
CREATED:20180411T204740Z
LAST-MODIFIED:20180411T204740Z
UID:8430-1524591000-1524596400@cityofirondaleal.gov
SUMMARY:Exchange Club Dinner
DESCRIPTION:The Irondale Exchange Club hosts a dinner meeting at the Habitat for Humanity ReStore on the 4th Tuesday of every month. Dinner begins at 5:30pm. For additional information please contact Joyce Franklin at joyce35210@gmail.com.
URL:https://cityofirondaleal.gov/event/exchange-club-dinner/
LOCATION:Habitat For Humanity\, 7954 Crestwood Boulevard\, Irondale\, AL\, 35210\, United States
END:VEVENT
BEGIN:VEVENT
DTSTART;TZID=America/Chicago:20180422T140000
DTEND;TZID=America/Chicago:20180422T150000
DTSTAMP:20260422T060915
CREATED:20180420T143623Z
LAST-MODIFIED:20180420T143623Z
UID:8567-1524405600-1524409200@cityofirondaleal.gov
SUMMARY:Student Art Contest Awards Ceremony
DESCRIPTION:Please join the Irondale Arts Council for the presentation of awards for the Student Art Contest at the Irondale Public Library from 2pm -3pm on Sunday\, April 22nd.
URL:https://cityofirondaleal.gov/event/student-art-contest-awards-ceremony/
LOCATION:Irondale Public Library\, 105 20th Street South\, Irondale\, AL\, 35210\, United States
END:VEVENT
BEGIN:VEVENT
DTSTART;TZID=America/Chicago:20180419T180000
DTEND;TZID=America/Chicago:20180419T193000
DTSTAMP:20260422T060915
CREATED:20180326T211548Z
LAST-MODIFIED:20180326T211548Z
UID:8345-1524160800-1524166200@cityofirondaleal.gov
SUMMARY:Citizen's Police Academy
DESCRIPTION:The Irondale Citizen Police Academy is a great way to learn more about your Irondale Police Department and meet some of the officers that are serving and protecting everyday. Our Spring session is now open for enrollment. We are looking forward to meeting another great group of citizens. \nTo reserve a spot call Sgt. Meadows at 205.789.4890 or email mmeadows@irondalepolice.org \n 
URL:https://cityofirondaleal.gov/event/citizens-police-academy/
LOCATION:Police Sub Station
END:VEVENT
BEGIN:VEVENT
DTSTART;TZID=America/Chicago:20180416T173000
DTEND;TZID=America/Chicago:20180416T183000
DTSTAMP:20260422T060915
CREATED:20180411T215208Z
LAST-MODIFIED:20180411T215208Z
UID:8450-1523899800-1523903400@cityofirondaleal.gov
SUMMARY:City Council Work Session
DESCRIPTION:The Irondale City Council will hold a work session on Monday\, April 16\, 2018 at 5:30pm to discuss agenda items for the April 17th meeting.
URL:https://cityofirondaleal.gov/event/city-council-work-session-4/
LOCATION:Irondale City Hall\, 101 20th Street South\, Irondale\, AL\, 35210\, United States
END:VEVENT
BEGIN:VEVENT
DTSTART;TZID=America/Chicago:20180412T113000
DTEND;TZID=America/Chicago:20180412T130000
DTSTAMP:20260422T060915
CREATED:20180411T205142Z
LAST-MODIFIED:20180411T205142Z
UID:8433-1523532600-1523538000@cityofirondaleal.gov
SUMMARY:Greater Irondale Chamber of Commerce Luncheon
DESCRIPTION:The Greater Irondale Chamber of Commerce hosts a luncheon on the 2nd Thursday of every month at Pine Tree Country Club.\n\n\nAdmission is $20 for GICC members\, $25 for non-members\, and we accept cash\, check\, or debit/credit card (sorry\, not AmEx). Please RSVP no later than noon on the Wednesday prior to the meeting by responding to our invitation email or by emailing Lynda directly.
URL:https://cityofirondaleal.gov/event/greater-irondale-chamber-of-commerce-luncheon-2/
LOCATION:Pine Tree Country Club\, 5100 Whispers Dr.;\, AL 35210\, Irondale\, AL\, 35210\, United States
END:VEVENT
BEGIN:VEVENT
DTSTART;TZID=America/Chicago:20180410T183000
DTEND;TZID=America/Chicago:20180410T200000
DTSTAMP:20260422T060915
CREATED:20180326T211007Z
LAST-MODIFIED:20180326T211007Z
UID:8341-1523385000-1523390400@cityofirondaleal.gov
SUMMARY:Holiday Gardens Neighborhood Association Meeting
DESCRIPTION:The Holiday Gardens Neighborhood Association meets every second Tuesday of each month at the Irondale Senior Activity Center. The meeting is for residence of Holiday Gardens and the purpose is to discuss community issues\, events and programs.
URL:https://cityofirondaleal.gov/event/holiday-gardens-neighborhood-association-meeting-10/
LOCATION:Irondale Senior Activity Center\, 5313 Beacon Drive\, Irondale\, 35210\, United States
END:VEVENT
BEGIN:VEVENT
DTSTART;TZID=America/Chicago:20180410T113000
DTEND;TZID=America/Chicago:20180410T130000
DTSTAMP:20260422T060915
CREATED:20180411T204350Z
LAST-MODIFIED:20180411T204350Z
UID:8428-1523359800-1523365200@cityofirondaleal.gov
SUMMARY:Exchange Club Luncheon
DESCRIPTION:The Exchange Club of Irondale luncheon is located at the Habitat for Humanity Workshop Center on the 2nd Tuesday of every month at 11:30am. Please contact Joyce Franklin at joyce35210@gmail.com for more details.
URL:https://cityofirondaleal.gov/event/exchange-club-luncheon-3/
LOCATION:Habitat For Humanity\, 7954 Crestwood Boulevard\, Irondale\, AL\, 35210\, United States
END:VEVENT
BEGIN:VEVENT
DTSTART;TZID=America/Chicago:20180303T133000
DTEND;TZID=America/Chicago:20180303T160000
DTSTAMP:20260422T060915
CREATED:20180326T212207Z
LAST-MODIFIED:20180326T212207Z
UID:8353-1520083800-1520092800@cityofirondaleal.gov
SUMMARY:CERT Training
DESCRIPTION:Community Emergency Response Team Training
URL:https://cityofirondaleal.gov/event/cert-training/
LOCATION:Iron Beach Gym\, 1729 Crestwood Blvd.\, Irondale\, AL\, 35210\, United States
END:VEVENT
END:VCALENDAR