BEGIN:VCALENDAR
VERSION:2.0
PRODID:-//City of Irondale - ECPv6.0.13.1//NONSGML v1.0//EN
CALSCALE:GREGORIAN
METHOD:PUBLISH
X-WR-CALNAME:City of Irondale
X-ORIGINAL-URL:https://cityofirondaleal.gov
X-WR-CALDESC:Events for City of Irondale
REFRESH-INTERVAL;VALUE=DURATION:PT1H
X-Robots-Tag:noindex
X-PUBLISHED-TTL:PT1H
BEGIN:VTIMEZONE
TZID:America/Chicago
BEGIN:DAYLIGHT
TZOFFSETFROM:-0600
TZOFFSETTO:-0500
TZNAME:CDT
DTSTART:20180311T080000
END:DAYLIGHT
BEGIN:STANDARD
TZOFFSETFROM:-0500
TZOFFSETTO:-0600
TZNAME:CST
DTSTART:20181104T070000
END:STANDARD
BEGIN:DAYLIGHT
TZOFFSETFROM:-0600
TZOFFSETTO:-0500
TZNAME:CDT
DTSTART:20190310T080000
END:DAYLIGHT
BEGIN:STANDARD
TZOFFSETFROM:-0500
TZOFFSETTO:-0600
TZNAME:CST
DTSTART:20191103T070000
END:STANDARD
END:VTIMEZONE
BEGIN:VEVENT
DTSTART;TZID=America/Chicago:20190924T180000
DTEND;TZID=America/Chicago:20190924T193000
DTSTAMP:20260422T003948
CREATED:20190912T222637Z
LAST-MODIFIED:20190912T222658Z
UID:10366-1569348000-1569353400@cityofirondaleal.gov
SUMMARY:Irondale City Pre Council and Council Meeting
DESCRIPTION:The Irondale City Council meets every 1st and 3rd Tuesday of each month. All meetings take place at 6:00 PM in Irondale City Hall.
URL:https://cityofirondaleal.gov/event/irondale-city-pre-council-and-council-meeting/
LOCATION:Irondale City Hall\, 101 20th Street South\, Irondale\, AL\, 35210\, United States
END:VEVENT
BEGIN:VEVENT
DTSTART;TZID=America/Chicago:20190912T180000
DTEND;TZID=America/Chicago:20190912T190000
DTSTAMP:20260422T003948
CREATED:20190912T221155Z
LAST-MODIFIED:20190912T221243Z
UID:10359-1568311200-1568314800@cityofirondaleal.gov
SUMMARY:Finance Committee Meeting
DESCRIPTION:The finance committee will meet to discuss a draft of the budget.
URL:https://cityofirondaleal.gov/event/finance-committee-meeting/
LOCATION:Irondale City Hall\, 101 20th Street South\, Irondale\, AL\, 35210\, United States
END:VEVENT
BEGIN:VEVENT
DTSTART;TZID=America/Chicago:20190827T180000
DTEND;TZID=America/Chicago:20190827T190000
DTSTAMP:20260422T003948
CREATED:20190823T014722Z
LAST-MODIFIED:20190823T014731Z
UID:10343-1566928800-1566932400@cityofirondaleal.gov
SUMMARY:Council Work Session
DESCRIPTION:There will be a council work session on Tuesday\, August 27th at 6pm. The topic will be the Mayor’s proposal to reduce the Mayor’s salary by 50%. \nOrdinance 2019-10
URL:https://cityofirondaleal.gov/event/council-work-session-2/
LOCATION:Irondale City Hall\, 101 20th Street South\, Irondale\, AL\, 35210\, United States
END:VEVENT
BEGIN:VEVENT
DTSTART;TZID=America/Chicago:20190808T180000
DTEND;TZID=America/Chicago:20190808T193000
DTSTAMP:20260422T003948
CREATED:20190718T152053Z
LAST-MODIFIED:20190718T152053Z
UID:10295-1565287200-1565292600@cityofirondaleal.gov
SUMMARY:Town Hall Meeting
DESCRIPTION:The Mayor will host another Town Hall Meeting on Thursday\, August 8th from 6pm to 7:30pm in the Council Chambers. The proposal for the reduction in Mayor’s salary will be discussed and there will be an open forum for questions.
URL:https://cityofirondaleal.gov/event/town-hall-meeting-3/
LOCATION:Irondale City Hall\, 101 20th Street South\, Irondale\, AL\, 35210\, United States
END:VEVENT
BEGIN:VEVENT
DTSTART;TZID=America/Chicago:20190727T120000
DTEND;TZID=America/Chicago:20190727T170000
DTSTAMP:20260422T003948
CREATED:20190718T151823Z
LAST-MODIFIED:20190718T151823Z
UID:10291-1564228800-1564246800@cityofirondaleal.gov
SUMMARY:Back to School Supply Giveaway
DESCRIPTION:
URL:https://cityofirondaleal.gov/event/back-to-school-supply-giveaway/
LOCATION:Beacon Park\, Irondale\, AL\, United States
END:VEVENT
BEGIN:VEVENT
DTSTART;TZID=America/Chicago:20190727T100000
DTEND;TZID=America/Chicago:20190727T150000
DTSTAMP:20260422T003948
CREATED:20190718T151358Z
LAST-MODIFIED:20190718T151358Z
UID:10286-1564221600-1564239600@cityofirondaleal.gov
SUMMARY:Studio By The Tracks - Studio Store Grand Opening
DESCRIPTION:Studio By The Tracks to Host Community Event to Celebrate the Opening of the Studio Store in Irondale\n\nWho:  Studio By the Tracks is a nonprofit organization serving adult artists with autism spectrum disorders\, providing a social network and career path that enriches their artists’ lives.\nWhat:  The Grand Opening of the Studio Store\, Studio By The Tracks’ gallery and retail store\, where you can purchase original works of art and merchandise designed by Studio By The Tracks artists. This is a free event with live acoustic music\, arts activities for all ages\, and complementary food and drink.\nWhen:  Saturday July 27th\, 2019 from 10am-3pm\nWhere:  Studio By the Tracks is located at 301 20th St S in Irondale\, Alabama (35210)\n\n\n\nStudio By The Tracks is celebrating the grand opening of their year-around retail gallery at their historic downtown Irondale location with a family-friendly community event on Saturday July 27th from 10am to 3pm. Festivities will include art activities for all ages\, live music\, a summer treats food truck\, and the studio will be providing complementary beer\, wine\, lemonade\, water and snacks. The Studio Store\, which officially opens on Wednesday July 10th for regular hours (Wednesdays through Saturdays from 10am to 3pm)\, features original artwork and merchandise like socks\, tees\, mugs\, aprons\, and more\, all designed by Studio By The Tracks artists. Purchases from the Studio Store put money in the pockets of Studio By the Tracks’ artists\, who receive 60% of all sales of their works. (The remaining 40% goes back into the organization\, continuing their mission.)\n\n\n\nStudio By The Tracks supports adult artists with autism spectrum disorders with art studio space\, supplies\, representation\, and supplemental income via commissions from sales of their artwork. The organization also partners with Glenwood of Birmingham to serve children with behavioral or emotional disorders with weekly art education classes. The staff and volunteers work with their artists to use self expression through visual arts as a means of processing emotions\, relieving stress\, engaging in social relationships\, and building confidence. For more information about this organization\, please visit studiobythetracks.org or follow Studio By The Tracks on Facebook or Instagram. Email inquiries can be sent to at info@studiobythetracks.org.
URL:https://cityofirondaleal.gov/event/studio-by-the-tracks-studio-store-grand-opening/
LOCATION:Studio By The Tracks\, 301 20th Street\, Irondale\, 35210\, United States
END:VEVENT
BEGIN:VEVENT
DTSTART;TZID=America/Chicago:20190713T080000
DTEND;TZID=America/Chicago:20190713T150000
DTSTAMP:20260422T003948
CREATED:20190710T154958Z
LAST-MODIFIED:20190710T154958Z
UID:10281-1563004800-1563030000@cityofirondaleal.gov
SUMMARY:Holiday Gardens Community Yard Sale and Family Funday
DESCRIPTION:The Holiday Gardens Neighborhood Association will have a community yard sale and family fun day on Saturday\, July 13th at Beacon Park. The Yard Sale begins at 8am and the Family Fun Day is from 12pm to 3pm.
URL:https://cityofirondaleal.gov/event/holiday-gardens-community-yard-sale-and-family-funday/
LOCATION:Beacon Park\, Irondale\, AL\, United States
END:VEVENT
BEGIN:VEVENT
DTSTART;TZID=America/Chicago:20190608T080000
DTEND;TZID=America/Chicago:20190608T140000
DTSTAMP:20260422T003948
CREATED:20190603T121951Z
LAST-MODIFIED:20190603T121951Z
UID:10184-1559980800-1560002400@cityofirondaleal.gov
SUMMARY:Big Cahaba Cleanup
DESCRIPTION:What:\n\n\n\nThe largest 1-day Cahaba River Cleanup will cover up to 50 miles of the Cahaba River – Alabama’s longest remaining free-flowing river and the “biological heart” of American’s Amazon. \n\n\n\nWhy:\n\n\n\nTo restore natural beauty and reduce pollution of this iconic river (and a primary source of Birmingham’s drinking water) while educating the public about reducing litter and encouraging recycling. \n\n\n\nWhen:\n\n\n\nSaturday\, June 8\, 2019. Saturday\, June 8\, 2019. River Team Registration begins at 8 am at predetermined locations. \nFor More Info visit https://cahabariversociety.org/event/big-cahaba-clean-up/ \n  \n 
URL:https://cityofirondaleal.gov/event/big-cahaba-cleanup/
LOCATION:Grants Mill Cahaba Landing\, 2171 Grants Mill Road\, Irondale\, AL\, 35210\, United States
END:VEVENT
BEGIN:VEVENT
DTSTART;TZID=America/Chicago:20190528T180000
DTEND;TZID=America/Chicago:20190528T200000
DTSTAMP:20260422T003948
CREATED:20190514T170807Z
LAST-MODIFIED:20190514T170807Z
UID:10179-1559066400-1559073600@cityofirondaleal.gov
SUMMARY:Book of Golden Deeds Award Exchange Club
DESCRIPTION:Please join the Exchange Club of Irondale in Honoring \nMayor A. Allen Ramsey \nWith the Book of Golden Deeds Award \n  \nDATE:           TUESDAY\, MAY 28\, 2019 \nTIME:             6:00 PM DINNER AND RECEPTION \nVENUE:        IRONDALE UNITED METHODIST CHURCH \nFELLOWSHIP HALL \n400 DEERING STREET \nIRONDALE\, ALABAMA 35210 \nR.S.V.P.:        by 5-24-19 to LINDA SCHOEN 205-956-5875 \nFEE:               $10.00 FOR MEAL \n 
URL:https://cityofirondaleal.gov/event/book-of-golden-deeds-award-exchange-club/
LOCATION:Irondale United Methodist Church\, 400 Deering St\, Irondale\, AL\, 35210\, United States
END:VEVENT
BEGIN:VEVENT
DTSTART;TZID=America/Chicago:20190518T180000
DTEND;TZID=America/Chicago:20190518T200000
DTSTAMP:20260422T003948
CREATED:20190514T170305Z
LAST-MODIFIED:20190514T170305Z
UID:10177-1558202400-1558209600@cityofirondaleal.gov
SUMMARY:Jefferson County Memorial Project Event
DESCRIPTION:Please join us at the Irondale public library on Saturday\, May 18th at 6pm for the Irondale Committee’s first community engagement meeting. We will have a discussion about our proposed historical marker in Irondale to memorialize the lynching of William Wardley. At the event\, the Irondale community will: \n\nIntroduce the Irondale comittee\nHold a question-and-answer session to improve the historical marker projec and address community concerns\nDiscuss how we can broaden our coalition to better represent the Irondale community.\n\nThe Irondale Committee works in Partnership with the Jefferson County Memorial Project\, a grassroots coalition working to memorialize the history of racial terror victims and claim our monument from the Equal Justice Initiative’s National Memorial For Peace and Justice. To learn more\, visit www.jeffersoncountymemorial.com
URL:https://cityofirondaleal.gov/event/jefferson-county-memorial-project-event/
LOCATION:Irondale Public Library\, 105 20th Street South\, Irondale\, AL\, 35210\, United States
END:VEVENT
BEGIN:VEVENT
DTSTART;TZID=America/Chicago:20190508T180000
DTEND;TZID=America/Chicago:20190508T190000
DTSTAMP:20260422T003948
CREATED:20190508T200244Z
LAST-MODIFIED:20190508T200244Z
UID:10175-1557338400-1557342000@cityofirondaleal.gov
SUMMARY:Abatement Board Meeting
DESCRIPTION:There will be an abatement board meeting on 5/8/19 at 6pm in the Council Chambers.
URL:https://cityofirondaleal.gov/event/abatement-board-meeting-2/
LOCATION:Irondale City Hall\, 101 20th Street South\, Irondale\, AL\, 35210\, United States
END:VEVENT
BEGIN:VEVENT
DTSTART;TZID=America/Chicago:20190420T100000
DTEND;TZID=America/Chicago:20190420T103000
DTSTAMP:20260422T003948
CREATED:20190418T210004Z
LAST-MODIFIED:20190418T210004Z
UID:10143-1555754400-1555756200@cityofirondaleal.gov
SUMMARY:Cahaba Blueway Dedication
DESCRIPTION:There will be a site dedication at the Grants Mill Cahaba Landing as a part of the Cahaba Blueway on Saturday\, April 20th at 10am.
URL:https://cityofirondaleal.gov/event/cahaba-blueway-dedication/
LOCATION:Grants Mill Cahaba Landing\, 2171 Grants Mill Road\, Irondale\, AL\, 35210\, United States
END:VEVENT
BEGIN:VEVENT
DTSTART;TZID=America/Chicago:20190420T080000
DTEND;TZID=America/Chicago:20190420T120000
DTSTAMP:20260422T003948
CREATED:20190416T170057Z
LAST-MODIFIED:20190416T170057Z
UID:10132-1555747200-1555761600@cityofirondaleal.gov
SUMMARY:Household Hazardous Waste Collection Day
DESCRIPTION:
URL:https://cityofirondaleal.gov/event/household-hazardous-waste-collection-day/
LOCATION:Habitat for Humanity ReStore\, 7952 Crestwood Blvd\, Irondale\, AL\, 35210\, United States
END:VEVENT
BEGIN:VEVENT
DTSTART;VALUE=DATE:20190420
DTEND;VALUE=DATE:20190428
DTSTAMP:20260422T003948
CREATED:20190416T170416Z
LAST-MODIFIED:20190416T170416Z
UID:10137-1555718400-1556409599@cityofirondaleal.gov
SUMMARY:Clean as a Whistle Week
DESCRIPTION:
URL:https://cityofirondaleal.gov/event/clean-as-a-whistle-week/
END:VEVENT
BEGIN:VEVENT
DTSTART;TZID=America/Chicago:20190212T113000
DTEND;TZID=America/Chicago:20190212T130000
DTSTAMP:20260422T003948
CREATED:20190130T123053Z
LAST-MODIFIED:20190130T123053Z
UID:10091-1549971000-1549976400@cityofirondaleal.gov
SUMMARY:Irondale Exchange Club Meeting
DESCRIPTION:The Irondale Exchange Club meets on the 2nd Tuesday of each month from 11:30 am- 1pm and on the 4th Tuesday of each month from 5:30pm -7pm. Guests are welcome to join for the program and lunch. First time attendees eat free. \nFor additional information or to  R.S.V.P. please call the club secretary\, Sue Miles by Sunday if you plan to eat\, at 956-8379 .
URL:https://cityofirondaleal.gov/event/irondale-exchange-club-meeting-3/
END:VEVENT
BEGIN:VEVENT
DTSTART;TZID=America/Chicago:20190129T180000
DTEND;TZID=America/Chicago:20190129T193000
DTSTAMP:20260422T003948
CREATED:20190103T184502Z
LAST-MODIFIED:20190103T184502Z
UID:10063-1548784800-1548790200@cityofirondaleal.gov
SUMMARY:Town Hall Meeting
DESCRIPTION:On Tuesday\, January 29th the Mayor will give an update on the State of the City and take questions at 6pm in the Council Chamber.
URL:https://cityofirondaleal.gov/event/town-hall-meeting-2/
LOCATION:Irondale City Hall\, 101 20th Street South\, Irondale\, AL\, 35210\, United States
END:VEVENT
BEGIN:VEVENT
DTSTART;TZID=America/Chicago:20190122T173000
DTEND;TZID=America/Chicago:20190122T190000
DTSTAMP:20260422T003948
CREATED:20190116T005109Z
LAST-MODIFIED:20190122T035739Z
UID:10073-1548178200-1548183600@cityofirondaleal.gov
SUMMARY:Exchange Club of Irondale Meeting
DESCRIPTION:The Exchange Club will have the Irondale Middle School principal\, Berry Byington\, speak at there meeting scheduled for January 22nd at 5:30pm in the Habitat for Humanity Workshop Center. For more information please email exchangeclubofirondale@gmail.com.
URL:https://cityofirondaleal.gov/event/exchange-club-of-irondale-meeting/
LOCATION:Habitat for Humanity Workshop Center\, 7954 Crestwood Blvd\, Irodale\, AL\, 35210\, United States
END:VEVENT
BEGIN:VEVENT
DTSTART;TZID=America/Chicago:20190102T183000
DTEND;TZID=America/Chicago:20190102T190000
DTSTAMP:20260422T003948
CREATED:20190102T165651Z
LAST-MODIFIED:20190102T165651Z
UID:10061-1546453800-1546455600@cityofirondaleal.gov
SUMMARY:City Council Meeting
DESCRIPTION:The Irondale City Council meets every 1st and 3rd Tuesday of each month. All meetings take place at 6:30 PM in Irondale City Hall. \n 
URL:https://cityofirondaleal.gov/event/city-council-meeting-4/
END:VEVENT
BEGIN:VEVENT
DTSTART;TZID=America/Chicago:20190102T173000
DTEND;TZID=America/Chicago:20190102T183000
DTSTAMP:20260422T003948
CREATED:20190102T165509Z
LAST-MODIFIED:20190102T165509Z
UID:10057-1546450200-1546453800@cityofirondaleal.gov
SUMMARY:Pre Council Meeting
DESCRIPTION:The City Council meets at 5:30pm prior to council meetings to discuss agenda items.
URL:https://cityofirondaleal.gov/event/pre-council-meeting-2/
LOCATION:Irondale City Hall\, 101 20th Street South\, Irondale\, AL\, 35210\, United States
END:VEVENT
BEGIN:VEVENT
DTSTART;VALUE=DATE:20181224
DTEND;VALUE=DATE:20181226
DTSTAMP:20260422T003948
CREATED:20181121T222929Z
LAST-MODIFIED:20181121T222929Z
UID:10001-1545609600-1545782399@cityofirondaleal.gov
SUMMARY:City Hall Closed - Christmas Holidays
DESCRIPTION:City Hall will be closed on Monday\, December 24th and Tuesday\, December 25th in observance of the Christmas Holidays.
URL:https://cityofirondaleal.gov/event/city-hall-closed-christmas-holidays/
LOCATION:Irondale City Hall\, 101 20th Street South\, Irondale\, AL\, 35210\, United States
END:VEVENT
BEGIN:VEVENT
DTSTART;VALUE=DATE:20181221
DTEND;VALUE=DATE:20181222
DTSTAMP:20260422T003948
CREATED:20181120T232307Z
LAST-MODIFIED:20181121T222345Z
UID:9995-1545350400-1545436799@cityofirondaleal.gov
SUMMARY:Christmas In Irondale Final Collection Day - Exchange Club
DESCRIPTION:
URL:https://cityofirondaleal.gov/event/christmas-in-irondale-collection-exchange-club/
LOCATION:CIty Hall\, 101 20th St S\, Irondale\, 35210\, United States
END:VEVENT
BEGIN:VEVENT
DTSTART;TZID=America/Chicago:20181215T110000
DTEND;TZID=America/Chicago:20181215T120000
DTSTAMP:20260422T003948
CREATED:20181206T170242Z
LAST-MODIFIED:20181206T171916Z
UID:10011-1544871600-1544875200@cityofirondaleal.gov
SUMMARY:Irondale Christmas Parade - Hosted by Chamber of Commerce
DESCRIPTION:The Greater Irondale Chamber of Commerce Christmas Parade has been rescheduled due to inclement weather predictions. The Parade will begin at 11am on Saturday\, December 15th and the tree lighting will immediately follow. Parade route is below.
URL:https://cityofirondaleal.gov/event/irondale-christmas-parade-hosted-by-chamber-of-commerce/
LOCATION:Irondale City Hall\, 101 20th Street South\, Irondale\, AL\, 35210\, United States
END:VEVENT
BEGIN:VEVENT
DTSTART;TZID=America/Chicago:20181210T170000
DTEND;TZID=America/Chicago:20181210T190000
DTSTAMP:20260422T003948
CREATED:20181210T204916Z
LAST-MODIFIED:20181210T204916Z
UID:10031-1544461200-1544468400@cityofirondaleal.gov
SUMMARY:Exchange Club Trivia and Ugly Sweater Contest
DESCRIPTION:Trivia and Ugly Christmas Sweater Contest\nExchange Manic Monday at Marty’s\n5:00 – 7:00 PM\nDecember 10\, 2018\nMarty’s GM\n5415 Beacon Drive (Grants Mill Station) Irondale\, AL \nChristmas in Irondale #31\nAnnual Fund raiser to help those in need around Irondale\nRequirement: $15 plus a toy or canned goods (additional donations will be accepted)\nBenefit: one free drink ticket\, hors d’oeuvres and prizes for winners\nSponsored by: Exchange Club of Irondale Foundation (XCIF)\, PO Box 100192; Irondale\, AL 35210
URL:https://cityofirondaleal.gov/event/exchange-club-trivia-and-ugly-sweater-contest/
LOCATION:Marty’s GM\, 5415 Beacon Drive\, Irondale\, AL\, 35210\, United States
END:VEVENT
BEGIN:VEVENT
DTSTART;VALUE=DATE:20181122
DTEND;VALUE=DATE:20181124
DTSTAMP:20260422T003948
CREATED:20181121T222605Z
LAST-MODIFIED:20181121T222605Z
UID:9999-1542844800-1543017599@cityofirondaleal.gov
SUMMARY:City Hall Closed - Thanksgiving
DESCRIPTION:City Hall will be closed on Thursday\, November 22 and Friday\, November 23 in observance of Thanksgiving.
URL:https://cityofirondaleal.gov/event/city-hall-closed-thanksgiving/
LOCATION:Irondale City Hall\, 101 20th Street South\, Irondale\, AL\, 35210\, United States
END:VEVENT
BEGIN:VEVENT
DTSTART;TZID=America/Chicago:20181119T173000
DTEND;TZID=America/Chicago:20181119T193000
DTSTAMP:20260422T003948
CREATED:20181114T180211Z
LAST-MODIFIED:20181114T180211Z
UID:9986-1542648600-1542655800@cityofirondaleal.gov
SUMMARY:Greater Irondale Chamber of Commerce Brews and Bingo
DESCRIPTION:The Greater Irondale Chamber of Commerce will host a Brews and Bingo fundraiser at Marty’s GM on Monday\, November 19th from 5:30pm to 7:30pm. \n$20 (required admission) includes one beverage (beer\, wine\, soda) and one Bingo card\n$10 (optional) buys an additional pack of 5 cards (maximum of 6 cards per player)\nCards are good for all games and there is a prize for every Bingo! \n  \nTo Register please follow the link https://irondalecoc.com/events/2018/11/7456/
URL:https://cityofirondaleal.gov/event/greater-irondale-chamber-of-commerce-brews-and-bingo/
LOCATION:Marty’s GM\, 5415 Beacon Drive\, Irondale\, AL\, 35210\, United States
END:VEVENT
BEGIN:VEVENT
DTSTART;TZID=America/Chicago:20181115T173000
DTEND;TZID=America/Chicago:20181115T193000
DTSTAMP:20260422T003948
CREATED:20181114T175749Z
LAST-MODIFIED:20181114T175749Z
UID:9984-1542303000-1542310200@cityofirondaleal.gov
SUMMARY:City Council Work Session
DESCRIPTION:The Irondale City Council will hold a work session to discuss Parks on Thursday\, November 15th at 5:30pm in the Council Chambers.
URL:https://cityofirondaleal.gov/event/city-council-work-session-5/
LOCATION:Irondale City Hall\, 101 20th Street South\, Irondale\, AL\, 35210\, United States
END:VEVENT
BEGIN:VEVENT
DTSTART;TZID=America/Chicago:20181112T083000
DTEND;TZID=America/Chicago:20181112T100000
DTSTAMP:20260422T003948
CREATED:20181016T184532Z
LAST-MODIFIED:20181016T184532Z
UID:9898-1542011400-1542016800@cityofirondaleal.gov
SUMMARY:Veteran's Day Breakfast
DESCRIPTION:The 16th annual ONE NATION UNDER GOD Veterans Day Breakfast will be held this year at St. Martins in the Pines Arbors Apartments Dining room on Monday\, November the 12th (Veterans Day Observed) at 8:30 am to 10:00 am.  Our speaker will be veteran Jack McNair\, with ESGR and there will be entertainment.  All veterans will eat free.  Guests will be asked for $5 each.
URL:https://cityofirondaleal.gov/event/veterans-day-breakfast/
LOCATION:St. Martin’s in the Pines\, 4941 Montevallo Rd.\, Birmingham\, AL\, 35210\, United States
END:VEVENT
BEGIN:VEVENT
DTSTART;TZID=America/Chicago:20181031T170000
DTEND;TZID=America/Chicago:20181031T190000
DTSTAMP:20260422T003948
CREATED:20181016T185734Z
LAST-MODIFIED:20181016T185901Z
UID:9900-1541005200-1541012400@cityofirondaleal.gov
SUMMARY:2nd Annual Trunk or Treat
DESCRIPTION:Please join the City Departments\, organizations and residents for a Trunk or Treat event on Wednesday\, October 31st from 5pm to 7pm in front of City Hall. There will be hotdogs\, music and plenty of candy at this Family and Dog Friendly Event.
URL:https://cityofirondaleal.gov/event/2nd-annual-trunk-or-treat/
LOCATION:Irondale City Hall\, 101 20th Street South\, Irondale\, AL\, 35210\, United States
END:VEVENT
BEGIN:VEVENT
DTSTART;TZID=America/Chicago:20181030T170000
DTEND;TZID=America/Chicago:20181030T190000
DTSTAMP:20260422T003948
CREATED:20181016T184308Z
LAST-MODIFIED:20181016T184308Z
UID:9896-1540918800-1540926000@cityofirondaleal.gov
SUMMARY:Exchange Club Fundraiser
DESCRIPTION:The Exchange Club will host a fund raiser on October 30th from 5pm to7pm. There will be a Chili and Potato\, etc. meal and silent auction at the Irondale Senior Activities Center\, 5313 Beacon Dr.\, Irondale.      $9\, all you can eat\, meal tickets are available from Exchange members or at the door.  For more info call 205-956-5980 or email exchangeclubofirondale@gmail.com.
URL:https://cityofirondaleal.gov/event/exchange-club-fundraiser/
LOCATION:Irondale Senior Activity Center\, 5313 Beacon Drive\, Irondale\, 35210\, United States
END:VEVENT
BEGIN:VEVENT
DTSTART;TZID=America/Chicago:20181003T183000
DTEND;TZID=America/Chicago:20181003T193000
DTSTAMP:20260422T003948
CREATED:20180924T204823Z
LAST-MODIFIED:20180924T204823Z
UID:9848-1538591400-1538595000@cityofirondaleal.gov
SUMMARY:Irondale City Council Meeting
DESCRIPTION:The Irondale City Council meets  at 6:30 PM in Irondale City Hall. Pre-Council meeting is at 5:30pm.
URL:https://cityofirondaleal.gov/event/irondale-city-council-meeting-48/
LOCATION:Irondale City Hall\, 101 20th Street South\, Irondale\, AL\, 35210\, United States
END:VEVENT
END:VCALENDAR