BEGIN:VCALENDAR
VERSION:2.0
PRODID:-//City of Irondale - ECPv6.0.13.1//NONSGML v1.0//EN
CALSCALE:GREGORIAN
METHOD:PUBLISH
X-WR-CALNAME:City of Irondale
X-ORIGINAL-URL:https://cityofirondaleal.gov
X-WR-CALDESC:Events for City of Irondale
REFRESH-INTERVAL;VALUE=DURATION:PT1H
X-Robots-Tag:noindex
X-PUBLISHED-TTL:PT1H
BEGIN:VTIMEZONE
TZID:America/Chicago
BEGIN:DAYLIGHT
TZOFFSETFROM:-0600
TZOFFSETTO:-0500
TZNAME:CDT
DTSTART:20190310T080000
END:DAYLIGHT
BEGIN:STANDARD
TZOFFSETFROM:-0500
TZOFFSETTO:-0600
TZNAME:CST
DTSTART:20191103T070000
END:STANDARD
BEGIN:DAYLIGHT
TZOFFSETFROM:-0600
TZOFFSETTO:-0500
TZNAME:CDT
DTSTART:20200308T080000
END:DAYLIGHT
BEGIN:STANDARD
TZOFFSETFROM:-0500
TZOFFSETTO:-0600
TZNAME:CST
DTSTART:20201101T070000
END:STANDARD
BEGIN:DAYLIGHT
TZOFFSETFROM:-0600
TZOFFSETTO:-0500
TZNAME:CDT
DTSTART:20210314T080000
END:DAYLIGHT
BEGIN:STANDARD
TZOFFSETFROM:-0500
TZOFFSETTO:-0600
TZNAME:CST
DTSTART:20211107T070000
END:STANDARD
END:VTIMEZONE
BEGIN:VEVENT
DTSTART;TZID=America/Chicago:20211021T180000
DTEND;TZID=America/Chicago:20211021T190000
DTSTAMP:20260421T194949
CREATED:20211012T140846Z
LAST-MODIFIED:20211020T151037Z
UID:12272-1634839200-1634842800@cityofirondaleal.gov
SUMMARY:Abatement Board Meeting
DESCRIPTION:https://uab.zoom.us/j/85859729938?pwd=eXlVT1o3dk9WdUpDblJobVhwQjUzdz09 \n 
URL:https://cityofirondaleal.gov/event/abatement-board-meeting-4/
LOCATION:Irondale City Hall\, 101 20th Street South\, Irondale\, AL\, 35210\, United States
END:VEVENT
BEGIN:VEVENT
DTSTART;TZID=America/Chicago:20211020T180000
DTEND;TZID=America/Chicago:20211020T193000
DTSTAMP:20260421T194950
CREATED:20211007T150012Z
LAST-MODIFIED:20211007T150012Z
UID:12148-1634752800-1634758200@cityofirondaleal.gov
SUMMARY:Council Meeting
DESCRIPTION:
URL:https://cityofirondaleal.gov/event/council-meeting/
LOCATION:Irondale City Hall\, 101 20th Street South\, Irondale\, AL\, 35210\, United States
END:VEVENT
BEGIN:VEVENT
DTSTART;TZID=America/Chicago:20211019T180000
DTEND;TZID=America/Chicago:20211019T190000
DTSTAMP:20260421T194950
CREATED:20211019T133930Z
LAST-MODIFIED:20211019T133930Z
UID:12330-1634666400-1634670000@cityofirondaleal.gov
SUMMARY:ZBA Meeting
DESCRIPTION:
URL:https://cityofirondaleal.gov/event/zba-meeting/
LOCATION:Irondale City Hall\, 101 20th Street South\, Irondale\, AL\, 35210\, United States
END:VEVENT
BEGIN:VEVENT
DTSTART;TZID=America/Chicago:20211018T180000
DTEND;TZID=America/Chicago:20211018T190000
DTSTAMP:20260421T194950
CREATED:20211012T135203Z
LAST-MODIFIED:20211012T135203Z
UID:12242-1634580000-1634583600@cityofirondaleal.gov
SUMMARY:Irondale Multisport  Committee Meeting
DESCRIPTION:
URL:https://cityofirondaleal.gov/event/irondale-multisport-committee-meeting/
END:VEVENT
BEGIN:VEVENT
DTSTART;TZID=America/Chicago:20211014T180000
DTEND;TZID=America/Chicago:20211014T193000
DTSTAMP:20260421T194950
CREATED:20211012T134944Z
LAST-MODIFIED:20211012T134944Z
UID:12238-1634234400-1634239800@cityofirondaleal.gov
SUMMARY:Citizen's Engagement Class
DESCRIPTION:Graduation
URL:https://cityofirondaleal.gov/event/citizens-engagement-class/
LOCATION:Irondale Senior Activity Center\, 5313 Beacon Drive\, Irondale\, 35210\, United States
END:VEVENT
BEGIN:VEVENT
DTSTART;TZID=America/Chicago:20211014T090000
DTEND;TZID=America/Chicago:20211014T110000
DTSTAMP:20260421T194950
CREATED:20211012T154133Z
LAST-MODIFIED:20211012T154133Z
UID:12281-1634202000-1634209200@cityofirondaleal.gov
SUMMARY:CVS Presents: A Flu Shot Clinic
DESCRIPTION:Shots available: Pneumonia\, Flu\, Shingles and Covid-19 Vaccine
URL:https://cityofirondaleal.gov/event/cvs-presents-a-flu-shot-clinic/
LOCATION:Irondale Senior Activity Center\, 5313 Beacon Drive\, Irondale\, 35210\, United States
END:VEVENT
BEGIN:VEVENT
DTSTART;TZID=America/Chicago:20210106T180000
DTEND;TZID=America/Chicago:20210106T190000
DTSTAMP:20260421T194950
CREATED:20210105T201532Z
LAST-MODIFIED:20210105T223918Z
UID:11490-1609956000-1609959600@cityofirondaleal.gov
SUMMARY:Irondale City Council Meeting
DESCRIPTION:If you would like to attend the City Council Meeting by Zoom\, please click here for the registration link.
URL:https://cityofirondaleal.gov/event/irondale-city-council-meeting-49/
LOCATION:CIty Hall\, 101 20th St S\, Irondale\, 35210\, United States
END:VEVENT
BEGIN:VEVENT
DTSTART;TZID=America/Chicago:20201219T090000
DTEND;TZID=America/Chicago:20201219T170000
DTSTAMP:20260421T194950
CREATED:20201210T153243Z
LAST-MODIFIED:20201210T153243Z
UID:11466-1608368400-1608397200@cityofirondaleal.gov
SUMMARY:Christmas Food Give Away at City Hall
DESCRIPTION:
URL:https://cityofirondaleal.gov/event/christmas-food-give-away-at-city-hall/
LOCATION:CIty Hall\, 101 20th St S\, Irondale\, 35210\, United States
END:VEVENT
BEGIN:VEVENT
DTSTART;TZID=America/Chicago:20201216T180000
DTEND;TZID=America/Chicago:20201216T193000
DTSTAMP:20260421T194950
CREATED:20201210T153109Z
LAST-MODIFIED:20201210T153109Z
UID:11464-1608141600-1608147000@cityofirondaleal.gov
SUMMARY:City Council Meeting
DESCRIPTION:
URL:https://cityofirondaleal.gov/event/city-council-meeting-6/
LOCATION:CIty Hall\, 101 20th St S\, Irondale\, 35210\, United States
END:VEVENT
BEGIN:VEVENT
DTSTART;TZID=America/Chicago:20201215T183000
DTEND;TZID=America/Chicago:20201215T200000
DTSTAMP:20260421T194950
CREATED:20201210T153000Z
LAST-MODIFIED:20201210T153000Z
UID:11462-1608057000-1608062400@cityofirondaleal.gov
SUMMARY:Work Session (Ruffner Park)
DESCRIPTION:
URL:https://cityofirondaleal.gov/event/work-session-ruffner-park/
LOCATION:Ruffner Park\, 333-\, 399 Ruffner Rd\, Irondale\, AL\, 35210\, United States
END:VEVENT
BEGIN:VEVENT
DTSTART;TZID=America/Chicago:20201210T180000
DTEND;TZID=America/Chicago:20201210T193000
DTSTAMP:20260421T194950
CREATED:20201210T152850Z
LAST-MODIFIED:20201210T152850Z
UID:11460-1607623200-1607628600@cityofirondaleal.gov
SUMMARY:Virtual Town Hall
DESCRIPTION:
URL:https://cityofirondaleal.gov/event/virtual-town-hall/
END:VEVENT
BEGIN:VEVENT
DTSTART;TZID=America/Chicago:20201208T180000
DTEND;TZID=America/Chicago:20201208T193000
DTSTAMP:20260421T194950
CREATED:20201210T152654Z
LAST-MODIFIED:20201210T152654Z
UID:11458-1607450400-1607455800@cityofirondaleal.gov
SUMMARY:Town Hall
DESCRIPTION:
URL:https://cityofirondaleal.gov/event/town-hall/
END:VEVENT
BEGIN:VEVENT
DTSTART;TZID=America/Chicago:20201104T180000
DTEND;TZID=America/Chicago:20201104T190000
DTSTAMP:20260421T194950
CREATED:20201028T230029Z
LAST-MODIFIED:20201028T230029Z
UID:11175-1604512800-1604516400@cityofirondaleal.gov
SUMMARY:City Council Meeting
DESCRIPTION:The City Council will meet Wednesday\, November 4 at 6:00pm in the council chambers
URL:https://cityofirondaleal.gov/event/city-council-meeting-5/
END:VEVENT
BEGIN:VEVENT
DTSTART;VALUE=DATE:20201103
DTEND;VALUE=DATE:20201104
DTSTAMP:20260421T194950
CREATED:20201028T230912Z
LAST-MODIFIED:20201028T230912Z
UID:11268-1604361600-1604447999@cityofirondaleal.gov
SUMMARY:National Elections
DESCRIPTION:https://www.sos.alabama.gov/alabama-votes/voter/election-information/2020 \n 
URL:https://cityofirondaleal.gov/event/national-elections/
END:VEVENT
BEGIN:VEVENT
DTSTART;TZID=America/Chicago:20201102T180000
DTEND;TZID=America/Chicago:20201102T190000
DTSTAMP:20260421T194950
CREATED:20201028T225902Z
LAST-MODIFIED:20201028T225902Z
UID:11173-1604340000-1604343600@cityofirondaleal.gov
SUMMARY:City of Irondale Swearing-in Ceremony
DESCRIPTION:The public is cordially invited to attend the City of Irondale Swearing-In Ceremony \nof the newly elected Mayor James D. Stewart and the City Council \nJohn London- District 1 \nDavid Spivey- District 2 \nCindy Cuellar   District 3 \nRobert box- District 4 \nBobby Joe Wilson- District 5 \nMonday\, November 2 at 6:00 pm \nShades Valley High School Auditorium \n6100 Old Leeds Road Irondale\, AL 35210 \n 
URL:https://cityofirondaleal.gov/event/city-of-irondale-swearing-in-ceremony/
LOCATION:Shades Valley High School\, 6100 Old Leeds Rd\, Irondale\, AL\, 35210\, United States
END:VEVENT
BEGIN:VEVENT
DTSTART;TZID=America/Chicago:20201007T183000
DTEND;TZID=America/Chicago:20201007T193000
DTSTAMP:20260421T194950
CREATED:20200917T224644Z
LAST-MODIFIED:20200917T224644Z
UID:11030-1602095400-1602099000@cityofirondaleal.gov
SUMMARY:City Council Meeting: Rescheduled
DESCRIPTION:The Irondale City Council typically meets every 1st and 3rd Tuesday of each month. All meetings traditionally take place at 6:30 PM in Irondale City Hall. \nThis meeting is rescheduled to Wednesday\, October 7 to accommodate the run-off election scheduled for October 6 taking place in City hall.
URL:https://cityofirondaleal.gov/event/city-council-meeting-rescheduled/
END:VEVENT
BEGIN:VEVENT
DTSTART;TZID=America/Chicago:20201006T070000
DTEND;TZID=America/Chicago:20201006T190000
DTSTAMP:20260421T194950
CREATED:20200917T223826Z
LAST-MODIFIED:20200917T223826Z
UID:11009-1601967600-1602010800@cityofirondaleal.gov
SUMMARY:Runoff Municipal Election
DESCRIPTION:District 4 only. Please note\, the polling place for this election will be: \nIrondale City Hall 101 20th Street South Irondale\, AL 35210 \nFor more information about the election and absentee ballots\, visit https://cityofirondaleal.gov/elections/\nThe City Council Meeting has been rescheduled to October 7\, 2020.
URL:https://cityofirondaleal.gov/event/runoff-municipal-election/
END:VEVENT
BEGIN:VEVENT
DTSTART;TZID=America/Chicago:20200901T120000
DTEND;TZID=America/Chicago:20200901T130000
DTSTAMP:20260421T194950
CREATED:20200829T161443Z
LAST-MODIFIED:20200829T162257Z
UID:10971-1598961600-1598965200@cityofirondaleal.gov
SUMMARY:Special City Council Meeting: Canvassing Election Results
DESCRIPTION:Canvassing of Election Results: At a special called Irondale City Council Meeting to be held in the Council Chambers at Irondale City Hall\, beginning at Noon\, the Election Results from the City of Irondale 2020 Municipal Election will be canvassed and the results will become official. \n·      Any race where a Candidate did not receive 50% +1 vote minimum will be officially declared a runoff.
URL:https://cityofirondaleal.gov/event/special-city-council-meeting-canvassing-election-results/
END:VEVENT
BEGIN:VEVENT
DTSTART;TZID=America/Chicago:20200312T173000
DTEND;TZID=America/Chicago:20200312T183000
DTSTAMP:20260421T194950
CREATED:20200225T170210Z
LAST-MODIFIED:20200225T170210Z
UID:10651-1584034200-1584037800@cityofirondaleal.gov
SUMMARY:Memory Box Making with Doug Baulos
DESCRIPTION:Thursday\, March 12\, 5:30 pm\nSpace is extremely limited. Registration is required.\nRegister by phone: 205-951-1415 \n\nMemory Box making with artist Douglas Baulos\, UAB assistant professor of drawing and bookmaking in partnership with the Irondale Memorial Project. \nWe will explore memory and the importance of preserving our memories while making one-of-a-kind memory boxes using archival preservation techniques. Each box will be large enough to accommodate 5 x 7 photos.
URL:https://cityofirondaleal.gov/event/memory-box-making-with-doug-baulos/
LOCATION:Irondale Public Library\, 105 20th Street South\, Irondale\, AL\, 35210\, United States
END:VEVENT
BEGIN:VEVENT
DTSTART;TZID=America/Chicago:20200128T180000
DTEND;TZID=America/Chicago:20200128T193000
DTSTAMP:20260421T194950
CREATED:20191210T164025Z
LAST-MODIFIED:20191210T164045Z
UID:10571-1580234400-1580239800@cityofirondaleal.gov
SUMMARY:Town Hall Meeting
DESCRIPTION:The Mayor will hold an open forum for anyone to attend at 6pm on Tuesday\, January 28th at City Hall. He will give a brief update and take questions from the audience.
URL:https://cityofirondaleal.gov/event/town-hall-meeting-4/
LOCATION:Irondale City Hall\, 101 20th Street South\, Irondale\, AL\, 35210\, United States
END:VEVENT
BEGIN:VEVENT
DTSTART;TZID=America/Chicago:20200114T183000
DTEND;TZID=America/Chicago:20200114T200000
DTSTAMP:20260421T194950
CREATED:20200109T004720Z
LAST-MODIFIED:20200109T004720Z
UID:10590-1579026600-1579032000@cityofirondaleal.gov
SUMMARY:Holiday Gardens Neighborhood Association Meeting
DESCRIPTION:The Holiday Gardens Neighborhood Association meets the 2nd Tuesday of each month at 6:30pm at the Senior Center.
URL:https://cityofirondaleal.gov/event/holiday-gardens-neighborhood-association-meeting-13/
LOCATION:Irondale Senior Activity Center\, 5313 Beacon Drive\, Irondale\, 35210\, United States
END:VEVENT
BEGIN:VEVENT
DTSTART;TZID=America/Chicago:20200109T180000
DTEND;TZID=America/Chicago:20200109T190000
DTSTAMP:20260421T194950
CREATED:20200109T170032Z
LAST-MODIFIED:20200109T170032Z
UID:10604-1578592800-1578596400@cityofirondaleal.gov
SUMMARY:Parks Committee Meeting
DESCRIPTION:There will be a parks committee meeting on Wednesday\, January 15th at 6pm in the Council Chambers. The focus will be looking at renovations for Ruffner Park.
URL:https://cityofirondaleal.gov/event/parks-committee-meeting-2/
LOCATION:Irondale City Hall\, 101 20th Street South\, Irondale\, AL\, 35210\, United States
END:VEVENT
BEGIN:VEVENT
DTSTART;TZID=America/Chicago:20191207T090000
DTEND;TZID=America/Chicago:20191207T110000
DTSTAMP:20260421T194950
CREATED:20191120T002430Z
LAST-MODIFIED:20191204T234335Z
UID:10551-1575709200-1575716400@cityofirondaleal.gov
SUMMARY:Irondale Chamber Christmas Parade
DESCRIPTION:
URL:https://cityofirondaleal.gov/event/irondale-chamber-christmas-parade/
END:VEVENT
BEGIN:VEVENT
DTSTART;TZID=America/Chicago:20191107T180000
DTEND;TZID=America/Chicago:20191107T210000
DTSTAMP:20260421T194950
CREATED:20191013T235937Z
LAST-MODIFIED:20191014T000301Z
UID:10531-1573149600-1573160400@cityofirondaleal.gov
SUMMARY:Bunco Girls Night Out Fundraiser
DESCRIPTION:y
URL:https://cityofirondaleal.gov/event/bunco-girls-night-out-fundraiser/
LOCATION:Junky 2 Funky\, 5415 Beacon Dr.\, Irondale\, AL\, 35210\, United States
END:VEVENT
BEGIN:VEVENT
DTSTART;TZID=America/Chicago:20191107T130000
DTEND;TZID=America/Chicago:20191107T140000
DTSTAMP:20260421T194950
CREATED:20191013T234842Z
LAST-MODIFIED:20191013T234842Z
UID:10529-1573131600-1573135200@cityofirondaleal.gov
SUMMARY:Irondale Chamber Ribbon Cutting - Irondale Coin Laundry
DESCRIPTION:The Greater Irondale Chamber of Commerce will host a Ribbon Cutting for the Irondale Coin Laundry on Thursday\, November 7th at 1pm. Location 1628 Crestwood Blvd. Irondale\, AL 35210
URL:https://cityofirondaleal.gov/event/irondale-chamber-ribbon-cutting-irondale-coin-laundry/
END:VEVENT
BEGIN:VEVENT
DTSTART;TZID=America/Chicago:20191031T170000
DTEND;TZID=America/Chicago:20191031T190000
DTSTAMP:20260421T194950
CREATED:20190930T201040Z
LAST-MODIFIED:20190930T204349Z
UID:10378-1572541200-1572548400@cityofirondaleal.gov
SUMMARY:Community Trunk or Treat
DESCRIPTION:The City of Irondale departments\, businesses and residents come together to create a safe and fun environment for the community to trick or treat. This year we will be adding in a Trick or Treat so others may eat component and are asking that trick or treaters bring a non perishable food item.
URL:https://cityofirondaleal.gov/event/community-trunk-or-treat/
LOCATION:Irondale City Hall\, 101 20th Street South\, Irondale\, AL\, 35210\, United States
END:VEVENT
BEGIN:VEVENT
DTSTART;TZID=America/Chicago:20191025T170000
DTEND;TZID=America/Chicago:20191025T190000
DTSTAMP:20260421T194950
CREATED:20191021T111206Z
LAST-MODIFIED:20191021T111206Z
UID:10538-1572022800-1572030000@cityofirondaleal.gov
SUMMARY:Exchange Club Chili and Baked Potato Fundraiser
DESCRIPTION:Friday\, Oct. 25\, 2019 at 5 – 7 PM Chili and Baked Potato Fundraiser \nOnce again\, the Exchange Club of Irondale will be serving up delicious chili and baked potatoes at the Irondale Senior Activity Center. \nThere will also be a variety of items up for bid at a Silent Auction during the dinner. Cost of the event is $9 for adults and $5 for children under 12. All proceeds will help support the many \ncommunity projects sponsored by the club. \nIf you would like to donate items for the silent auction\, please contact Joyce Franklin at joyce35210@gmail.com or call 901-8000.
URL:https://cityofirondaleal.gov/event/exchange-club-chili-and-baked-potato-fundraiser/
LOCATION:Irondale Senior Activity Center\, 5313 Beacon Drive\, Irondale\, 35210\, United States
END:VEVENT
BEGIN:VEVENT
DTSTART;TZID=America/Chicago:20191024T103000
DTEND;TZID=America/Chicago:20191024T113000
DTSTAMP:20260421T194950
CREATED:20191013T234559Z
LAST-MODIFIED:20191013T234559Z
UID:10526-1571913000-1571916600@cityofirondaleal.gov
SUMMARY:Irondale Chamber Ribbon Cutting - Direct Auto Insurance
DESCRIPTION:The Greater Irondale Chamber of Commerce will hose a ribbon cutting for Direct Auto Insurance at 10:30am on Thursday\, October 24th. Location is 1628 Crestwood Blvd.\, Irondale AL 35210
URL:https://cityofirondaleal.gov/event/irondale-chamber-ribbon-cutting-direct-auto-insurance/
LOCATION:Direct Auto Insurance\, 1628 Crestwood Blvd.\, Irondale\, AL\, 35210\, United States
END:VEVENT
BEGIN:VEVENT
DTSTART;TZID=America/Chicago:20191020T160000
DTEND;TZID=America/Chicago:20191020T180000
DTSTAMP:20260421T194950
CREATED:20190930T200620Z
LAST-MODIFIED:20190930T200620Z
UID:10376-1571587200-1571594400@cityofirondaleal.gov
SUMMARY:Irondale Memorial Coalition Meeting
DESCRIPTION:“The Irondale Memorial Coalition is working toward a soil collection and historical marker for William Wardley\, who was the victim of a racial terror lynching in Irondale in 1896. Our goal is to memorialize William Wardley; to educate Irondale about our community’s history of racial terror violence; and to advocate for solutions to ongoing injustices. \n  \nAlex Melonas and Pastor Mike McClure lead the coalition. To get involved\, email amelonas@altamontschool.org. \n  \nWe will hold our next coalition meeting on Sunday\, October 20th\, from 4pm-6pm\, at the Irondale Public Library.”
URL:https://cityofirondaleal.gov/event/irondale-memorial-coalition-meeting/
LOCATION:Irondale Public Library\, 105 20th Street South\, Irondale\, AL\, 35210\, United States
END:VEVENT
BEGIN:VEVENT
DTSTART;TZID=America/Chicago:20191003T180000
DTEND;TZID=America/Chicago:20191003T190000
DTSTAMP:20260421T194950
CREATED:20190912T222936Z
LAST-MODIFIED:20190912T222936Z
UID:10370-1570125600-1570129200@cityofirondaleal.gov
SUMMARY:Irondale City Council: Pre Council and Council Meeting
DESCRIPTION:The Irondale City Council meets every 1st and 3rd Tuesday of each month. All meetings take place at 6:30 PM in Irondale City Hall.
URL:https://cityofirondaleal.gov/event/irondale-city-council-pre-council-and-council-meeting/
LOCATION:Irondale City Hall\, 101 20th Street South\, Irondale\, AL\, 35210\, United States
END:VEVENT
END:VCALENDAR