BEGIN:VCALENDAR
VERSION:2.0
PRODID:-//City of Irondale - ECPv6.0.13.1//NONSGML v1.0//EN
CALSCALE:GREGORIAN
METHOD:PUBLISH
X-WR-CALNAME:City of Irondale
X-ORIGINAL-URL:https://cityofirondaleal.gov
X-WR-CALDESC:Events for City of Irondale
REFRESH-INTERVAL;VALUE=DURATION:PT1H
X-Robots-Tag:noindex
X-PUBLISHED-TTL:PT1H
BEGIN:VTIMEZONE
TZID:America/Chicago
BEGIN:DAYLIGHT
TZOFFSETFROM:-0600
TZOFFSETTO:-0500
TZNAME:CDT
DTSTART:20210314T080000
END:DAYLIGHT
BEGIN:STANDARD
TZOFFSETFROM:-0500
TZOFFSETTO:-0600
TZNAME:CST
DTSTART:20211107T070000
END:STANDARD
BEGIN:DAYLIGHT
TZOFFSETFROM:-0600
TZOFFSETTO:-0500
TZNAME:CDT
DTSTART:20220313T080000
END:DAYLIGHT
BEGIN:STANDARD
TZOFFSETFROM:-0500
TZOFFSETTO:-0600
TZNAME:CST
DTSTART:20221106T070000
END:STANDARD
END:VTIMEZONE
BEGIN:VEVENT
DTSTART;TZID=America/Chicago:20220306T150000
DTEND;TZID=America/Chicago:20220306T153000
DTSTAMP:20260421T140029
CREATED:20220302T183351Z
LAST-MODIFIED:20220302T183352Z
UID:12938-1646578800-1646580600@cityofirondaleal.gov
SUMMARY:Message from the Mayor-Facebook Live-3PM
DESCRIPTION:
URL:https://cityofirondaleal.gov/event/message-from-the-mayor-facebook-live-3pm/
END:VEVENT
BEGIN:VEVENT
DTSTART;TZID=America/Chicago:20220305T090000
DTEND;TZID=America/Chicago:20220305T120000
DTSTAMP:20260421T140029
CREATED:20220222T145916Z
LAST-MODIFIED:20220222T145916Z
UID:12866-1646470800-1646481600@cityofirondaleal.gov
SUMMARY:Shred It Day - City Hall - 9am-12pm
DESCRIPTION:
URL:https://cityofirondaleal.gov/event/shred-it-day-city-hall-9am-12pm/
END:VEVENT
BEGIN:VEVENT
DTSTART;TZID=America/Chicago:20220302T180000
DTEND;TZID=America/Chicago:20220302T190000
DTSTAMP:20260421T140029
CREATED:20220224T162519Z
LAST-MODIFIED:20220224T162519Z
UID:12914-1646244000-1646247600@cityofirondaleal.gov
SUMMARY:Citizen Engagement Institute-Police Substation-6PM
DESCRIPTION:
URL:https://cityofirondaleal.gov/event/citizen-engagement-institute-police-substation-6pm-3/
END:VEVENT
BEGIN:VEVENT
DTSTART;TZID=America/Chicago:20220301T180000
DTEND;TZID=America/Chicago:20220301T190000
DTSTAMP:20260421T140029
CREATED:20211220T221603Z
LAST-MODIFIED:20211220T221603Z
UID:12558-1646157600-1646161200@cityofirondaleal.gov
SUMMARY:City Council Meeting
DESCRIPTION:
URL:https://cityofirondaleal.gov/event/city-council-meeting-15/
END:VEVENT
BEGIN:VEVENT
DTSTART;TZID=America/Chicago:20220301T170000
DTEND;TZID=America/Chicago:20220301T180000
DTSTAMP:20260421T140029
CREATED:20220203T142957Z
LAST-MODIFIED:20220222T145607Z
UID:12796-1646154000-1646157600@cityofirondaleal.gov
SUMMARY:Finance Committee Meeting - City Hall
DESCRIPTION:
URL:https://cityofirondaleal.gov/event/finance-committee-meeting-2/
END:VEVENT
BEGIN:VEVENT
DTSTART;TZID=America/Chicago:20220224T180000
DTEND;TZID=America/Chicago:20220224T190000
DTSTAMP:20260421T140029
CREATED:20220124T175248Z
LAST-MODIFIED:20220124T175248Z
UID:12703-1645725600-1645729200@cityofirondaleal.gov
SUMMARY:Planning & Zoning Commission
DESCRIPTION:
URL:https://cityofirondaleal.gov/event/planning-zoning-commission/
END:VEVENT
BEGIN:VEVENT
DTSTART;TZID=America/Chicago:20220223T180000
DTEND;TZID=America/Chicago:20220223T190000
DTSTAMP:20260421T140029
CREATED:20220224T162437Z
LAST-MODIFIED:20220224T162437Z
UID:12912-1645639200-1645642800@cityofirondaleal.gov
SUMMARY:Citizen Engagement Institute-Police Substation-6PM
DESCRIPTION:
URL:https://cityofirondaleal.gov/event/citizen-engagement-institute-police-substation-6pm-2/
END:VEVENT
BEGIN:VEVENT
DTSTART;VALUE=DATE:20220221
DTEND;VALUE=DATE:20220222
DTSTAMP:20260421T140029
CREATED:20211220T194907Z
LAST-MODIFIED:20211220T194907Z
UID:12526-1645401600-1645487999@cityofirondaleal.gov
SUMMARY:City Hall Closed - President's Day
DESCRIPTION:
URL:https://cityofirondaleal.gov/event/city-hall-closed-presidents-day/
END:VEVENT
BEGIN:VEVENT
DTSTART;TZID=America/Chicago:20220216T180000
DTEND;TZID=America/Chicago:20220216T190000
DTSTAMP:20260421T140029
CREATED:20220224T162244Z
LAST-MODIFIED:20220224T162244Z
UID:12910-1645034400-1645038000@cityofirondaleal.gov
SUMMARY:Citizen Engagement Institute-Police Substation-6PM
DESCRIPTION:
URL:https://cityofirondaleal.gov/event/citizen-engagement-institute-police-substation-6pm/
END:VEVENT
BEGIN:VEVENT
DTSTART;TZID=America/Chicago:20220215T180000
DTEND;TZID=America/Chicago:20220215T190000
DTSTAMP:20260421T140029
CREATED:20211220T214655Z
LAST-MODIFIED:20211220T214655Z
UID:12556-1644948000-1644951600@cityofirondaleal.gov
SUMMARY:City Council Meeting
DESCRIPTION:
URL:https://cityofirondaleal.gov/event/city-council-meeting-14/
END:VEVENT
BEGIN:VEVENT
DTSTART;TZID=America/Chicago:20220215T160000
DTEND;TZID=America/Chicago:20220215T170000
DTSTAMP:20260421T140029
CREATED:20220124T173818Z
LAST-MODIFIED:20220203T160414Z
UID:12679-1644940800-1644944400@cityofirondaleal.gov
SUMMARY:Commercial Development Authority - City Hall
DESCRIPTION:
URL:https://cityofirondaleal.gov/event/commercial-development-authority-city-of-irondale-2/
END:VEVENT
BEGIN:VEVENT
DTSTART;TZID=America/Chicago:20220210T113000
DTEND;TZID=America/Chicago:20220210T133000
DTSTAMP:20260421T140029
CREATED:20220203T144606Z
LAST-MODIFIED:20220203T144606Z
UID:12799-1644492600-1644499800@cityofirondaleal.gov
SUMMARY:State of the City Address - Pine Tree Country Club
DESCRIPTION:
URL:https://cityofirondaleal.gov/event/state-of-the-city-address-pine-tree-country-club/
END:VEVENT
BEGIN:VEVENT
DTSTART;TZID=America/Chicago:20220209T180000
DTEND;TZID=America/Chicago:20220209T190000
DTSTAMP:20260421T140029
CREATED:20220203T145008Z
LAST-MODIFIED:20220203T145008Z
UID:12801-1644429600-1644433200@cityofirondaleal.gov
SUMMARY:Abatement Board Meeting - City Hall
DESCRIPTION:
URL:https://cityofirondaleal.gov/event/abatement-board-meeting-city-hall/
END:VEVENT
BEGIN:VEVENT
DTSTART;TZID=America/Chicago:20220208T180000
DTEND;TZID=America/Chicago:20220208T190000
DTSTAMP:20260421T140029
CREATED:20220124T182430Z
LAST-MODIFIED:20220124T182430Z
UID:12728-1644343200-1644346800@cityofirondaleal.gov
SUMMARY:Zoning Board of Adjustment
DESCRIPTION:
URL:https://cityofirondaleal.gov/event/zoning-board-of-adjustment-2/
END:VEVENT
BEGIN:VEVENT
DTSTART;TZID=America/Chicago:20220201T180000
DTEND;TZID=America/Chicago:20220201T190000
DTSTAMP:20260421T140029
CREATED:20211220T213023Z
LAST-MODIFIED:20211220T213023Z
UID:12554-1643738400-1643742000@cityofirondaleal.gov
SUMMARY:City Council Meeting
DESCRIPTION:
URL:https://cityofirondaleal.gov/event/city-council-meeting-13/
END:VEVENT
BEGIN:VEVENT
DTSTART;TZID=America/Chicago:20220127T180000
DTEND;TZID=America/Chicago:20220127T190000
DTSTAMP:20260421T140029
CREATED:20220124T182232Z
LAST-MODIFIED:20220124T182232Z
UID:12726-1643306400-1643310000@cityofirondaleal.gov
SUMMARY:Planning & Zoning Commission
DESCRIPTION:
URL:https://cityofirondaleal.gov/event/planning-zoning-commission-12/
END:VEVENT
BEGIN:VEVENT
DTSTART;TZID=America/Chicago:20220126T180000
DTEND;TZID=America/Chicago:20220126T190000
DTSTAMP:20260421T140029
CREATED:20211222T192940Z
LAST-MODIFIED:20220125T221643Z
UID:12604-1643220000-1643223600@cityofirondaleal.gov
SUMMARY:Town Hall Meeting - Shades Valley High School
DESCRIPTION:
URL:https://cityofirondaleal.gov/event/town-hall-meeting-5/
END:VEVENT
BEGIN:VEVENT
DTSTART;TZID=America/Chicago:20220125T180000
DTEND;TZID=America/Chicago:20220125T190000
DTSTAMP:20260421T140029
CREATED:20220125T221512Z
LAST-MODIFIED:20220125T221512Z
UID:12762-1643133600-1643137200@cityofirondaleal.gov
SUMMARY:Special City Council Meeting - City Hall
DESCRIPTION:
URL:https://cityofirondaleal.gov/event/special-city-council-meeting-city-hall/
END:VEVENT
BEGIN:VEVENT
DTSTART;TZID=America/Chicago:20220119T180000
DTEND;TZID=America/Chicago:20220119T190000
DTSTAMP:20260421T140029
CREATED:20211220T212749Z
LAST-MODIFIED:20211220T212749Z
UID:12552-1642615200-1642618800@cityofirondaleal.gov
SUMMARY:City Council Meeting
DESCRIPTION:
URL:https://cityofirondaleal.gov/event/city-council-meeting-12/
END:VEVENT
BEGIN:VEVENT
DTSTART;TZID=America/Chicago:20220118T160000
DTEND;TZID=America/Chicago:20220118T170000
DTSTAMP:20260421T140029
CREATED:20220124T173730Z
LAST-MODIFIED:20220124T173730Z
UID:12677-1642521600-1642525200@cityofirondaleal.gov
SUMMARY:Commercial Development Authority - City of Irondale
DESCRIPTION:
URL:https://cityofirondaleal.gov/event/commercial-development-authority-city-of-irondale/
END:VEVENT
BEGIN:VEVENT
DTSTART;VALUE=DATE:20220117
DTEND;VALUE=DATE:20220118
DTSTAMP:20260421T140029
CREATED:20211220T194803Z
LAST-MODIFIED:20211220T194803Z
UID:12524-1642377600-1642463999@cityofirondaleal.gov
SUMMARY:City Hall Closed - Martin Luther King\, Jr. Day
DESCRIPTION:
URL:https://cityofirondaleal.gov/event/city-hall-closed-martin-luther-king-jr-day/
END:VEVENT
BEGIN:VEVENT
DTSTART;TZID=America/Chicago:20220111T180000
DTEND;TZID=America/Chicago:20220111T190000
DTSTAMP:20260421T140029
CREATED:20220124T182137Z
LAST-MODIFIED:20220124T182137Z
UID:12701-1641924000-1641927600@cityofirondaleal.gov
SUMMARY:Zoning Board of Adjustment
DESCRIPTION:
URL:https://cityofirondaleal.gov/event/zoning-board-of-adjustment/
END:VEVENT
BEGIN:VEVENT
DTSTART;TZID=America/Chicago:20220105T180000
DTEND;TZID=America/Chicago:20220105T190000
DTSTAMP:20260421T140029
CREATED:20211220T212655Z
LAST-MODIFIED:20211220T212655Z
UID:12550-1641405600-1641409200@cityofirondaleal.gov
SUMMARY:City Council Meeting
DESCRIPTION:
URL:https://cityofirondaleal.gov/event/city-council-meeting-11/
END:VEVENT
BEGIN:VEVENT
DTSTART;VALUE=DATE:20220103
DTEND;VALUE=DATE:20220104
DTSTAMP:20260421T140029
CREATED:20211220T144604Z
LAST-MODIFIED:20211220T145358Z
UID:12518-1641168000-1641254399@cityofirondaleal.gov
SUMMARY:City Hall Closed
DESCRIPTION:
URL:https://cityofirondaleal.gov/event/city-hall-closed-new-years-day/
END:VEVENT
BEGIN:VEVENT
DTSTART;VALUE=DATE:20211230
DTEND;VALUE=DATE:20211231
DTSTAMP:20260421T140029
CREATED:20211012T140639Z
LAST-MODIFIED:20211012T140639Z
UID:12268-1640822400-1640908799@cityofirondaleal.gov
SUMMARY:City Hall Closed
DESCRIPTION:New Year’s Eve
URL:https://cityofirondaleal.gov/event/city-hall-closed-6/
END:VEVENT
BEGIN:VEVENT
DTSTART;VALUE=DATE:20211227
DTEND;VALUE=DATE:20211228
DTSTAMP:20260421T140029
CREATED:20211012T140455Z
LAST-MODIFIED:20211012T140455Z
UID:12266-1640563200-1640649599@cityofirondaleal.gov
SUMMARY:City Hall Closed
DESCRIPTION:Christmas
URL:https://cityofirondaleal.gov/event/city-hall-closed-5/
END:VEVENT
BEGIN:VEVENT
DTSTART;VALUE=DATE:20211223
DTEND;VALUE=DATE:20211224
DTSTAMP:20260421T140029
CREATED:20211012T140424Z
LAST-MODIFIED:20211012T140424Z
UID:12264-1640217600-1640303999@cityofirondaleal.gov
SUMMARY:City Hall Closed
DESCRIPTION:Christmas Eve
URL:https://cityofirondaleal.gov/event/city-hall-closed-4/
END:VEVENT
BEGIN:VEVENT
DTSTART;TZID=America/Chicago:20211220T180000
DTEND;TZID=America/Chicago:20211220T190000
DTSTAMP:20260421T140029
CREATED:20211118T155526Z
LAST-MODIFIED:20211118T155526Z
UID:12424-1640023200-1640026800@cityofirondaleal.gov
SUMMARY:Irondale Multisport Committee Meeting
DESCRIPTION:
URL:https://cityofirondaleal.gov/event/irondale-multisport-committee-meeting-3/
END:VEVENT
BEGIN:VEVENT
DTSTART;TZID=America/Chicago:20211216T180000
DTEND;TZID=America/Chicago:20211216T190000
DTSTAMP:20260421T140029
CREATED:20211020T171206Z
LAST-MODIFIED:20211020T171206Z
UID:12346-1639677600-1639681200@cityofirondaleal.gov
SUMMARY:Planning & Zoning
DESCRIPTION:
URL:https://cityofirondaleal.gov/event/planning-zoning-2/
LOCATION:Irondale City Hall\, 101 20th Street South\, Irondale\, AL\, 35210\, United States
END:VEVENT
BEGIN:VEVENT
DTSTART;TZID=America/Chicago:20211215T180000
DTEND;TZID=America/Chicago:20211215T193000
DTSTAMP:20260421T140029
CREATED:20211012T140310Z
LAST-MODIFIED:20211012T140310Z
UID:12262-1639591200-1639596600@cityofirondaleal.gov
SUMMARY:City Council Meeting
DESCRIPTION:
URL:https://cityofirondaleal.gov/event/city-council-meeting-10/
END:VEVENT
END:VCALENDAR