BEGIN:VCALENDAR
VERSION:2.0
PRODID:-//City of Irondale - ECPv6.0.13.1//NONSGML v1.0//EN
CALSCALE:GREGORIAN
METHOD:PUBLISH
X-WR-CALNAME:City of Irondale
X-ORIGINAL-URL:https://cityofirondaleal.gov
X-WR-CALDESC:Events for City of Irondale
REFRESH-INTERVAL;VALUE=DURATION:PT1H
X-Robots-Tag:noindex
X-PUBLISHED-TTL:PT1H
BEGIN:VTIMEZONE
TZID:America/Chicago
BEGIN:DAYLIGHT
TZOFFSETFROM:-0600
TZOFFSETTO:-0500
TZNAME:CDT
DTSTART:20220313T080000
END:DAYLIGHT
BEGIN:STANDARD
TZOFFSETFROM:-0500
TZOFFSETTO:-0600
TZNAME:CST
DTSTART:20221106T070000
END:STANDARD
END:VTIMEZONE
BEGIN:VEVENT
DTSTART;TZID=America/Chicago:20220703T150000
DTEND;TZID=America/Chicago:20220703T173000
DTSTAMP:20260421T065111
CREATED:20220623T122402Z
LAST-MODIFIED:20220623T122402Z
UID:13601-1656860400-1656869400@cityofirondaleal.gov
SUMMARY:Message from the Mayor - Tune in on Facebook - 3:00pm
DESCRIPTION:
URL:https://cityofirondaleal.gov/event/message-from-the-mayor-tune-in-on-facebook-300pm/
END:VEVENT
BEGIN:VEVENT
DTSTART;TZID=America/Chicago:20220630T180000
DTEND;TZID=America/Chicago:20220630T190000
DTSTAMP:20260421T065111
CREATED:20220124T180321Z
LAST-MODIFIED:20220124T180321Z
UID:12711-1656612000-1656615600@cityofirondaleal.gov
SUMMARY:Planning & Zoning Commission
DESCRIPTION:
URL:https://cityofirondaleal.gov/event/planning-zoning-commission-5/
END:VEVENT
BEGIN:VEVENT
DTSTART;TZID=America/Chicago:20220625T110000
DTEND;TZID=America/Chicago:20220625T180000
DTSTAMP:20260421T065111
CREATED:20220222T151202Z
LAST-MODIFIED:20220407T123108Z
UID:12872-1656154800-1656180000@cityofirondaleal.gov
SUMMARY:Corn Hole Tournament-Classic Car Motoring - 11:00AM Until
DESCRIPTION:
URL:https://cityofirondaleal.gov/event/corn-hole-tournament-classic-car-motoring-time-tbd/
END:VEVENT
BEGIN:VEVENT
DTSTART;TZID=America/Chicago:20220624T190000
DTEND;TZID=America/Chicago:20220624T220000
DTSTAMP:20260421T065111
CREATED:20220329T155328Z
LAST-MODIFIED:20220526T182926Z
UID:13245-1656097200-1656108000@cityofirondaleal.gov
SUMMARY:Movie Night - Beacon Park - Adult Night (Indiana Jones) - Gate Opens @ 7PM\, Movie Begins @ 8:15PM. Bring Your Own Lawn Chairs & Blankets.
DESCRIPTION:
URL:https://cityofirondaleal.gov/event/movie-night-beacon-park-6pm-2/
END:VEVENT
BEGIN:VEVENT
DTSTART;TZID=America/Chicago:20220622T180000
DTEND;TZID=America/Chicago:20220622T190000
DTSTAMP:20260421T065111
CREATED:20220621T124633Z
LAST-MODIFIED:20220621T124633Z
UID:13592-1655920800-1655924400@cityofirondaleal.gov
SUMMARY:City Council Meeting - City Hall - 6PM
DESCRIPTION:
URL:https://cityofirondaleal.gov/event/city-council-meeting-city-hall-6pm/
END:VEVENT
BEGIN:VEVENT
DTSTART;TZID=America/Chicago:20220622T160000
DTEND;TZID=America/Chicago:20220622T170000
DTSTAMP:20260421T065111
CREATED:20220621T124517Z
LAST-MODIFIED:20220621T124719Z
UID:13590-1655913600-1655917200@cityofirondaleal.gov
SUMMARY:Commercial Development Authority - City Hall - 4PM
DESCRIPTION:
URL:https://cityofirondaleal.gov/event/commercial-development-authority-city-hall/
END:VEVENT
BEGIN:VEVENT
DTSTART;TZID=America/Chicago:20220621T180000
DTEND;TZID=America/Chicago:20220621T190000
DTSTAMP:20260421T065111
CREATED:20211222T145923Z
LAST-MODIFIED:20220621T124304Z
UID:12575-1655834400-1655838000@cityofirondaleal.gov
SUMMARY:City Council Meeting - Cancelled
DESCRIPTION:
URL:https://cityofirondaleal.gov/event/city-council-meeting-22/
END:VEVENT
BEGIN:VEVENT
DTSTART;TZID=America/Chicago:20220621T160000
DTEND;TZID=America/Chicago:20220621T170000
DTSTAMP:20260421T065111
CREATED:20220124T174150Z
LAST-MODIFIED:20220621T124146Z
UID:12687-1655827200-1655830800@cityofirondaleal.gov
SUMMARY:Commercial Development Authority - City Hall - Cancelled
DESCRIPTION:
URL:https://cityofirondaleal.gov/event/commercial-development-authority-city-of-irondale-6/
END:VEVENT
BEGIN:VEVENT
DTSTART;VALUE=DATE:20220620
DTEND;VALUE=DATE:20220621
DTSTAMP:20260421T065111
CREATED:20211220T195325Z
LAST-MODIFIED:20211220T195325Z
UID:12530-1655683200-1655769599@cityofirondaleal.gov
SUMMARY:City Hall Closed - Juneteenth Day
DESCRIPTION:
URL:https://cityofirondaleal.gov/event/city-hall-closed-juneteenth-day/
END:VEVENT
BEGIN:VEVENT
DTSTART;TZID=America/Chicago:20220614T180000
DTEND;TZID=America/Chicago:20220614T190000
DTSTAMP:20260421T065111
CREATED:20220124T182823Z
LAST-MODIFIED:20220124T182823Z
UID:12736-1655229600-1655233200@cityofirondaleal.gov
SUMMARY:Zoning Board of Adjustment
DESCRIPTION:
URL:https://cityofirondaleal.gov/event/zoning-board-of-adjustment-6/
END:VEVENT
BEGIN:VEVENT
DTSTART;TZID=America/Chicago:20220611T090000
DTEND;TZID=America/Chicago:20220611T130000
DTSTAMP:20260421T065111
CREATED:20220518T214204Z
LAST-MODIFIED:20220518T214204Z
UID:13471-1654938000-1654952400@cityofirondaleal.gov
SUMMARY:2022 Irondale Youth Sports Skills Camp - Shades Valley High School Football Stadium - 9am - 1pm
DESCRIPTION:
URL:https://cityofirondaleal.gov/event/2022-irondale-youth-sports-skills-camp-shades-valley-high-school-football-stadium-9am-1pm/
END:VEVENT
BEGIN:VEVENT
DTSTART;TZID=America/Chicago:20220610T190000
DTEND;TZID=America/Chicago:20220610T190000
DTSTAMP:20260421T065111
CREATED:20220519T141920Z
LAST-MODIFIED:20220519T145756Z
UID:13501-1654887600-1654887600@cityofirondaleal.gov
SUMMARY:Summer Screen Scene Series-Kids Night Featuring Encanto-Free Popcorn\, Snow Cones & Games Beginning at 7pm (Movie begins at dusk(approx 8:15pm). Bring Your Own Lawn Chairs & Blankets.
DESCRIPTION:
URL:https://cityofirondaleal.gov/event/summer-screen-scene-series-kids-night-featuring-encanto-free-popcorn-snow-cones-movie-begins-at-duskapprox-815pm/
END:VEVENT
BEGIN:VEVENT
DTSTART;TZID=America/Chicago:20220608T180000
DTEND;TZID=America/Chicago:20220608T183000
DTSTAMP:20260421T065111
CREATED:20220608T211936Z
LAST-MODIFIED:20220608T211936Z
UID:13538-1654711200-1654713000@cityofirondaleal.gov
SUMMARY:Abatement Board Meeting - City Hall - 6:00PM
DESCRIPTION:
URL:https://cityofirondaleal.gov/event/abatement-board-meeting-city-hall-600pm-2/
END:VEVENT
BEGIN:VEVENT
DTSTART;TZID=America/Chicago:20220607T180000
DTEND;TZID=America/Chicago:20220607T190000
DTSTAMP:20260421T065111
CREATED:20211222T145833Z
LAST-MODIFIED:20211222T145833Z
UID:12573-1654624800-1654628400@cityofirondaleal.gov
SUMMARY:City Council Meeting
DESCRIPTION:
URL:https://cityofirondaleal.gov/event/city-council-meeting-21/
END:VEVENT
BEGIN:VEVENT
DTSTART;TZID=America/Chicago:20220531T180000
DTEND;TZID=America/Chicago:20220531T190000
DTSTAMP:20260421T065111
CREATED:20220519T135742Z
LAST-MODIFIED:20220519T135742Z
UID:13499-1654020000-1654023600@cityofirondaleal.gov
SUMMARY:Interest Meeting-Irondale Youth Baseball & Softball Fall League-Irondale City Hall-6:00pm
DESCRIPTION:
URL:https://cityofirondaleal.gov/event/interest-meeting-irondale-youth-baseball-softball-fall-league-irondale-city-hall-600pm/
END:VEVENT
BEGIN:VEVENT
DTSTART;VALUE=DATE:20220530
DTEND;VALUE=DATE:20220531
DTSTAMP:20260421T065111
CREATED:20211220T195050Z
LAST-MODIFIED:20211220T195050Z
UID:12528-1653868800-1653955199@cityofirondaleal.gov
SUMMARY:City Hall Closed - Memorial Day
DESCRIPTION:
URL:https://cityofirondaleal.gov/event/city-hall-closed-memorial-day/
END:VEVENT
BEGIN:VEVENT
DTSTART;TZID=America/Chicago:20220526T180000
DTEND;TZID=America/Chicago:20220526T190000
DTSTAMP:20260421T065111
CREATED:20220124T180217Z
LAST-MODIFIED:20220124T180217Z
UID:12709-1653588000-1653591600@cityofirondaleal.gov
SUMMARY:Planning & Zoning Commission
DESCRIPTION:
URL:https://cityofirondaleal.gov/event/planning-zoning-commission-4/
END:VEVENT
BEGIN:VEVENT
DTSTART;TZID=America/Chicago:20220521T080000
DTEND;TZID=America/Chicago:20220521T170000
DTSTAMP:20260421T065111
CREATED:20220509T180440Z
LAST-MODIFIED:20220519T134923Z
UID:13463-1653120000-1653152400@cityofirondaleal.gov
SUMMARY:Event moved to 6/11/2022 - Youth Sports Camp for Kids Ages 4-12 - Shades Valley High School
DESCRIPTION:
URL:https://cityofirondaleal.gov/event/youth-sports-camp-for-kids-ages-4-12-time-location-tbd/
END:VEVENT
BEGIN:VEVENT
DTSTART;TZID=America/Chicago:20220519T103000
DTEND;TZID=America/Chicago:20220519T110000
DTSTAMP:20260421T065111
CREATED:20220509T212535Z
LAST-MODIFIED:20220509T212535Z
UID:13467-1652956200-1652958000@cityofirondaleal.gov
SUMMARY:Grand Opening of the new City of Irondale Water Department Office - 1801 Crestwood Blvd.
DESCRIPTION:
URL:https://cityofirondaleal.gov/event/grand-opening-of-the-new-city-of-irondale-water-department-office-1801-crestwood-blvd/
END:VEVENT
BEGIN:VEVENT
DTSTART;TZID=America/Chicago:20220519T080000
DTEND;TZID=America/Chicago:20220519T170000
DTSTAMP:20260421T065111
CREATED:20220519T150607Z
LAST-MODIFIED:20220519T150607Z
UID:13519-1652947200-1652979600@cityofirondaleal.gov
SUMMARY:City Of Irondale's 135th Birthday Celebration - Music Festival - Presented by Mayor James D. Stewart\, Jr. - Time TBD
DESCRIPTION:
URL:https://cityofirondaleal.gov/event/city-of-irondales-135th-birthday-celebration-music-festival-presented-by-mayor-james-d-stewart-jr-time-tbd/
END:VEVENT
BEGIN:VEVENT
DTSTART;TZID=America/Chicago:20220517T180000
DTEND;TZID=America/Chicago:20220517T190000
DTSTAMP:20260421T065111
CREATED:20211222T145639Z
LAST-MODIFIED:20211222T145639Z
UID:12571-1652810400-1652814000@cityofirondaleal.gov
SUMMARY:City Council Meeting
DESCRIPTION:
URL:https://cityofirondaleal.gov/event/city-council-meeting-20/
END:VEVENT
BEGIN:VEVENT
DTSTART;TZID=America/Chicago:20220517T160000
DTEND;TZID=America/Chicago:20220517T170000
DTSTAMP:20260421T065111
CREATED:20220124T174057Z
LAST-MODIFIED:20220203T160951Z
UID:12685-1652803200-1652806800@cityofirondaleal.gov
SUMMARY:Commercial Development Authority - City Hall
DESCRIPTION:
URL:https://cityofirondaleal.gov/event/commercial-development-authority-city-of-irondale-5/
END:VEVENT
BEGIN:VEVENT
DTSTART;TZID=America/Chicago:20220516T180000
DTEND;TZID=America/Chicago:20220516T190000
DTSTAMP:20260421T065111
CREATED:20220504T203622Z
LAST-MODIFIED:20220504T203622Z
UID:13425-1652724000-1652727600@cityofirondaleal.gov
SUMMARY:Multisport Committee Roundtable Discussion - Irondale City Hall - 6:00pm
DESCRIPTION:
URL:https://cityofirondaleal.gov/event/multisport-committee-roundtable-discussion-irondale-city-hall-600pm/
END:VEVENT
BEGIN:VEVENT
DTSTART;TZID=America/Chicago:20220510T180000
DTEND;TZID=America/Chicago:20220510T190000
DTSTAMP:20260421T065111
CREATED:20220124T182728Z
LAST-MODIFIED:20220124T182728Z
UID:12734-1652205600-1652209200@cityofirondaleal.gov
SUMMARY:Zoning Board of Adjustment
DESCRIPTION:
URL:https://cityofirondaleal.gov/event/zoning-board-of-adjustment-5/
END:VEVENT
BEGIN:VEVENT
DTSTART;TZID=America/Chicago:20220509T063000
DTEND;TZID=America/Chicago:20220512T170000
DTSTAMP:20260421T065111
CREATED:20220404T184810Z
LAST-MODIFIED:20220404T184810Z
UID:13273-1652077800-1652374800@cityofirondaleal.gov
SUMMARY:Trash Amnesty - May 9-12\, 2022 - District 2
DESCRIPTION:
URL:https://cityofirondaleal.gov/event/trash-amnesty-may-9-12-2022-district-2/
END:VEVENT
BEGIN:VEVENT
DTSTART;TZID=America/Chicago:20220508T150000
DTEND;TZID=America/Chicago:20220508T153000
DTSTAMP:20260421T065111
CREATED:20220504T195524Z
LAST-MODIFIED:20220504T195524Z
UID:13421-1652022000-1652023800@cityofirondaleal.gov
SUMMARY:Monthly Message from the Mayor-facebook live @ 3pm- Darryl Washington guest interviewer
DESCRIPTION:
URL:https://cityofirondaleal.gov/event/monthly-message-from-the-mayor-facebook-live-3pm-darryl-washington-guest-interviewer/
END:VEVENT
BEGIN:VEVENT
DTSTART;TZID=America/Chicago:20220505T080000
DTEND;TZID=America/Chicago:20220505T100000
DTSTAMP:20260421T065111
CREATED:20220328T203240Z
LAST-MODIFIED:20220328T203240Z
UID:13238-1651737600-1651744800@cityofirondaleal.gov
SUMMARY:Second Annual Mayor's Prayer Breakfast - Church of the Highlands - 8:00am
DESCRIPTION:
URL:https://cityofirondaleal.gov/event/second-annual-mayors-prayer-breakfast-church-of-the-highlands-800am/
END:VEVENT
BEGIN:VEVENT
DTSTART;TZID=America/Chicago:20220503T180000
DTEND;TZID=America/Chicago:20220503T190000
DTSTAMP:20260421T065111
CREATED:20211222T145510Z
LAST-MODIFIED:20211222T145510Z
UID:12569-1651600800-1651604400@cityofirondaleal.gov
SUMMARY:City Council Meeting
DESCRIPTION:
URL:https://cityofirondaleal.gov/event/city-council-meeting-18/
END:VEVENT
BEGIN:VEVENT
DTSTART;TZID=America/Chicago:20220503T070000
DTEND;TZID=America/Chicago:20220503T080000
DTSTAMP:20260421T065111
CREATED:20220404T191004Z
LAST-MODIFIED:20220404T191004Z
UID:13279-1651561200-1651564800@cityofirondaleal.gov
SUMMARY:The Grand Opening of Moon River Canoe Launch - 7:00am
DESCRIPTION:
URL:https://cityofirondaleal.gov/event/the-grand-opening-of-moon-river-canoe-launch-700am/
END:VEVENT
BEGIN:VEVENT
DTSTART;TZID=America/Chicago:20220502T063000
DTEND;TZID=America/Chicago:20220505T170000
DTSTAMP:20260421T065111
CREATED:20220404T184446Z
LAST-MODIFIED:20220404T185710Z
UID:13271-1651473000-1651770000@cityofirondaleal.gov
SUMMARY:Trash Amnesty - May 2-5\, 2022 - District 1
DESCRIPTION:
URL:https://cityofirondaleal.gov/event/trash-amnesty-may-2-5-2022-district-1/
END:VEVENT
END:VCALENDAR