BEGIN:VCALENDAR
VERSION:2.0
PRODID:-//City of Irondale - ECPv6.0.13.1//NONSGML v1.0//EN
CALSCALE:GREGORIAN
METHOD:PUBLISH
X-WR-CALNAME:City of Irondale
X-ORIGINAL-URL:https://cityofirondaleal.gov
X-WR-CALDESC:Events for City of Irondale
REFRESH-INTERVAL;VALUE=DURATION:PT1H
X-Robots-Tag:noindex
X-PUBLISHED-TTL:PT1H
BEGIN:VTIMEZONE
TZID:America/Chicago
BEGIN:DAYLIGHT
TZOFFSETFROM:-0600
TZOFFSETTO:-0500
TZNAME:CDT
DTSTART:20220313T080000
END:DAYLIGHT
BEGIN:STANDARD
TZOFFSETFROM:-0500
TZOFFSETTO:-0600
TZNAME:CST
DTSTART:20221106T070000
END:STANDARD
END:VTIMEZONE
BEGIN:VEVENT
DTSTART;TZID=America/Chicago:20220505T080000
DTEND;TZID=America/Chicago:20220505T100000
DTSTAMP:20260421T073623
CREATED:20220328T203240Z
LAST-MODIFIED:20220328T203240Z
UID:13238-1651737600-1651744800@cityofirondaleal.gov
SUMMARY:Second Annual Mayor's Prayer Breakfast - Church of the Highlands - 8:00am
DESCRIPTION:
URL:https://cityofirondaleal.gov/event/second-annual-mayors-prayer-breakfast-church-of-the-highlands-800am/
END:VEVENT
BEGIN:VEVENT
DTSTART;TZID=America/Chicago:20220503T180000
DTEND;TZID=America/Chicago:20220503T190000
DTSTAMP:20260421T073623
CREATED:20211222T145510Z
LAST-MODIFIED:20211222T145510Z
UID:12569-1651600800-1651604400@cityofirondaleal.gov
SUMMARY:City Council Meeting
DESCRIPTION:
URL:https://cityofirondaleal.gov/event/city-council-meeting-18/
END:VEVENT
BEGIN:VEVENT
DTSTART;TZID=America/Chicago:20220503T070000
DTEND;TZID=America/Chicago:20220503T080000
DTSTAMP:20260421T073623
CREATED:20220404T191004Z
LAST-MODIFIED:20220404T191004Z
UID:13279-1651561200-1651564800@cityofirondaleal.gov
SUMMARY:The Grand Opening of Moon River Canoe Launch - 7:00am
DESCRIPTION:
URL:https://cityofirondaleal.gov/event/the-grand-opening-of-moon-river-canoe-launch-700am/
END:VEVENT
BEGIN:VEVENT
DTSTART;TZID=America/Chicago:20220502T063000
DTEND;TZID=America/Chicago:20220505T170000
DTSTAMP:20260421T073623
CREATED:20220404T184446Z
LAST-MODIFIED:20220404T185710Z
UID:13271-1651473000-1651770000@cityofirondaleal.gov
SUMMARY:Trash Amnesty - May 2-5\, 2022 - District 1
DESCRIPTION:
URL:https://cityofirondaleal.gov/event/trash-amnesty-may-2-5-2022-district-1/
END:VEVENT
BEGIN:VEVENT
DTSTART;TZID=America/Chicago:20220430T104500
DTEND;TZID=America/Chicago:20220430T124500
DTSTAMP:20260421T073623
CREATED:20220328T202723Z
LAST-MODIFIED:20220407T145435Z
UID:13235-1651315500-1651322700@cityofirondaleal.gov
SUMMARY:Prayer Walk through the City of Irondale - City Hall - 10:45am
DESCRIPTION:
URL:https://cityofirondaleal.gov/event/prayer-walk-through-the-city-of-irondale-city-hall-900am/
END:VEVENT
BEGIN:VEVENT
DTSTART;TZID=America/Chicago:20220428T180000
DTEND;TZID=America/Chicago:20220428T190000
DTSTAMP:20260421T073623
CREATED:20220124T175934Z
LAST-MODIFIED:20220124T175934Z
UID:12707-1651168800-1651172400@cityofirondaleal.gov
SUMMARY:Planning & Zoning Commission
DESCRIPTION:
URL:https://cityofirondaleal.gov/event/planning-zoning-commission-3/
END:VEVENT
BEGIN:VEVENT
DTSTART;TZID=America/Chicago:20220425T063000
DTEND;TZID=America/Chicago:20220428T170000
DTSTAMP:20260421T073623
CREATED:20220404T184145Z
LAST-MODIFIED:20220404T185207Z
UID:13269-1650868200-1651165200@cityofirondaleal.gov
SUMMARY:Trash Amnesty Week - April 25-28\, 2022 - District 5
DESCRIPTION:
URL:https://cityofirondaleal.gov/event/trash-amnesty-week-april-25-28-2022-district-5/
END:VEVENT
BEGIN:VEVENT
DTSTART;TZID=America/Chicago:20220419T180000
DTEND;TZID=America/Chicago:20220419T190000
DTSTAMP:20260421T073623
CREATED:20211220T221912Z
LAST-MODIFIED:20211220T221912Z
UID:12566-1650391200-1650394800@cityofirondaleal.gov
SUMMARY:City Council Meeting
DESCRIPTION:
URL:https://cityofirondaleal.gov/event/city-council-meeting-19/
END:VEVENT
BEGIN:VEVENT
DTSTART;TZID=America/Chicago:20220419T170000
DTEND;TZID=America/Chicago:20220419T180000
DTSTAMP:20260421T073623
CREATED:20220203T145746Z
LAST-MODIFIED:20220203T145746Z
UID:12805-1650387600-1650391200@cityofirondaleal.gov
SUMMARY:Water Department Committee Meeting - City Hall
DESCRIPTION:
URL:https://cityofirondaleal.gov/event/water-department-committee-meeting-city-hall/
END:VEVENT
BEGIN:VEVENT
DTSTART;TZID=America/Chicago:20220419T160000
DTEND;TZID=America/Chicago:20220419T170000
DTSTAMP:20260421T073623
CREATED:20220124T174013Z
LAST-MODIFIED:20220203T160222Z
UID:12683-1650384000-1650387600@cityofirondaleal.gov
SUMMARY:Commercial Development Authority - City Hall
DESCRIPTION:
URL:https://cityofirondaleal.gov/event/commercial-development-authority-city-of-irondale-4/
END:VEVENT
BEGIN:VEVENT
DTSTART;TZID=America/Chicago:20220418T063000
DTEND;TZID=America/Chicago:20220421T170000
DTSTAMP:20260421T073623
CREATED:20220404T183516Z
LAST-MODIFIED:20220404T185123Z
UID:13266-1650263400-1650560400@cityofirondaleal.gov
SUMMARY:Trash Amnesty Week - April 18-21\, 2022 - District 4
DESCRIPTION:
URL:https://cityofirondaleal.gov/event/trash-amnesty-week-april-18-21-2022-district-4/
END:VEVENT
BEGIN:VEVENT
DTSTART;TZID=America/Chicago:20220416T130000
DTEND;TZID=America/Chicago:20220416T160000
DTSTAMP:20260421T073623
CREATED:20220324T161003Z
LAST-MODIFIED:20220324T161003Z
UID:13212-1650114000-1650124800@cityofirondaleal.gov
SUMMARY:Irondale Young Entrepreneurs Day 2022-Shades Valley High School Gymnasium-1:00pm - 4:00pm
DESCRIPTION:
URL:https://cityofirondaleal.gov/event/irondale-young-entrepreneurs-day-2022-shades-valley-high-school-gymnasium-100pm-400pm/
END:VEVENT
BEGIN:VEVENT
DTSTART;TZID=America/Chicago:20220412T180000
DTEND;TZID=America/Chicago:20220412T190000
DTSTAMP:20260421T073623
CREATED:20220124T182631Z
LAST-MODIFIED:20220124T182631Z
UID:12732-1649786400-1649790000@cityofirondaleal.gov
SUMMARY:Zoning Board of Adjustment
DESCRIPTION:
URL:https://cityofirondaleal.gov/event/zoning-board-of-adjustment-4/
END:VEVENT
BEGIN:VEVENT
DTSTART;TZID=America/Chicago:20220411T063000
DTEND;TZID=America/Chicago:20220414T170000
DTSTAMP:20260421T073623
CREATED:20220404T182638Z
LAST-MODIFIED:20220404T185003Z
UID:13264-1649658600-1649955600@cityofirondaleal.gov
SUMMARY:Trash Amnesty Week - April 11-14\, 2022 - District 3
DESCRIPTION:
URL:https://cityofirondaleal.gov/event/trash-amnesty-week-april-11-14-2022-district-3/
END:VEVENT
BEGIN:VEVENT
DTSTART;TZID=America/Chicago:20220410T143000
DTEND;TZID=America/Chicago:20220410T163000
DTSTAMP:20260421T073623
CREATED:20220328T202448Z
LAST-MODIFIED:20220328T202448Z
UID:13233-1649601000-1649608200@cityofirondaleal.gov
SUMMARY:Irondale Easter Eggs-perience-2:30pm-4:30pm-Beacon Park
DESCRIPTION:
URL:https://cityofirondaleal.gov/event/irondale-easter-eggs-perience-230pm-430pm-beacon-park/
END:VEVENT
BEGIN:VEVENT
DTSTART;TZID=America/Chicago:20220409T080000
DTEND;TZID=America/Chicago:20220409T113000
DTSTAMP:20260421T073623
CREATED:20220222T150710Z
LAST-MODIFIED:20220222T150710Z
UID:12868-1649491200-1649503800@cityofirondaleal.gov
SUMMARY:Hazardous Waste Day - Classic Car Motoring - 8am-11:30am
DESCRIPTION:
URL:https://cityofirondaleal.gov/event/hazardous-waste-day-classic-car-motoring-8am-1130am/
END:VEVENT
BEGIN:VEVENT
DTSTART;TZID=America/Chicago:20220405T180000
DTEND;TZID=America/Chicago:20220405T190000
DTSTAMP:20260421T073623
CREATED:20211220T221739Z
LAST-MODIFIED:20211220T221739Z
UID:12562-1649181600-1649185200@cityofirondaleal.gov
SUMMARY:City Council Meeting
DESCRIPTION:
URL:https://cityofirondaleal.gov/event/city-council-meeting-17/
END:VEVENT
BEGIN:VEVENT
DTSTART;TZID=America/Chicago:20220403T150000
DTEND;TZID=America/Chicago:20220403T153000
DTSTAMP:20260421T073623
CREATED:20220328T202125Z
LAST-MODIFIED:20220330T185048Z
UID:13231-1648998000-1648999800@cityofirondaleal.gov
SUMMARY:Monthly Message from the Mayor-Facebook live - 3PM - Guest Interviewer\, Trent Richardson
DESCRIPTION:
URL:https://cityofirondaleal.gov/event/monthly-message-from-the-mayor-facebook-live-3pm/
END:VEVENT
BEGIN:VEVENT
DTSTART;TZID=America/Chicago:20220402T080000
DTEND;TZID=America/Chicago:20220402T120000
DTSTAMP:20260421T073623
CREATED:20220328T201738Z
LAST-MODIFIED:20220328T203559Z
UID:13228-1648886400-1648900800@cityofirondaleal.gov
SUMMARY:Grants Mill Road Clean Up Day-Church of the Highlands Parking Lot - 8am
DESCRIPTION:
URL:https://cityofirondaleal.gov/event/grants-mill-road-clean-up-day-church-of-the-highlands-parking-lot/
END:VEVENT
BEGIN:VEVENT
DTSTART;TZID=America/Chicago:20220331T180000
DTEND;TZID=America/Chicago:20220331T190000
DTSTAMP:20260421T073623
CREATED:20220124T175844Z
LAST-MODIFIED:20220307T190630Z
UID:12705-1648749600-1648753200@cityofirondaleal.gov
SUMMARY:Planning & Zoning Commission-6PM
DESCRIPTION:
URL:https://cityofirondaleal.gov/event/planning-zoning-commission-2/
END:VEVENT
BEGIN:VEVENT
DTSTART;TZID=America/Chicago:20220323T180000
DTEND;TZID=America/Chicago:20220323T190000
DTSTAMP:20260421T073623
CREATED:20220224T162731Z
LAST-MODIFIED:20220302T183825Z
UID:12920-1648058400-1648062000@cityofirondaleal.gov
SUMMARY:Graduation for Citizen Engagement Institute-Police Substation-6PM
DESCRIPTION:
URL:https://cityofirondaleal.gov/event/citizen-engagement-institute-police-substation-6pm-6/
END:VEVENT
BEGIN:VEVENT
DTSTART;TZID=America/Chicago:20220322T070000
DTEND;TZID=America/Chicago:20220322T190000
DTSTAMP:20260421T073623
CREATED:20220302T183657Z
LAST-MODIFIED:20220302T183657Z
UID:12940-1647932400-1647975600@cityofirondaleal.gov
SUMMARY:Election Day (Build a Brighter Future for Irondale)-Irondale City Hall-7am-7pm
DESCRIPTION:
URL:https://cityofirondaleal.gov/event/election-day-build-a-brighter-future-for-irondale-irondale-city-hall-7am-7pm/
END:VEVENT
BEGIN:VEVENT
DTSTART;TZID=America/Chicago:20220317T180000
DTEND;TZID=America/Chicago:20220317T190000
DTSTAMP:20260421T073623
CREATED:20220302T182217Z
LAST-MODIFIED:20220302T183015Z
UID:12932-1647540000-1647543600@cityofirondaleal.gov
SUMMARY:Town Hall Meeting - Shades Valley High School Auditorium-6PM
DESCRIPTION:
URL:https://cityofirondaleal.gov/event/town-hall-meeting-shades-valley-high-school-auditorium/
END:VEVENT
BEGIN:VEVENT
DTSTART;TZID=America/Chicago:20220316T180000
DTEND;TZID=America/Chicago:20220316T190000
DTSTAMP:20260421T073623
CREATED:20220314T190424Z
LAST-MODIFIED:20220314T190424Z
UID:13007-1647453600-1647457200@cityofirondaleal.gov
SUMMARY:Abatement Board Meeting - City Hall - 6:00pm
DESCRIPTION:
URL:https://cityofirondaleal.gov/event/abatement-board-meeting-city-hall-600pm/
END:VEVENT
BEGIN:VEVENT
DTSTART;TZID=America/Chicago:20220316T180000
DTEND;TZID=America/Chicago:20220316T190000
DTSTAMP:20260421T073623
CREATED:20220224T162640Z
LAST-MODIFIED:20220224T162640Z
UID:12918-1647453600-1647457200@cityofirondaleal.gov
SUMMARY:Citizen Engagement Institute-Police Substation-6PM
DESCRIPTION:
URL:https://cityofirondaleal.gov/event/citizen-engagement-institute-police-substation-6pm-5/
END:VEVENT
BEGIN:VEVENT
DTSTART;TZID=America/Chicago:20220315T180000
DTEND;TZID=America/Chicago:20220315T190000
DTSTAMP:20260421T073623
CREATED:20211220T221654Z
LAST-MODIFIED:20211220T221654Z
UID:12560-1647367200-1647370800@cityofirondaleal.gov
SUMMARY:City Council Meeting
DESCRIPTION:
URL:https://cityofirondaleal.gov/event/city-council-meeting-16/
END:VEVENT
BEGIN:VEVENT
DTSTART;TZID=America/Chicago:20220315T160000
DTEND;TZID=America/Chicago:20220315T170000
DTSTAMP:20260421T073623
CREATED:20220124T173903Z
LAST-MODIFIED:20220203T160547Z
UID:12681-1647360000-1647363600@cityofirondaleal.gov
SUMMARY:Commercial Development Authority - City Hall
DESCRIPTION:
URL:https://cityofirondaleal.gov/event/commercial-development-authority-city-of-irondale-3/
END:VEVENT
BEGIN:VEVENT
DTSTART;TZID=America/Chicago:20220310T100000
DTEND;TZID=America/Chicago:20220310T110000
DTSTAMP:20260421T073623
CREATED:20220302T182522Z
LAST-MODIFIED:20220302T182522Z
UID:12934-1646906400-1646910000@cityofirondaleal.gov
SUMMARY:Coffee with the Mayor - Irondale City Hall - 10:00am-11:00am
DESCRIPTION:
URL:https://cityofirondaleal.gov/event/coffee-with-the-mayor-irondale-city-hall-1000am-1100am/
END:VEVENT
BEGIN:VEVENT
DTSTART;TZID=America/Chicago:20220310T090000
DTEND;TZID=America/Chicago:20220310T120000
DTSTAMP:20260421T073623
CREATED:20220222T150938Z
LAST-MODIFIED:20220222T150938Z
UID:12870-1646902800-1646913600@cityofirondaleal.gov
SUMMARY:Court Amnesty Day-City Hall-9am
DESCRIPTION:
URL:https://cityofirondaleal.gov/event/court-amnesty-day-city-hall-9am/
END:VEVENT
BEGIN:VEVENT
DTSTART;TZID=America/Chicago:20220309T180000
DTEND;TZID=America/Chicago:20220309T190000
DTSTAMP:20260421T073623
CREATED:20220224T162600Z
LAST-MODIFIED:20220224T162600Z
UID:12916-1646848800-1646852400@cityofirondaleal.gov
SUMMARY:Citizen Engagement Institute-Police Substation-6PM
DESCRIPTION:
URL:https://cityofirondaleal.gov/event/citizen-engagement-institute-police-substation-6pm-4/
END:VEVENT
END:VCALENDAR