BEGIN:VCALENDAR
VERSION:2.0
PRODID:-//City of Irondale - ECPv6.0.13.1//NONSGML v1.0//EN
CALSCALE:GREGORIAN
METHOD:PUBLISH
X-WR-CALNAME:City of Irondale
X-ORIGINAL-URL:https://cityofirondaleal.gov
X-WR-CALDESC:Events for City of Irondale
REFRESH-INTERVAL;VALUE=DURATION:PT1H
X-Robots-Tag:noindex
X-PUBLISHED-TTL:PT1H
BEGIN:VTIMEZONE
TZID:America/Chicago
BEGIN:DAYLIGHT
TZOFFSETFROM:-0600
TZOFFSETTO:-0500
TZNAME:CDT
DTSTART:20220313T080000
END:DAYLIGHT
BEGIN:STANDARD
TZOFFSETFROM:-0500
TZOFFSETTO:-0600
TZNAME:CST
DTSTART:20221106T070000
END:STANDARD
END:VTIMEZONE
BEGIN:VEVENT
DTSTART;TZID=America/Chicago:20221015T090000
DTEND;TZID=America/Chicago:20221015T110000
DTSTAMP:20260420T202242
CREATED:20220926T190722Z
LAST-MODIFIED:20220926T190722Z
UID:13937-1665824400-1665831600@cityofirondaleal.gov
SUMMARY:Youth Mounties Homecoming - Shades Valley High School Stadium - 9:00am
DESCRIPTION:
URL:https://cityofirondaleal.gov/event/youth-mounties-homecoming-shades-valley-high-school-stadium-900am/
END:VEVENT
BEGIN:VEVENT
DTSTART;TZID=America/Chicago:20221013T180000
DTEND;TZID=America/Chicago:20221013T190000
DTSTAMP:20260420T202242
CREATED:20220831T185424Z
LAST-MODIFIED:20220831T185424Z
UID:13826-1665684000-1665687600@cityofirondaleal.gov
SUMMARY:Citizen Engagement Institute - Irondale Police Substation - 6:00pm
DESCRIPTION:
URL:https://cityofirondaleal.gov/event/citizen-engagement-institute-irondale-police-substation-600pm-6/
END:VEVENT
BEGIN:VEVENT
DTSTART;TZID=America/Chicago:20221012T180000
DTEND;TZID=America/Chicago:20221012T183000
DTSTAMP:20260420T202242
CREATED:20220608T213528Z
LAST-MODIFIED:20220608T213528Z
UID:13546-1665597600-1665599400@cityofirondaleal.gov
SUMMARY:Abatement Board Meeting - City Hall - 6:00PM
DESCRIPTION:
URL:https://cityofirondaleal.gov/event/abatement-board-meeting-city-hall-600pm-5/
END:VEVENT
BEGIN:VEVENT
DTSTART;TZID=America/Chicago:20221011T180000
DTEND;TZID=America/Chicago:20221011T190000
DTSTAMP:20260420T202242
CREATED:20220124T183102Z
LAST-MODIFIED:20220124T183102Z
UID:12744-1665511200-1665514800@cityofirondaleal.gov
SUMMARY:Zoning Board of Adjustment
DESCRIPTION:
URL:https://cityofirondaleal.gov/event/zoning-board-of-adjustment-10/
END:VEVENT
BEGIN:VEVENT
DTSTART;TZID=America/Chicago:20221011T170000
DTEND;TZID=America/Chicago:20221011T180000
DTSTAMP:20260420T202242
CREATED:20221003T215057Z
LAST-MODIFIED:20221003T215057Z
UID:13977-1665507600-1665511200@cityofirondaleal.gov
SUMMARY:Economic Development Strategic Committee - 5:00pm - Irondale City Council Chambers
DESCRIPTION:
URL:https://cityofirondaleal.gov/event/economic-development-strategic-committee-500pm-irondale-city-council-chambers/
END:VEVENT
BEGIN:VEVENT
DTSTART;VALUE=DATE:20221010
DTEND;VALUE=DATE:20221011
DTSTAMP:20260420T202242
CREATED:20211220T195627Z
LAST-MODIFIED:20211220T195627Z
UID:12536-1665360000-1665446399@cityofirondaleal.gov
SUMMARY:City Hall Closed - Columbus Day
DESCRIPTION:
URL:https://cityofirondaleal.gov/event/city-hall-closed-columbus-day/
END:VEVENT
BEGIN:VEVENT
DTSTART;TZID=America/Chicago:20221006T180000
DTEND;TZID=America/Chicago:20221006T190000
DTSTAMP:20260420T202242
CREATED:20220831T185324Z
LAST-MODIFIED:20220831T185324Z
UID:13824-1665079200-1665082800@cityofirondaleal.gov
SUMMARY:Citizen Engagement Institute - Irondale Police Substation - 6:00pm
DESCRIPTION:
URL:https://cityofirondaleal.gov/event/citizen-engagement-institute-irondale-police-substation-600pm-5/
END:VEVENT
BEGIN:VEVENT
DTSTART;TZID=America/Chicago:20221006T090000
DTEND;TZID=America/Chicago:20221006T100000
DTSTAMP:20260420T202242
CREATED:20220926T190305Z
LAST-MODIFIED:20220926T190305Z
UID:13933-1665046800-1665050400@cityofirondaleal.gov
SUMMARY:Mayor's Monthly Prayer Meeting - Church of the Highlands - 9:00am
DESCRIPTION:
URL:https://cityofirondaleal.gov/event/mayors-monthly-prayer-meeting-church-of-the-highlands-900am-4/
END:VEVENT
BEGIN:VEVENT
DTSTART;TZID=America/Chicago:20221005T180000
DTEND;TZID=America/Chicago:20221005T190000
DTSTAMP:20260420T202242
CREATED:20211222T151028Z
LAST-MODIFIED:20220926T185950Z
UID:12589-1664992800-1664996400@cityofirondaleal.gov
SUMMARY:City Council Meeting
DESCRIPTION:
URL:https://cityofirondaleal.gov/event/city-council-meeting-29/
END:VEVENT
BEGIN:VEVENT
DTSTART;TZID=America/Chicago:20221004T180000
DTEND;TZID=America/Chicago:20221004T200000
DTSTAMP:20260420T202242
CREATED:20220926T184333Z
LAST-MODIFIED:20220926T184333Z
UID:13929-1664906400-1664913600@cityofirondaleal.gov
SUMMARY:National Night Out with Irondale Police Department - Historic Downtown Irondale - 6:00pm - 8:00pm
DESCRIPTION:
URL:https://cityofirondaleal.gov/event/national-night-out-with-irondale-police-department-historic-downtown-irondale-600pm-800pm/
END:VEVENT
BEGIN:VEVENT
DTSTART;TZID=America/Chicago:20221002T150000
DTEND;TZID=America/Chicago:20221002T153000
DTSTAMP:20260420T202242
CREATED:20220926T184043Z
LAST-MODIFIED:20220926T184043Z
UID:13926-1664722800-1664724600@cityofirondaleal.gov
SUMMARY:Message from the Mayor - Tune in on Facebook @ Mayor James D. Stewart\, Jr. - 3:00pm
DESCRIPTION:
URL:https://cityofirondaleal.gov/event/message-from-the-mayor-tune-in-on-facebook-mayor-james-d-stewart-jr-300pm/
END:VEVENT
BEGIN:VEVENT
DTSTART;TZID=America/Chicago:20221001T100000
DTEND;TZID=America/Chicago:20221001T170000
DTSTAMP:20260420T202242
CREATED:20220920T131335Z
LAST-MODIFIED:20220920T131335Z
UID:13856-1664618400-1664643600@cityofirondaleal.gov
SUMMARY:The 30th Annual Whistle Stop Festival-Oct. 1\, 2022 @ 10:00am-5:00pm-Historic Downtown Irondale
DESCRIPTION:
URL:https://cityofirondaleal.gov/event/the-30th-annual-whistle-stop-festival-oct-1-2022-1000am-500pm-historic-downtown-irondale/
END:VEVENT
BEGIN:VEVENT
DTSTART;TZID=America/Chicago:20220929T180000
DTEND;TZID=America/Chicago:20220929T190000
DTSTAMP:20260420T202242
CREATED:20220831T185208Z
LAST-MODIFIED:20220831T185208Z
UID:13822-1664474400-1664478000@cityofirondaleal.gov
SUMMARY:Citizen Engagement Institute - Irondale Police Substation - 6:00pm
DESCRIPTION:
URL:https://cityofirondaleal.gov/event/citizen-engagement-institute-irondale-police-substation-600pm-4/
END:VEVENT
BEGIN:VEVENT
DTSTART;TZID=America/Chicago:20220929T180000
DTEND;TZID=America/Chicago:20220929T190000
DTSTAMP:20260420T202242
CREATED:20220124T180805Z
LAST-MODIFIED:20220124T180805Z
UID:12717-1664474400-1664478000@cityofirondaleal.gov
SUMMARY:Planning & Zoning Commission
DESCRIPTION:
URL:https://cityofirondaleal.gov/event/planning-zoning-commission-8/
END:VEVENT
BEGIN:VEVENT
DTSTART;TZID=America/Chicago:20220927T170000
DTEND;TZID=America/Chicago:20220927T180000
DTSTAMP:20260420T202242
CREATED:20220927T161509Z
LAST-MODIFIED:20220927T161509Z
UID:13956-1664298000-1664301600@cityofirondaleal.gov
SUMMARY:Ordinance Committee Meeting - 5PM - City Hall
DESCRIPTION:
URL:https://cityofirondaleal.gov/event/ordinance-committee-meeting-5pm-city-hall/
END:VEVENT
BEGIN:VEVENT
DTSTART;TZID=America/Chicago:20220925T140000
DTEND;TZID=America/Chicago:20220925T220000
DTSTAMP:20260420T202242
CREATED:20220519T151114Z
LAST-MODIFIED:20220831T190327Z
UID:13521-1664114400-1664143200@cityofirondaleal.gov
SUMMARY:City of Irondale's 135th Birthday Celebration MUSIC FESTIVAL - Presented by Mayor James D. Stewart\, Jr. - Beacon Park - Gates open @ 2:00pm - Show 4:00pm - 10:00pm
DESCRIPTION:
URL:https://cityofirondaleal.gov/event/city-of-irondales-135th-birthday-celebration-music-festival-presented-by-mayor-james-d-stewart-jr-beacon-park-time-tbd/
END:VEVENT
BEGIN:VEVENT
DTSTART;TZID=America/Chicago:20220922T180000
DTEND;TZID=America/Chicago:20220922T190000
DTSTAMP:20260420T202242
CREATED:20220831T185104Z
LAST-MODIFIED:20220831T185104Z
UID:13820-1663869600-1663873200@cityofirondaleal.gov
SUMMARY:Citizen Engagement Institute - Irondale Police Substation - 6:00pm
DESCRIPTION:
URL:https://cityofirondaleal.gov/event/citizen-engagement-institute-irondale-police-substation-600pm-3/
END:VEVENT
BEGIN:VEVENT
DTSTART;TZID=America/Chicago:20220920T180000
DTEND;TZID=America/Chicago:20220920T190000
DTSTAMP:20260420T202242
CREATED:20211222T150756Z
LAST-MODIFIED:20211222T150756Z
UID:12587-1663696800-1663700400@cityofirondaleal.gov
SUMMARY:City Council Meeting
DESCRIPTION:
URL:https://cityofirondaleal.gov/event/city-council-meeting-28/
END:VEVENT
BEGIN:VEVENT
DTSTART;TZID=America/Chicago:20220920T160000
DTEND;TZID=America/Chicago:20220920T170000
DTSTAMP:20260420T202242
CREATED:20220124T174440Z
LAST-MODIFIED:20220203T162133Z
UID:12693-1663689600-1663693200@cityofirondaleal.gov
SUMMARY:Commercial Development Authority - City Hall
DESCRIPTION:
URL:https://cityofirondaleal.gov/event/commercial-development-authority-city-of-irondale-9/
END:VEVENT
BEGIN:VEVENT
DTSTART;TZID=America/Chicago:20220915T180000
DTEND;TZID=America/Chicago:20220915T190000
DTSTAMP:20260420T202242
CREATED:20220831T184958Z
LAST-MODIFIED:20220831T184958Z
UID:13818-1663264800-1663268400@cityofirondaleal.gov
SUMMARY:Citizen Engagement Institute - Irondale Police Substation - 6:00pm
DESCRIPTION:
URL:https://cityofirondaleal.gov/event/citizen-engagement-institute-irondale-police-substation-600pm-2/
END:VEVENT
BEGIN:VEVENT
DTSTART;TZID=America/Chicago:20220914T180000
DTEND;TZID=America/Chicago:20220914T183000
DTSTAMP:20260420T202242
CREATED:20220608T214813Z
LAST-MODIFIED:20220608T214813Z
UID:13552-1663178400-1663180200@cityofirondaleal.gov
SUMMARY:Abatement Board Meeting - City Hall - 6:00PM
DESCRIPTION:
URL:https://cityofirondaleal.gov/event/abatement-board-meeting-city-hall-600pm-8/
END:VEVENT
BEGIN:VEVENT
DTSTART;TZID=America/Chicago:20220913T180000
DTEND;TZID=America/Chicago:20220913T190000
DTSTAMP:20260420T202242
CREATED:20220906T182655Z
LAST-MODIFIED:20220906T182655Z
UID:13832-1663092000-1663095600@cityofirondaleal.gov
SUMMARY:City Council Work Session - Irondale City Council Chambers - 6:00pm
DESCRIPTION:
URL:https://cityofirondaleal.gov/event/city-council-work-session-irondale-city-council-chambers-600pm/
END:VEVENT
BEGIN:VEVENT
DTSTART;TZID=America/Chicago:20220913T180000
DTEND;TZID=America/Chicago:20220913T190000
DTSTAMP:20260420T202242
CREATED:20220124T183024Z
LAST-MODIFIED:20220124T183024Z
UID:12742-1663092000-1663095600@cityofirondaleal.gov
SUMMARY:Zoning Board of Adjustment
DESCRIPTION:
URL:https://cityofirondaleal.gov/event/zoning-board-of-adjustment-9/
END:VEVENT
BEGIN:VEVENT
DTSTART;TZID=America/Chicago:20220908T180000
DTEND;TZID=America/Chicago:20220908T190000
DTSTAMP:20260420T202242
CREATED:20220831T184831Z
LAST-MODIFIED:20220831T184831Z
UID:13816-1662660000-1662663600@cityofirondaleal.gov
SUMMARY:Citizen Engagement Institute - Irondale Police Substation - 6:00pm
DESCRIPTION:Citien Engagemet
URL:https://cityofirondaleal.gov/event/citizen-engagement-institute-irondale-police-substation-600pm/
END:VEVENT
BEGIN:VEVENT
DTSTART;TZID=America/Chicago:20220907T070000
DTEND;TZID=America/Chicago:20220907T170000
DTSTAMP:20260420T202242
CREATED:20220831T190725Z
LAST-MODIFIED:20220831T190725Z
UID:13830-1662534000-1662570000@cityofirondaleal.gov
SUMMARY:Parks & Green Space Master Plan Survey - Deadline\, September 7\, 2022
DESCRIPTION:
URL:https://cityofirondaleal.gov/event/parks-green-space-master-plan-survey-deadline-september-7-2022/
END:VEVENT
BEGIN:VEVENT
DTSTART;TZID=America/Chicago:20220906T180000
DTEND;TZID=America/Chicago:20220906T190000
DTSTAMP:20260420T202242
CREATED:20211222T150708Z
LAST-MODIFIED:20211222T150708Z
UID:12585-1662487200-1662490800@cityofirondaleal.gov
SUMMARY:City Council Meeting
DESCRIPTION:
URL:https://cityofirondaleal.gov/event/city-council-meeting-27/
END:VEVENT
BEGIN:VEVENT
DTSTART;VALUE=DATE:20220905
DTEND;VALUE=DATE:20220906
DTSTAMP:20260420T202242
CREATED:20211220T195524Z
LAST-MODIFIED:20211220T195524Z
UID:12534-1662336000-1662422399@cityofirondaleal.gov
SUMMARY:City Hall Closed - Labor Day
DESCRIPTION:
URL:https://cityofirondaleal.gov/event/city-hall-closed-labor-day/
END:VEVENT
BEGIN:VEVENT
DTSTART;TZID=America/Chicago:20220904T150000
DTEND;TZID=America/Chicago:20220904T153000
DTSTAMP:20260420T202242
CREATED:20220831T184007Z
LAST-MODIFIED:20220831T184007Z
UID:13812-1662303600-1662305400@cityofirondaleal.gov
SUMMARY:Message from the Mayor - Facebook Live - 3:00pm
DESCRIPTION:
URL:https://cityofirondaleal.gov/event/message-from-the-mayor-facebook-live-300pm/
END:VEVENT
BEGIN:VEVENT
DTSTART;TZID=America/Chicago:20220901T090000
DTEND;TZID=America/Chicago:20220901T100000
DTSTAMP:20260420T202242
CREATED:20220831T184332Z
LAST-MODIFIED:20220831T184332Z
UID:13814-1662022800-1662026400@cityofirondaleal.gov
SUMMARY:Mayor's Monthly Prayer Meeting - Church of the Highlands - 9:00am
DESCRIPTION:
URL:https://cityofirondaleal.gov/event/mayors-monthly-prayer-meeting-church-of-the-highlands-900am-3/
END:VEVENT
BEGIN:VEVENT
DTSTART;TZID=America/Chicago:20220830T170000
DTEND;TZID=America/Chicago:20220830T180000
DTSTAMP:20260420T202242
CREATED:20220822T153107Z
LAST-MODIFIED:20220822T153107Z
UID:13797-1661878800-1661882400@cityofirondaleal.gov
SUMMARY:Ordinance Committee Meeting - City Hall - 5:00PM
DESCRIPTION:
URL:https://cityofirondaleal.gov/event/ordinance-committee-meeting-city-hall-500pm/
END:VEVENT
END:VCALENDAR