BEGIN:VCALENDAR
VERSION:2.0
PRODID:-//City of Irondale - ECPv6.0.13.1//NONSGML v1.0//EN
CALSCALE:GREGORIAN
METHOD:PUBLISH
X-WR-CALNAME:City of Irondale
X-ORIGINAL-URL:https://cityofirondaleal.gov
X-WR-CALDESC:Events for City of Irondale
REFRESH-INTERVAL;VALUE=DURATION:PT1H
X-Robots-Tag:noindex
X-PUBLISHED-TTL:PT1H
BEGIN:VTIMEZONE
TZID:America/Chicago
BEGIN:DAYLIGHT
TZOFFSETFROM:-0600
TZOFFSETTO:-0500
TZNAME:CDT
DTSTART:20220313T080000
END:DAYLIGHT
BEGIN:STANDARD
TZOFFSETFROM:-0500
TZOFFSETTO:-0600
TZNAME:CST
DTSTART:20221106T070000
END:STANDARD
BEGIN:DAYLIGHT
TZOFFSETFROM:-0600
TZOFFSETTO:-0500
TZNAME:CDT
DTSTART:20230312T080000
END:DAYLIGHT
BEGIN:STANDARD
TZOFFSETFROM:-0500
TZOFFSETTO:-0600
TZNAME:CST
DTSTART:20231105T070000
END:STANDARD
END:VTIMEZONE
BEGIN:VEVENT
DTSTART;TZID=America/Chicago:20230217T080000
DTEND;TZID=America/Chicago:20230217T170000
DTSTAMP:20260420T073956
CREATED:20230123T143000Z
LAST-MODIFIED:20230123T143000Z
UID:14551-1676620800-1676653200@cityofirondaleal.gov
SUMMARY:2023 Black History Month Art Challenge - Students Are Invited to Submit Paintings\, Drawings\, Short Essays\, or Poetry.  You Must include your name and phone number with your submission.  Submissions will be picked up from schools on Friday\, February 17\, 2023\, or may be dropped off at Irondale City Hall any time prior to that.
DESCRIPTION:
URL:https://cityofirondaleal.gov/event/2023-black-history-month-art-challenge-students-are-invited-to-submit-paintings-drawings-short-essays-or-poetry-you-must-include-your-name-and-phone-number-with-your-submission-submissions-wi/
END:VEVENT
BEGIN:VEVENT
DTSTART;TZID=America/Chicago:20230216T180000
DTEND;TZID=America/Chicago:20230216T193000
DTSTAMP:20260420T073956
CREATED:20230123T144207Z
LAST-MODIFIED:20230123T175523Z
UID:14553-1676570400-1676575800@cityofirondaleal.gov
SUMMARY:Citizen Engagement Institute Class of 2023 - 6:00pm - 7:30pm - Irondale Police Substation.
DESCRIPTION:
URL:https://cityofirondaleal.gov/event/citizen-engagement-institute-class-of-2023-will-begin-on-february-16-2023-600pm-730pm-irondale-police-substation/
END:VEVENT
BEGIN:VEVENT
DTSTART;TZID=America/Chicago:20230214T180000
DTEND;TZID=America/Chicago:20230214T190000
DTSTAMP:20260420T073956
CREATED:20221215T194008Z
LAST-MODIFIED:20221215T194008Z
UID:14319-1676397600-1676401200@cityofirondaleal.gov
SUMMARY:Zoning Board of Adjustment - City Hall - 6PM
DESCRIPTION:
URL:https://cityofirondaleal.gov/event/zoning-board-of-adjustment-city-hall-6pm/
END:VEVENT
BEGIN:VEVENT
DTSTART;TZID=America/Chicago:20230209T113000
DTEND;TZID=America/Chicago:20230209T130000
DTSTAMP:20260420T073956
CREATED:20230123T141426Z
LAST-MODIFIED:20230123T174625Z
UID:14548-1675942200-1675947600@cityofirondaleal.gov
SUMMARY:State of the City 2023 - Alabama AGC Building- 5000 Grantswood Road\, Irondale\, Al 35210- 11:30am - 1:00pm
DESCRIPTION:
URL:https://cityofirondaleal.gov/event/state-of-the-city-2023-alabama-agc-5000-grantswood-road-irondale-al-35210-1130am-100pm/
END:VEVENT
BEGIN:VEVENT
DTSTART;TZID=America/Chicago:20230208T180000
DTEND;TZID=America/Chicago:20230208T190000
DTSTAMP:20260420T073956
CREATED:20221215T195648Z
LAST-MODIFIED:20221215T195648Z
UID:14345-1675879200-1675882800@cityofirondaleal.gov
SUMMARY:Abatement Board Meeting - City Hall - 6PM
DESCRIPTION:
URL:https://cityofirondaleal.gov/event/abatement-board-meeting-city-hall-6pm-2/
END:VEVENT
BEGIN:VEVENT
DTSTART;TZID=America/Chicago:20230208T080000
DTEND;TZID=America/Chicago:20230208T170000
DTSTAMP:20260420T073956
CREATED:20230123T181604Z
LAST-MODIFIED:20230123T181604Z
UID:14582-1675843200-1675875600@cityofirondaleal.gov
SUMMARY:Last day to apply for Citizen Engagement Institute Classes for 2023  Apply @ www.tinyurl.com/IrondaleCEI
DESCRIPTION:
URL:https://cityofirondaleal.gov/event/last-day-to-apply-for-citizen-engagement-institute-classes-for-2023-apply-www-tinyurl-com-irondalecei/
END:VEVENT
BEGIN:VEVENT
DTSTART;TZID=America/Chicago:20230207T180000
DTEND;TZID=America/Chicago:20230207T190000
DTSTAMP:20260420T073956
CREATED:20221215T185836Z
LAST-MODIFIED:20221215T185836Z
UID:14273-1675792800-1675796400@cityofirondaleal.gov
SUMMARY:City Council Meeting - City Hall - 6PM
DESCRIPTION:
URL:https://cityofirondaleal.gov/event/city-council-meeting-city-hall-6pm-4/
END:VEVENT
BEGIN:VEVENT
DTSTART;TZID=America/Chicago:20230205T150000
DTEND;TZID=America/Chicago:20230205T153000
DTSTAMP:20260420T073956
CREATED:20230123T174432Z
LAST-MODIFIED:20230123T174432Z
UID:14571-1675609200-1675611000@cityofirondaleal.gov
SUMMARY:Message from the Mayor - Facebook Live @Mayor James D. Stewart\, Jr. - 3:00pm
DESCRIPTION:M
URL:https://cityofirondaleal.gov/event/message-from-the-mayor-facebook-live-mayor-james-d-stewart-jr-300pm/
END:VEVENT
BEGIN:VEVENT
DTSTART;TZID=America/Chicago:20230202T090000
DTEND;TZID=America/Chicago:20230202T100000
DTSTAMP:20260420T073956
CREATED:20230123T174152Z
LAST-MODIFIED:20230123T174152Z
UID:14568-1675328400-1675332000@cityofirondaleal.gov
SUMMARY:Mayor's Monthly Prayer Meeting - Church of the Highlands - 9:00am
DESCRIPTION:
URL:https://cityofirondaleal.gov/event/mayors-monthly-prayer-meeting-church-of-the-highlands-900am-6/
END:VEVENT
BEGIN:VEVENT
DTSTART;TZID=America/Chicago:20230126T180000
DTEND;TZID=America/Chicago:20230126T190000
DTSTAMP:20260420T073956
CREATED:20221228T162655Z
LAST-MODIFIED:20221228T162655Z
UID:14445-1674756000-1674759600@cityofirondaleal.gov
SUMMARY:Irondale Public Library Community Focus Group - Irondale City Hall - 6:00pm
DESCRIPTION:
URL:https://cityofirondaleal.gov/event/irondale-public-library-community-focus-group-irondale-city-hall-600pm/
END:VEVENT
BEGIN:VEVENT
DTSTART;TZID=America/Chicago:20230126T180000
DTEND;TZID=America/Chicago:20230126T190000
DTSTAMP:20260420T073956
CREATED:20221215T202727Z
LAST-MODIFIED:20221215T202727Z
UID:14367-1674756000-1674759600@cityofirondaleal.gov
SUMMARY:Planning and Zoning Commission - City Hall - 6PM
DESCRIPTION:
URL:https://cityofirondaleal.gov/event/planning-and-zoning-commission-city-hall-6pm/
END:VEVENT
BEGIN:VEVENT
DTSTART;TZID=America/Chicago:20230123T063000
DTEND;TZID=America/Chicago:20230123T170000
DTSTAMP:20260420T073956
CREATED:20221228T162405Z
LAST-MODIFIED:20221228T162405Z
UID:14442-1674455400-1674493200@cityofirondaleal.gov
SUMMARY:Irondale Recycles-Recycling must be in the new cans for pick-up by our crews - Today -  Monday\, January 23\, 2023
DESCRIPTION:
URL:https://cityofirondaleal.gov/event/irondale-recycles-recycling-must-be-in-the-new-cans-for-pick-up-by-our-crews-today-monday-january-23-2023/
END:VEVENT
BEGIN:VEVENT
DTSTART;TZID=America/Chicago:20230117T180000
DTEND;TZID=America/Chicago:20230117T190000
DTSTAMP:20260420T073956
CREATED:20221228T164004Z
LAST-MODIFIED:20221228T164004Z
UID:14452-1673978400-1673982000@cityofirondaleal.gov
SUMMARY:Dr. Martin Luther King\, Jr. Public Service Project Winners Will Be Announced at the Irondale City Council Meeting on Tuesday\, January 17\, 2023 (Today)
DESCRIPTION:
URL:https://cityofirondaleal.gov/event/dr-martin-luther-king-jr-public-service-project-winners-will-be-announced-at-the-irondale-city-council-meeting-on-tuesday-january-17-2023-today/
END:VEVENT
BEGIN:VEVENT
DTSTART;TZID=America/Chicago:20230117T180000
DTEND;TZID=America/Chicago:20230117T190000
DTSTAMP:20260420T073956
CREATED:20221215T185608Z
LAST-MODIFIED:20221215T185608Z
UID:14271-1673978400-1673982000@cityofirondaleal.gov
SUMMARY:City Council Meeting - City Hall - 6PM
DESCRIPTION:
URL:https://cityofirondaleal.gov/event/city-council-meeting-city-hall-6pm-3/
END:VEVENT
BEGIN:VEVENT
DTSTART;TZID=America/Chicago:20230117T160000
DTEND;TZID=America/Chicago:20230117T170000
DTSTAMP:20260420T073956
CREATED:20221215T205440Z
LAST-MODIFIED:20221215T205440Z
UID:14391-1673971200-1673974800@cityofirondaleal.gov
SUMMARY:Commercial Development Authority - City Hall - 4PM
DESCRIPTION:
URL:https://cityofirondaleal.gov/event/commercial-development-authority-city-hall-4pm/
END:VEVENT
BEGIN:VEVENT
DTSTART;TZID=America/Chicago:20230116T080000
DTEND;TZID=America/Chicago:20230116T170000
DTSTAMP:20260420T073956
CREATED:20221006T153707Z
LAST-MODIFIED:20221006T153707Z
UID:13983-1673856000-1673888400@cityofirondaleal.gov
SUMMARY:City Hall Closed - Martin Luther King Jr.\, Day
DESCRIPTION:
URL:https://cityofirondaleal.gov/event/city-hall-closed-martin-luther-king-jr-day-2/
END:VEVENT
BEGIN:VEVENT
DTSTART;TZID=America/Chicago:20230112T070000
DTEND;TZID=America/Chicago:20230112T170000
DTSTAMP:20260420T073956
CREATED:20221228T163602Z
LAST-MODIFIED:20221228T163602Z
UID:14449-1673506800-1673542800@cityofirondaleal.gov
SUMMARY:Dr. Martin Luther King\, Jr. Public Service Project Proposals Must Be Submitted by Thursday\, January 12\, 2023 (Today)
DESCRIPTION:
URL:https://cityofirondaleal.gov/event/dr-martin-luther-king-jr-public-service-project-proposals-must-be-submitted-by-thursday-january-12-2023-today/
END:VEVENT
BEGIN:VEVENT
DTSTART;TZID=America/Chicago:20230111T180000
DTEND;TZID=America/Chicago:20230111T190000
DTSTAMP:20260420T073956
CREATED:20221215T195603Z
LAST-MODIFIED:20230111T144911Z
UID:14343-1673460000-1673463600@cityofirondaleal.gov
SUMMARY:THIS MEETING HAS BEEN CANCELLED/Abatement Board Meeting - City Hall - 6PM
DESCRIPTION:
URL:https://cityofirondaleal.gov/event/abatement-board-meeting-city-hall-6pm/
END:VEVENT
BEGIN:VEVENT
DTSTART;TZID=America/Chicago:20230110T180000
DTEND;TZID=America/Chicago:20230110T190000
DTSTAMP:20260420T073956
CREATED:20221215T193838Z
LAST-MODIFIED:20221215T194148Z
UID:14317-1673373600-1673377200@cityofirondaleal.gov
SUMMARY:Zoning Board of Adjustment - City Hall - 6PM
DESCRIPTION:
URL:https://cityofirondaleal.gov/event/city-council-meeting-city-hall-6pm-26/
END:VEVENT
BEGIN:VEVENT
DTSTART;TZID=America/Chicago:20230103T180000
DTEND;TZID=America/Chicago:20230103T190000
DTSTAMP:20260420T073956
CREATED:20221215T185427Z
LAST-MODIFIED:20221215T185427Z
UID:14269-1672768800-1672772400@cityofirondaleal.gov
SUMMARY:City Council Meeting - City Hall - 6PM
DESCRIPTION:
URL:https://cityofirondaleal.gov/event/city-council-meeting-city-hall-6pm-2/
END:VEVENT
BEGIN:VEVENT
DTSTART;TZID=America/Chicago:20230102T080000
DTEND;TZID=America/Chicago:20230102T170000
DTSTAMP:20260420T073956
CREATED:20221006T153517Z
LAST-MODIFIED:20221006T153517Z
UID:13981-1672646400-1672678800@cityofirondaleal.gov
SUMMARY:City Hall Closed - New Year's Day
DESCRIPTION:
URL:https://cityofirondaleal.gov/event/city-hall-closed-new-years-day-2/
END:VEVENT
BEGIN:VEVENT
DTSTART;VALUE=DATE:20221229
DTEND;VALUE=DATE:20221230
DTSTAMP:20260420T073956
CREATED:20211220T200515Z
LAST-MODIFIED:20211220T200515Z
UID:12548-1672272000-1672358399@cityofirondaleal.gov
SUMMARY:City Hall Closed - New Year's Eve
DESCRIPTION:
URL:https://cityofirondaleal.gov/event/city-hall-closed-new-years-eve/
END:VEVENT
BEGIN:VEVENT
DTSTART;VALUE=DATE:20221226
DTEND;VALUE=DATE:20221227
DTSTAMP:20260420T073956
CREATED:20211220T200411Z
LAST-MODIFIED:20211220T200411Z
UID:12546-1672012800-1672099199@cityofirondaleal.gov
SUMMARY:City Hall Closed - Christmas Day
DESCRIPTION:
URL:https://cityofirondaleal.gov/event/city-hall-closed-christmas-day/
END:VEVENT
BEGIN:VEVENT
DTSTART;TZID=America/Chicago:20221222T173000
DTEND;TZID=America/Chicago:20221222T203000
DTSTAMP:20260420T073956
CREATED:20221129T142900Z
LAST-MODIFIED:20221129T142900Z
UID:14212-1671730200-1671741000@cityofirondaleal.gov
SUMMARY:Fire Department Santa Tours - Santa will ride the Fire Truck through neighborhoods beginning @ 5:30pm nightly (Irondale Mobile Home Park\, Eastwood Mobile Home Park\, Amber Hills and Rock Ridge)
DESCRIPTION:
URL:https://cityofirondaleal.gov/event/fire-department-santa-tours-santa-will-ride-the-fire-truck-through-neighborhoods-beginning-530pm-nightly-irondale-mobile-home-park-eastwood-mobile-home-park-amber-hills-and-rock-ridge/
END:VEVENT
BEGIN:VEVENT
DTSTART;VALUE=DATE:20221222
DTEND;VALUE=DATE:20221223
DTSTAMP:20260420T073956
CREATED:20211220T200314Z
LAST-MODIFIED:20211220T200314Z
UID:12544-1671667200-1671753599@cityofirondaleal.gov
SUMMARY:City Hall Closed - Christmas
DESCRIPTION:
URL:https://cityofirondaleal.gov/event/city-hall-closed-christmas/
END:VEVENT
BEGIN:VEVENT
DTSTART;TZID=America/Chicago:20221221T173000
DTEND;TZID=America/Chicago:20221221T203000
DTSTAMP:20260420T073956
CREATED:20221129T142722Z
LAST-MODIFIED:20221129T142722Z
UID:14210-1671643800-1671654600@cityofirondaleal.gov
SUMMARY:Fire Department Santa Tours - Santa will ride the Fire Truck through neighborhoods beginning @ 5:30pm nightly (Grants Mill Area\, Stoneridge and Holiday Gardens)
DESCRIPTION:
URL:https://cityofirondaleal.gov/event/fire-department-santa-tours-santa-will-ride-the-fire-truck-through-neighborhoods-beginning-530pm-nightly-grants-mill-area-stoneridge-and-holiday-gardens/
END:VEVENT
BEGIN:VEVENT
DTSTART;TZID=America/Chicago:20221220T180000
DTEND;TZID=America/Chicago:20221220T190000
DTSTAMP:20260420T073956
CREATED:20211222T151509Z
LAST-MODIFIED:20211222T151509Z
UID:12599-1671559200-1671562800@cityofirondaleal.gov
SUMMARY:City Council Meeting
DESCRIPTION:
URL:https://cityofirondaleal.gov/event/city-council-meeting-34/
END:VEVENT
BEGIN:VEVENT
DTSTART;TZID=America/Chicago:20221220T173000
DTEND;TZID=America/Chicago:20221220T203000
DTSTAMP:20260420T073956
CREATED:20221129T142542Z
LAST-MODIFIED:20221129T142542Z
UID:14208-1671557400-1671568200@cityofirondaleal.gov
SUMMARY:Fire Department Santa Tours - Santa will ride the Fire Truck through neighborhoods beginning @ 5:30pm nightly (Old Leeds Road\, Belmont\, Karl Day and Overton)
DESCRIPTION:
URL:https://cityofirondaleal.gov/event/fire-department-santa-tours-santa-will-ride-the-fire-truck-through-neighborhoods-beginning-530pm-nightly-old-leeds-road-belmont-karl-day-and-overton/
END:VEVENT
BEGIN:VEVENT
DTSTART;TZID=America/Chicago:20221220T160000
DTEND;TZID=America/Chicago:20221220T170000
DTSTAMP:20260420T073956
CREATED:20220124T174747Z
LAST-MODIFIED:20220203T162949Z
UID:12699-1671552000-1671555600@cityofirondaleal.gov
SUMMARY:Commercial Development Authority - City Hall
DESCRIPTION:
URL:https://cityofirondaleal.gov/event/commercial-development-authority-city-of-irondale-12/
END:VEVENT
BEGIN:VEVENT
DTSTART;TZID=America/Chicago:20221219T173000
DTEND;TZID=America/Chicago:20221219T203000
DTSTAMP:20260420T073956
CREATED:20221129T142217Z
LAST-MODIFIED:20221129T142217Z
UID:14206-1671471000-1671481800@cityofirondaleal.gov
SUMMARY:Fire Department Santa Tours - Santa will ride the Fire Truck through neighborhoods beginning @ 5:30pm nightly (North & South Side of Downtown\, Roebuck Plaza\, Eastwood Park and Ruffner Road)
DESCRIPTION:
URL:https://cityofirondaleal.gov/event/fire-department-santa-tours-santa-will-ride-the-fire-truck-through-neighborhoods-beginning-530pm-nightly-north-south-side-of-downtown-roebuck-plaza-eastwood-park-and-ruffner-road/
END:VEVENT
END:VCALENDAR