BEGIN:VCALENDAR
VERSION:2.0
PRODID:-//City of Irondale - ECPv6.0.13.1//NONSGML v1.0//EN
CALSCALE:GREGORIAN
METHOD:PUBLISH
X-WR-CALNAME:City of Irondale
X-ORIGINAL-URL:https://cityofirondaleal.gov
X-WR-CALDESC:Events for City of Irondale
REFRESH-INTERVAL;VALUE=DURATION:PT1H
X-Robots-Tag:noindex
X-PUBLISHED-TTL:PT1H
BEGIN:VTIMEZONE
TZID:America/Chicago
BEGIN:DAYLIGHT
TZOFFSETFROM:-0600
TZOFFSETTO:-0500
TZNAME:CDT
DTSTART:20220313T080000
END:DAYLIGHT
BEGIN:STANDARD
TZOFFSETFROM:-0500
TZOFFSETTO:-0600
TZNAME:CST
DTSTART:20221106T070000
END:STANDARD
END:VTIMEZONE
BEGIN:VEVENT
DTSTART;VALUE=DATE:20221229
DTEND;VALUE=DATE:20221230
DTSTAMP:20260420T130057
CREATED:20211220T200515Z
LAST-MODIFIED:20211220T200515Z
UID:12548-1672272000-1672358399@cityofirondaleal.gov
SUMMARY:City Hall Closed - New Year's Eve
DESCRIPTION:
URL:https://cityofirondaleal.gov/event/city-hall-closed-new-years-eve/
END:VEVENT
BEGIN:VEVENT
DTSTART;VALUE=DATE:20221226
DTEND;VALUE=DATE:20221227
DTSTAMP:20260420T130057
CREATED:20211220T200411Z
LAST-MODIFIED:20211220T200411Z
UID:12546-1672012800-1672099199@cityofirondaleal.gov
SUMMARY:City Hall Closed - Christmas Day
DESCRIPTION:
URL:https://cityofirondaleal.gov/event/city-hall-closed-christmas-day/
END:VEVENT
BEGIN:VEVENT
DTSTART;TZID=America/Chicago:20221222T173000
DTEND;TZID=America/Chicago:20221222T203000
DTSTAMP:20260420T130057
CREATED:20221129T142900Z
LAST-MODIFIED:20221129T142900Z
UID:14212-1671730200-1671741000@cityofirondaleal.gov
SUMMARY:Fire Department Santa Tours - Santa will ride the Fire Truck through neighborhoods beginning @ 5:30pm nightly (Irondale Mobile Home Park\, Eastwood Mobile Home Park\, Amber Hills and Rock Ridge)
DESCRIPTION:
URL:https://cityofirondaleal.gov/event/fire-department-santa-tours-santa-will-ride-the-fire-truck-through-neighborhoods-beginning-530pm-nightly-irondale-mobile-home-park-eastwood-mobile-home-park-amber-hills-and-rock-ridge/
END:VEVENT
BEGIN:VEVENT
DTSTART;VALUE=DATE:20221222
DTEND;VALUE=DATE:20221223
DTSTAMP:20260420T130057
CREATED:20211220T200314Z
LAST-MODIFIED:20211220T200314Z
UID:12544-1671667200-1671753599@cityofirondaleal.gov
SUMMARY:City Hall Closed - Christmas
DESCRIPTION:
URL:https://cityofirondaleal.gov/event/city-hall-closed-christmas/
END:VEVENT
BEGIN:VEVENT
DTSTART;TZID=America/Chicago:20221221T173000
DTEND;TZID=America/Chicago:20221221T203000
DTSTAMP:20260420T130057
CREATED:20221129T142722Z
LAST-MODIFIED:20221129T142722Z
UID:14210-1671643800-1671654600@cityofirondaleal.gov
SUMMARY:Fire Department Santa Tours - Santa will ride the Fire Truck through neighborhoods beginning @ 5:30pm nightly (Grants Mill Area\, Stoneridge and Holiday Gardens)
DESCRIPTION:
URL:https://cityofirondaleal.gov/event/fire-department-santa-tours-santa-will-ride-the-fire-truck-through-neighborhoods-beginning-530pm-nightly-grants-mill-area-stoneridge-and-holiday-gardens/
END:VEVENT
BEGIN:VEVENT
DTSTART;TZID=America/Chicago:20221220T180000
DTEND;TZID=America/Chicago:20221220T190000
DTSTAMP:20260420T130057
CREATED:20211222T151509Z
LAST-MODIFIED:20211222T151509Z
UID:12599-1671559200-1671562800@cityofirondaleal.gov
SUMMARY:City Council Meeting
DESCRIPTION:
URL:https://cityofirondaleal.gov/event/city-council-meeting-34/
END:VEVENT
BEGIN:VEVENT
DTSTART;TZID=America/Chicago:20221220T173000
DTEND;TZID=America/Chicago:20221220T203000
DTSTAMP:20260420T130057
CREATED:20221129T142542Z
LAST-MODIFIED:20221129T142542Z
UID:14208-1671557400-1671568200@cityofirondaleal.gov
SUMMARY:Fire Department Santa Tours - Santa will ride the Fire Truck through neighborhoods beginning @ 5:30pm nightly (Old Leeds Road\, Belmont\, Karl Day and Overton)
DESCRIPTION:
URL:https://cityofirondaleal.gov/event/fire-department-santa-tours-santa-will-ride-the-fire-truck-through-neighborhoods-beginning-530pm-nightly-old-leeds-road-belmont-karl-day-and-overton/
END:VEVENT
BEGIN:VEVENT
DTSTART;TZID=America/Chicago:20221220T160000
DTEND;TZID=America/Chicago:20221220T170000
DTSTAMP:20260420T130057
CREATED:20220124T174747Z
LAST-MODIFIED:20220203T162949Z
UID:12699-1671552000-1671555600@cityofirondaleal.gov
SUMMARY:Commercial Development Authority - City Hall
DESCRIPTION:
URL:https://cityofirondaleal.gov/event/commercial-development-authority-city-of-irondale-12/
END:VEVENT
BEGIN:VEVENT
DTSTART;TZID=America/Chicago:20221219T173000
DTEND;TZID=America/Chicago:20221219T203000
DTSTAMP:20260420T130057
CREATED:20221129T142217Z
LAST-MODIFIED:20221129T142217Z
UID:14206-1671471000-1671481800@cityofirondaleal.gov
SUMMARY:Fire Department Santa Tours - Santa will ride the Fire Truck through neighborhoods beginning @ 5:30pm nightly (North & South Side of Downtown\, Roebuck Plaza\, Eastwood Park and Ruffner Road)
DESCRIPTION:
URL:https://cityofirondaleal.gov/event/fire-department-santa-tours-santa-will-ride-the-fire-truck-through-neighborhoods-beginning-530pm-nightly-north-south-side-of-downtown-roebuck-plaza-eastwood-park-and-ruffner-road/
END:VEVENT
BEGIN:VEVENT
DTSTART;TZID=America/Chicago:20221217T090000
DTEND;TZID=America/Chicago:20221217T113000
DTSTAMP:20260420T130057
CREATED:20221129T141209Z
LAST-MODIFIED:20221129T141209Z
UID:14203-1671267600-1671276600@cityofirondaleal.gov
SUMMARY:Christmas Ham Giveaway - Irondale City Hall - 9:00am (One FREE ham per household while supplies last.  Drive-through service will be provided).
DESCRIPTION:
URL:https://cityofirondaleal.gov/event/christmas-ham-giveaway-irondale-city-hall-900am-one-free-ham-per-household-while-supplies-last-drive-through-service-will-be-provided/
END:VEVENT
BEGIN:VEVENT
DTSTART;TZID=America/Chicago:20221215T180000
DTEND;TZID=America/Chicago:20221215T190000
DTSTAMP:20260420T130057
CREATED:20221214T160148Z
LAST-MODIFIED:20221214T160148Z
UID:14267-1671127200-1671130800@cityofirondaleal.gov
SUMMARY:Planning & Zoning Commission - City Hall - 6PM
DESCRIPTION:
URL:https://cityofirondaleal.gov/event/planning-zoning-commission-city-hall-6pm/
END:VEVENT
BEGIN:VEVENT
DTSTART;TZID=America/Chicago:20221214T180000
DTEND;TZID=America/Chicago:20221214T183000
DTSTAMP:20260420T130057
CREATED:20220608T214346Z
LAST-MODIFIED:20220608T214346Z
UID:13550-1671040800-1671042600@cityofirondaleal.gov
SUMMARY:Abatement Board Meeting - City Hall - 6:00PM
DESCRIPTION:
URL:https://cityofirondaleal.gov/event/abatement-board-meeting-city-hall-600pm-7/
END:VEVENT
BEGIN:VEVENT
DTSTART;TZID=America/Chicago:20221213T180000
DTEND;TZID=America/Chicago:20221213T190000
DTSTAMP:20260420T130057
CREATED:20220124T183219Z
LAST-MODIFIED:20220124T183219Z
UID:12748-1670954400-1670958000@cityofirondaleal.gov
SUMMARY:Zoning Board of Adjustment
DESCRIPTION:
URL:https://cityofirondaleal.gov/event/zoning-board-of-adjustment-12/
END:VEVENT
BEGIN:VEVENT
DTSTART;TZID=America/Chicago:20221213T090000
DTEND;TZID=America/Chicago:20221213T180000
DTSTAMP:20260420T130057
CREATED:20221025T122534Z
LAST-MODIFIED:20221025T122534Z
UID:14087-1670922000-1670954400@cityofirondaleal.gov
SUMMARY:Holiday "Spirit of Giving" Blood Drive - Irondale City Hall - December 13\, 2022 - 9:00am - 6:00pm
DESCRIPTION:
URL:https://cityofirondaleal.gov/event/holiday-spirit-of-giving-blood-drive-irondale-city-hall-december-13-2022-900am-600pm/
END:VEVENT
BEGIN:VEVENT
DTSTART;TZID=America/Chicago:20221206T180000
DTEND;TZID=America/Chicago:20221206T190000
DTSTAMP:20260420T130057
CREATED:20211222T151427Z
LAST-MODIFIED:20211222T151427Z
UID:12597-1670349600-1670353200@cityofirondaleal.gov
SUMMARY:City Council Meeting
DESCRIPTION:
URL:https://cityofirondaleal.gov/event/city-council-meeting-33/
END:VEVENT
BEGIN:VEVENT
DTSTART;TZID=America/Chicago:20221203T100000
DTEND;TZID=America/Chicago:20221203T140000
DTSTAMP:20260420T130057
CREATED:20221025T150607Z
LAST-MODIFIED:20221122T143759Z
UID:14091-1670061600-1670076000@cityofirondaleal.gov
SUMMARY:THIS EVENT HAS BEEN CANCELLED/Christmas at the Caboose - Downtown Irondale - 10am - 2pm
DESCRIPTION:
URL:https://cityofirondaleal.gov/event/christmas-at-the-caboose-downtown-irondale-10am-2pm/
END:VEVENT
BEGIN:VEVENT
DTSTART;TZID=America/Chicago:20221202T183000
DTEND;TZID=America/Chicago:20221202T203000
DTSTAMP:20260420T130057
CREATED:20221025T122203Z
LAST-MODIFIED:20221025T123134Z
UID:14084-1670005800-1670013000@cityofirondaleal.gov
SUMMARY:Christmas Night of Lights - Christmas Parade (6:30pm\, begins at ICS on 16th St. - Register to participate & view Official Rules:www.cityofirondaleAL.gov.  Deadline November 18\, 2022). - City Tree Lighting (Irondale City Hall\, 7:30pm).
DESCRIPTION:
URL:https://cityofirondaleal.gov/event/christmas-night-of-lights-christmas-parade-630pm-begins-at-ics-on-16th-st-register-to-participate-view-official-rules-www-cityofirondaleal-gov-deadline-november-18-2022-city-tree-lig/
END:VEVENT
BEGIN:VEVENT
DTSTART;VALUE=DATE:20221125
DTEND;VALUE=DATE:20221126
DTSTAMP:20260420T130057
CREATED:20211220T195940Z
LAST-MODIFIED:20211220T195940Z
UID:12542-1669334400-1669420799@cityofirondaleal.gov
SUMMARY:City Hall Closed - Thanksgiving
DESCRIPTION:
URL:https://cityofirondaleal.gov/event/city-hall-closed-thanksgiving-3/
END:VEVENT
BEGIN:VEVENT
DTSTART;VALUE=DATE:20221124
DTEND;VALUE=DATE:20221125
DTSTAMP:20260420T130057
CREATED:20211220T195824Z
LAST-MODIFIED:20211220T195824Z
UID:12540-1669248000-1669334399@cityofirondaleal.gov
SUMMARY:City Hall Closed - Thanksgiving
DESCRIPTION:
URL:https://cityofirondaleal.gov/event/city-hall-closed-thanksgiving-2/
END:VEVENT
BEGIN:VEVENT
DTSTART;TZID=America/Chicago:20221121T160000
DTEND;TZID=America/Chicago:20221121T170000
DTSTAMP:20260420T130057
CREATED:20220124T174648Z
LAST-MODIFIED:20220124T174648Z
UID:12697-1669046400-1669050000@cityofirondaleal.gov
SUMMARY:Commercial Development Authority - City of Irondale
DESCRIPTION:
URL:https://cityofirondaleal.gov/event/commercial-development-authority-city-of-irondale-11/
END:VEVENT
BEGIN:VEVENT
DTSTART;TZID=America/Chicago:20221119T090000
DTEND;TZID=America/Chicago:20221119T110000
DTSTAMP:20260420T130057
CREATED:20221025T120519Z
LAST-MODIFIED:20221025T120646Z
UID:14080-1668848400-1668855600@cityofirondaleal.gov
SUMMARY:Thanksgiving Turkey Giveaway - Irondale City Hall - 9:00am (One free Turkey per Household while supplies last.  Drive-through service will be provided)
DESCRIPTION:
URL:https://cityofirondaleal.gov/event/thanksgiving-turkey-giveaway-irondale-city-hall-900am/
END:VEVENT
BEGIN:VEVENT
DTSTART;TZID=America/Chicago:20221115T180000
DTEND;TZID=America/Chicago:20221115T190000
DTSTAMP:20260420T130057
CREATED:20211222T151344Z
LAST-MODIFIED:20211222T151344Z
UID:12595-1668535200-1668538800@cityofirondaleal.gov
SUMMARY:City Council Meeting
DESCRIPTION:
URL:https://cityofirondaleal.gov/event/city-council-meeting-32/
END:VEVENT
BEGIN:VEVENT
DTSTART;TZID=America/Chicago:20221115T160000
DTEND;TZID=America/Chicago:20221115T170000
DTSTAMP:20260420T130057
CREATED:20220126T141342Z
LAST-MODIFIED:20220203T162843Z
UID:12766-1668528000-1668531600@cityofirondaleal.gov
SUMMARY:Commercial Development Authority - City Hall
DESCRIPTION:
URL:https://cityofirondaleal.gov/event/commercial-development-authority-city-of-irondale-13/
END:VEVENT
BEGIN:VEVENT
DTSTART;TZID=America/Chicago:20221112T090000
DTEND;TZID=America/Chicago:20221112T110000
DTSTAMP:20260420T130057
CREATED:20221025T120341Z
LAST-MODIFIED:20221025T120341Z
UID:14078-1668243600-1668250800@cityofirondaleal.gov
SUMMARY:Community Prayer Walk - Begins at Irondale City Hall - 9:00am
DESCRIPTION:
URL:https://cityofirondaleal.gov/event/community-prayer-walk-begins-at-irondale-city-hall-900am/
END:VEVENT
BEGIN:VEVENT
DTSTART;TZID=America/Chicago:20221110T180000
DTEND;TZID=America/Chicago:20221110T190000
DTSTAMP:20260420T130057
CREATED:20221025T120158Z
LAST-MODIFIED:20221025T120158Z
UID:14076-1668103200-1668106800@cityofirondaleal.gov
SUMMARY:Mayor's 2022 Year in Review Town Hall Meeting - Irondale City Hall - 6:00pm (Parks Master Plan Survey Results\, Mayor's 22 in 22 Update)
DESCRIPTION:
URL:https://cityofirondaleal.gov/event/mayors-2022-year-in-review-town-hall-meeting-irondale-city-hall-600pm-parks-master-plan-survey-results-mayors-22-in-22-update/
END:VEVENT
BEGIN:VEVENT
DTSTART;VALUE=DATE:20221110
DTEND;VALUE=DATE:20221111
DTSTAMP:20260420T130057
CREATED:20211220T195716Z
LAST-MODIFIED:20211220T195716Z
UID:12538-1668038400-1668124799@cityofirondaleal.gov
SUMMARY:City Hall Closed - Veteran's Day
DESCRIPTION:
URL:https://cityofirondaleal.gov/event/city-hall-closed-veterans-day/
END:VEVENT
BEGIN:VEVENT
DTSTART;TZID=America/Chicago:20221109T180000
DTEND;TZID=America/Chicago:20221109T183000
DTSTAMP:20260420T130057
CREATED:20220608T214231Z
LAST-MODIFIED:20220608T214231Z
UID:13548-1668016800-1668018600@cityofirondaleal.gov
SUMMARY:Abatement Board Meeting - City Hall - 6:00PM
DESCRIPTION:Abatement Board Meeting – City Hall – 6:00PM
URL:https://cityofirondaleal.gov/event/abatement-board-meeting-city-hall-600pm-6/
END:VEVENT
BEGIN:VEVENT
DTSTART;TZID=America/Chicago:20221108T180000
DTEND;TZID=America/Chicago:20221108T190000
DTSTAMP:20260420T130057
CREATED:20220124T184223Z
LAST-MODIFIED:20220124T184223Z
UID:12751-1667930400-1667934000@cityofirondaleal.gov
SUMMARY:Zoning Board of Adjustment
DESCRIPTION:
URL:https://cityofirondaleal.gov/event/zoning-board-of-adjustment-11/
END:VEVENT
BEGIN:VEVENT
DTSTART;TZID=America/Chicago:20221106T150000
DTEND;TZID=America/Chicago:20221106T153000
DTSTAMP:20260420T130057
CREATED:20221025T115930Z
LAST-MODIFIED:20221025T115930Z
UID:14074-1667746800-1667748600@cityofirondaleal.gov
SUMMARY:Message from the Mayor - Facebook - 3:00pm
DESCRIPTION:
URL:https://cityofirondaleal.gov/event/message-from-the-mayor-facebook-300pm/
END:VEVENT
BEGIN:VEVENT
DTSTART;TZID=America/Chicago:20221105T090000
DTEND;TZID=America/Chicago:20221105T110000
DTSTAMP:20260420T130057
CREATED:20221018T162048Z
LAST-MODIFIED:20221018T162048Z
UID:14070-1667638800-1667646000@cityofirondaleal.gov
SUMMARY:Community Shred-It-Day - Irondale City Hall - 9:00am - 11:00am (Bring unneeded paper & electronics for free shredding and recycling)
DESCRIPTION:
URL:https://cityofirondaleal.gov/event/community-shred-it-day-irondale-city-hall-900am-1100am-bring-unneeded-paper-electronics-for-free-shredding-and-recycling-2/
END:VEVENT
END:VCALENDAR