BEGIN:VCALENDAR
VERSION:2.0
PRODID:-//City of Irondale - ECPv6.0.13.1//NONSGML v1.0//EN
CALSCALE:GREGORIAN
METHOD:PUBLISH
X-WR-CALNAME:City of Irondale
X-ORIGINAL-URL:https://cityofirondaleal.gov
X-WR-CALDESC:Events for City of Irondale
REFRESH-INTERVAL;VALUE=DURATION:PT1H
X-Robots-Tag:noindex
X-PUBLISHED-TTL:PT1H
BEGIN:VTIMEZONE
TZID:America/Chicago
BEGIN:DAYLIGHT
TZOFFSETFROM:-0600
TZOFFSETTO:-0500
TZNAME:CDT
DTSTART:20260308T080000
END:DAYLIGHT
BEGIN:STANDARD
TZOFFSETFROM:-0500
TZOFFSETTO:-0600
TZNAME:CST
DTSTART:20261101T070000
END:STANDARD
END:VTIMEZONE
BEGIN:VEVENT
DTSTART;TZID=America/Chicago:20260420T063000
DTEND;TZID=America/Chicago:20260423T170000
DTSTAMP:20260421T035821
CREATED:20260316T141321Z
LAST-MODIFIED:20260316T141651Z
UID:22183-1776666600-1776963600@cityofirondaleal.gov
SUMMARY:District 4 - The City of Irondale Spring Trash Amnesty Weeks - April 20 - April 23\, 2026
DESCRIPTION:
URL:https://cityofirondaleal.gov/event/district-4-the-city-of-irondale-spring-trash-amnesty-weeks-april-20-april-23-2026/
END:VEVENT
BEGIN:VEVENT
DTSTART;TZID=America/Chicago:20260421T113000
DTEND;TZID=America/Chicago:20260421T130000
DTSTAMP:20260421T035821
CREATED:20260331T173948Z
LAST-MODIFIED:20260331T173948Z
UID:22317-1776771000-1776776400@cityofirondaleal.gov
SUMMARY:Financial Literacy Workshop - Join Mayor Stewart for "Irondale InvestED" to learn about managing money - April 21\, 2026 @ 11:30am - 1:00pm - Irondale Public Library.  RSVP to etolbert@cityofirondaleal.gov
DESCRIPTION:
URL:https://cityofirondaleal.gov/event/financial-literacy-workshop-join-mayor-stewart-for-irondale-invested-to-learn-about-managing-money-april-21-2026-1130am-100pm-irondale-public-library-rsvp-to-etolbertcityofirondale/
END:VEVENT
BEGIN:VEVENT
DTSTART;TZID=America/Chicago:20260421T160000
DTEND;TZID=America/Chicago:20260421T170000
DTSTAMP:20260421T035821
CREATED:20251218T214407Z
LAST-MODIFIED:20251218T214407Z
UID:21260-1776787200-1776790800@cityofirondaleal.gov
SUMMARY:Commercial Development Authority - City Hall - 4PM
DESCRIPTION:
URL:https://cityofirondaleal.gov/event/commercial-development-authority-city-hall-4pm-40/
END:VEVENT
BEGIN:VEVENT
DTSTART;TZID=America/Chicago:20260421T180000
DTEND;TZID=America/Chicago:20260421T190000
DTSTAMP:20260421T035821
CREATED:20251218T211940Z
LAST-MODIFIED:20251218T211940Z
UID:21220-1776794400-1776798000@cityofirondaleal.gov
SUMMARY:City Council Meeting - City Hall - 6:00PM
DESCRIPTION:
URL:https://cityofirondaleal.gov/event/city-council-meeting-city-hall-600pm-57/
END:VEVENT
END:VCALENDAR