BEGIN:VCALENDAR
VERSION:2.0
PRODID:-//City of Irondale - ECPv6.0.13.1//NONSGML v1.0//EN
CALSCALE:GREGORIAN
METHOD:PUBLISH
X-ORIGINAL-URL:https://cityofirondaleal.gov
X-WR-CALDESC:Events for City of Irondale
REFRESH-INTERVAL;VALUE=DURATION:PT1H
X-Robots-Tag:noindex
X-PUBLISHED-TTL:PT1H
BEGIN:VTIMEZONE
TZID:America/Chicago
BEGIN:DAYLIGHT
TZOFFSETFROM:-0600
TZOFFSETTO:-0500
TZNAME:CDT
DTSTART:20250309T080000
END:DAYLIGHT
BEGIN:STANDARD
TZOFFSETFROM:-0500
TZOFFSETTO:-0600
TZNAME:CST
DTSTART:20251102T070000
END:STANDARD
BEGIN:DAYLIGHT
TZOFFSETFROM:-0600
TZOFFSETTO:-0500
TZNAME:CDT
DTSTART:20260308T080000
END:DAYLIGHT
BEGIN:STANDARD
TZOFFSETFROM:-0500
TZOFFSETTO:-0600
TZNAME:CST
DTSTART:20261101T070000
END:STANDARD
END:VTIMEZONE
BEGIN:VEVENT
DTSTART;TZID=America/Chicago:20251202T070000
DTEND;TZID=America/Chicago:20260108T170000
DTSTAMP:20260419T085110
CREATED:20251202T170401Z
LAST-MODIFIED:20251202T170401Z
UID:21134-1764658800-1767891600@cityofirondaleal.gov
SUMMARY:Feed the Need Food Drive - Drop off non--perishable food items or donate at Irondale City Hall NOW through January 8\, 2026
DESCRIPTION:
URL:https://cityofirondaleal.gov/event/feed-the-need-food-drive-drop-off-non-perishable-food-items-or-donate-at-irondale-city-hall-now-through-january-8-2026/
END:VEVENT
BEGIN:VEVENT
DTSTART;TZID=America/Chicago:20251230T070000
DTEND;TZID=America/Chicago:20260131T170000
DTSTAMP:20260419T085110
CREATED:20251230T220758Z
LAST-MODIFIED:20251230T220758Z
UID:21390-1767078000-1769878800@cityofirondaleal.gov
SUMMARY:Irondale Youth Sports - Registration for T-Ball\, Baseball\, & Softball\, Ages 4-12 Now Open: www.IrondaleYouthSports.com
DESCRIPTION:
URL:https://cityofirondaleal.gov/event/irondale-youth-sports-registration-for-t-ball-baseball-softball-ages-4-12-now-open-www-irondaleyouthsports-com-2/
END:VEVENT
BEGIN:VEVENT
DTSTART;TZID=America/Chicago:20251231T070000
DTEND;TZID=America/Chicago:20251231T170000
DTSTAMP:20260419T085110
CREATED:20241021T134818Z
LAST-MODIFIED:20241021T134818Z
UID:18405-1767164400-1767200400@cityofirondaleal.gov
SUMMARY:City Hall Closed - New Year's Eve
DESCRIPTION:
URL:https://cityofirondaleal.gov/event/city-hall-closed-new-years-eve-3/
END:VEVENT
END:VCALENDAR