BEGIN:VCALENDAR
VERSION:2.0
PRODID:-//City of Irondale - ECPv6.0.13.1//NONSGML v1.0//EN
CALSCALE:GREGORIAN
METHOD:PUBLISH
X-ORIGINAL-URL:https://cityofirondaleal.gov
X-WR-CALDESC:Events for City of Irondale
REFRESH-INTERVAL;VALUE=DURATION:PT1H
X-Robots-Tag:noindex
X-PUBLISHED-TTL:PT1H
BEGIN:VTIMEZONE
TZID:America/Chicago
BEGIN:DAYLIGHT
TZOFFSETFROM:-0600
TZOFFSETTO:-0500
TZNAME:CDT
DTSTART:20250309T080000
END:DAYLIGHT
BEGIN:STANDARD
TZOFFSETFROM:-0500
TZOFFSETTO:-0600
TZNAME:CST
DTSTART:20251102T070000
END:STANDARD
END:VTIMEZONE
BEGIN:VEVENT
DTSTART;TZID=America/Chicago:20250826T070000
DTEND;TZID=America/Chicago:20250826T190000
DTSTAMP:20260419T101736
CREATED:20250630T210229Z
LAST-MODIFIED:20250630T210229Z
UID:19949-1756191600-1756234800@cityofirondaleal.gov
SUMMARY:Irondale Municipal Election Day:  August 26\, 2025.  Make plans to go to the polls and vote\, as offices for Mayor and City Council\, Districts 1-5\, will be up for election.  All voting will take place at Irondale City Hall\, regardless of where you vote in state and federal elections.  The polls will be open from 7:00am - 7:00pm.  Find information about your Council District and more at www.IrondaleElectionCenter.com.  VOTE!
DESCRIPTION:
URL:https://cityofirondaleal.gov/event/irondale-municipal-election-day-august-26-2025-make-plans-to-go-to-the-polls-and-vote-as-offices-for-mayor-and-city-council-districts-1-5-will-be-up-for-election-all-voting-will-take-place-a/
END:VEVENT
END:VCALENDAR