BEGIN:VCALENDAR
VERSION:2.0
PRODID:-//City of Irondale - ECPv6.0.13.1//NONSGML v1.0//EN
CALSCALE:GREGORIAN
METHOD:PUBLISH
X-WR-CALNAME:City of Irondale
X-ORIGINAL-URL:https://cityofirondaleal.gov
X-WR-CALDESC:Events for City of Irondale
REFRESH-INTERVAL;VALUE=DURATION:PT1H
X-Robots-Tag:noindex
X-PUBLISHED-TTL:PT1H
BEGIN:VTIMEZONE
TZID:America/Chicago
BEGIN:DAYLIGHT
TZOFFSETFROM:-0600
TZOFFSETTO:-0500
TZNAME:CDT
DTSTART:20250309T080000
END:DAYLIGHT
BEGIN:STANDARD
TZOFFSETFROM:-0500
TZOFFSETTO:-0600
TZNAME:CST
DTSTART:20251102T070000
END:STANDARD
END:VTIMEZONE
BEGIN:VEVENT
DTSTART;TZID=America/Chicago:20250809T100000
DTEND;TZID=America/Chicago:20250809T120000
DTSTAMP:20260419T101654
CREATED:20250501T184429Z
LAST-MODIFIED:20250729T163543Z
UID:19594-1754733600-1754740800@cityofirondaleal.gov
SUMMARY:Bring your four-legged Friends out to play in the water with sprinklers and puppy pools! - 10:00am - 12:00pm - Tails By The Rails At Ellard Dog Park\, 2420 Ruffner Court\, Irondale\, Al 35210
DESCRIPTION:
URL:https://cityofirondaleal.gov/event/august-9-2025-splash-bash-water-party-1000am-tails-by-the-rails-at-ellard-dog-park-2420-ruffner-court-irondale-al-35210/
END:VEVENT
BEGIN:VEVENT
DTSTART;TZID=America/Chicago:20250809T100000
DTEND;TZID=America/Chicago:20250809T120000
DTSTAMP:20260419T101654
CREATED:20250701T125824Z
LAST-MODIFIED:20250729T161514Z
UID:19974-1754733600-1754740800@cityofirondaleal.gov
SUMMARY:Charity Cornhole Tournament - August 9 @ 10:00am - Two Men & a Truck\, 4351 Crescent Road\, Irondale\, Al 35210 - Proceeds will benefit the National Law Enforcement Officers Memorial Fund in honor of Lt. Meadows.  More information and Registration:  www.AlabamaCornhole.com/FirstResponder
DESCRIPTION:
URL:https://cityofirondaleal.gov/event/charity-cornhole-tournament-august-9-1000am-proceeds-will-benefit-the-national-law-enforcement-officers-memorial-fund-in-honor-of-lt-meadows-more-information-and-registration-www-alabamaco/
END:VEVENT
END:VCALENDAR