BEGIN:VCALENDAR
VERSION:2.0
PRODID:-//City of Irondale - ECPv6.0.13.1//NONSGML v1.0//EN
CALSCALE:GREGORIAN
METHOD:PUBLISH
X-WR-CALNAME:City of Irondale
X-ORIGINAL-URL:https://cityofirondaleal.gov
X-WR-CALDESC:Events for City of Irondale
REFRESH-INTERVAL;VALUE=DURATION:PT1H
X-Robots-Tag:noindex
X-PUBLISHED-TTL:PT1H
BEGIN:VTIMEZONE
TZID:America/Chicago
BEGIN:DAYLIGHT
TZOFFSETFROM:-0600
TZOFFSETTO:-0500
TZNAME:CDT
DTSTART:20250309T080000
END:DAYLIGHT
BEGIN:STANDARD
TZOFFSETFROM:-0500
TZOFFSETTO:-0600
TZNAME:CST
DTSTART:20251102T070000
END:STANDARD
END:VTIMEZONE
BEGIN:VEVENT
DTSTART;TZID=America/Chicago:20250729T063000
DTEND;TZID=America/Chicago:20250808T180000
DTSTAMP:20260419T101655
CREATED:20250729T145506Z
LAST-MODIFIED:20250729T145506Z
UID:20160-1753770600-1754676000@cityofirondaleal.gov
SUMMARY:Fall Ball - Register Now! - Deadline is August 8\, 2025 - Learn more and Sign-Up @ www.IrondaleYouthSports.com - Let's Play Ball at Irondale's Ruffner Park Sports Complex!
DESCRIPTION:
URL:https://cityofirondaleal.gov/event/fall-ball-register-now-deadline-is-august-8-2025-learn-more-and-sign-up-www-irondaleyouthsports-com-lets-play-ball-at-irondales-ruffner-park-sports-complex/
END:VEVENT
BEGIN:VEVENT
DTSTART;TZID=America/Chicago:20250805T163000
DTEND;TZID=America/Chicago:20250805T170000
DTSTAMP:20260419T101655
CREATED:20250804T163328Z
LAST-MODIFIED:20250804T163618Z
UID:20227-1754411400-1754413200@cityofirondaleal.gov
SUMMARY:The Commercial Development Authority (CDA) of the City of Irondale has scheduled a Special Meeting for Tuesday\, August 5\, 2025 @ 4:30pm - Irondale City Hall\, 101 20th Street South\, Irondale\, Al 35210.  The purpose of this meeting is to consider a services agreement to improve real property owned by the CDA and such other business as may come before the Authority related to such matter.
DESCRIPTION:
URL:https://cityofirondaleal.gov/event/the-commercial-development-authority-cda-of-the-city-of-irondale-has-scheduled-a-special-meeting-for-tuesday-august-5-2025-430pm-irondale-city-hall-101-20th-street-south-irondale-al-35210/
END:VEVENT
BEGIN:VEVENT
DTSTART;TZID=America/Chicago:20250805T170000
DTEND;TZID=America/Chicago:20250805T180000
DTSTAMP:20260419T101655
CREATED:20250804T201752Z
LAST-MODIFIED:20250804T201752Z
UID:20236-1754413200-1754416800@cityofirondaleal.gov
SUMMARY:Notice of Ordinance Meeting - August 5\, 2025 @ 5:00pm - City Hall\, 101 20th Street South\, Irondale\, Al 35210
DESCRIPTION:
URL:https://cityofirondaleal.gov/event/notice-of-ordinance-meeting-august-5-2025-500pm-city-hall-101-20th-street-south-irondale-al-35210/
END:VEVENT
BEGIN:VEVENT
DTSTART;TZID=America/Chicago:20250805T170000
DTEND;TZID=America/Chicago:20250805T180000
DTSTAMP:20260419T101655
CREATED:20250804T202016Z
LAST-MODIFIED:20250804T202016Z
UID:20238-1754413200-1754416800@cityofirondaleal.gov
SUMMARY:Public Hearing regarding Grant Funding Application for PFAS @ 5:00pm - City Hall - 101 20th Street South\, Irondale\, Al 35210
DESCRIPTION:
URL:https://cityofirondaleal.gov/event/public-hearing-regarding-grant-funding-application-for-pfas-500pm-city-hall-101-20th-street-south-irondale-al-35210/
END:VEVENT
BEGIN:VEVENT
DTSTART;TZID=America/Chicago:20250805T180000
DTEND;TZID=America/Chicago:20250805T190000
DTSTAMP:20260419T101655
CREATED:20241107T135930Z
LAST-MODIFIED:20241107T135930Z
UID:18541-1754416800-1754420400@cityofirondaleal.gov
SUMMARY:City Council Meeting - City Hall - 6:00pm
DESCRIPTION:
URL:https://cityofirondaleal.gov/event/city-council-meeting-city-hall-600pm-40/
END:VEVENT
END:VCALENDAR