BEGIN:VCALENDAR
VERSION:2.0
PRODID:-//City of Irondale - ECPv6.0.13.1//NONSGML v1.0//EN
CALSCALE:GREGORIAN
METHOD:PUBLISH
X-WR-CALNAME:City of Irondale
X-ORIGINAL-URL:https://cityofirondaleal.gov
X-WR-CALDESC:Events for City of Irondale
REFRESH-INTERVAL;VALUE=DURATION:PT1H
X-Robots-Tag:noindex
X-PUBLISHED-TTL:PT1H
BEGIN:VTIMEZONE
TZID:America/Chicago
BEGIN:DAYLIGHT
TZOFFSETFROM:-0600
TZOFFSETTO:-0500
TZNAME:CDT
DTSTART:20250309T080000
END:DAYLIGHT
BEGIN:STANDARD
TZOFFSETFROM:-0500
TZOFFSETTO:-0600
TZNAME:CST
DTSTART:20251102T070000
END:STANDARD
END:VTIMEZONE
BEGIN:VEVENT
DTSTART;TZID=America/Chicago:20250729T063000
DTEND;TZID=America/Chicago:20250808T180000
DTSTAMP:20260419T101643
CREATED:20250729T145506Z
LAST-MODIFIED:20250729T145506Z
UID:20160-1753770600-1754676000@cityofirondaleal.gov
SUMMARY:Fall Ball - Register Now! - Deadline is August 8\, 2025 - Learn more and Sign-Up @ www.IrondaleYouthSports.com - Let's Play Ball at Irondale's Ruffner Park Sports Complex!
DESCRIPTION:
URL:https://cityofirondaleal.gov/event/fall-ball-register-now-deadline-is-august-8-2025-learn-more-and-sign-up-www-irondaleyouthsports-com-lets-play-ball-at-irondales-ruffner-park-sports-complex/
END:VEVENT
BEGIN:VEVENT
DTSTART;TZID=America/Chicago:20250729T080000
DTEND;TZID=America/Chicago:20250729T170000
DTSTAMP:20260419T101643
CREATED:20250729T160603Z
LAST-MODIFIED:20250729T160603Z
UID:20166-1753776000-1753808400@cityofirondaleal.gov
SUMMARY:Civic Center Groundbreaking - Thursday\, August 27\, 2025 @ 10:00am - 3521 Ratliff Road - Irondale\, Al 35210
DESCRIPTION:
URL:https://cityofirondaleal.gov/event/civic-center-groundbreaking-thursday-august-27-2025-1000am-3521-ratliff-road-irondale-al-35210/
END:VEVENT
BEGIN:VEVENT
DTSTART;TZID=America/Chicago:20250729T180000
DTEND;TZID=America/Chicago:20250729T190000
DTSTAMP:20260419T101643
CREATED:20250722T211330Z
LAST-MODIFIED:20250722T211330Z
UID:20106-1753812000-1753815600@cityofirondaleal.gov
SUMMARY:Notice of Special City Council Meeting\, Tuesday\, July 29\, 2025 @ 6:00pm - Irondale City Council Chambers\, 101 20th Street South\, Irondale\, Alabama 35210
DESCRIPTION:
URL:https://cityofirondaleal.gov/event/notice-of-special-city-council-meeting-tuesday-july-29-2025-600pm-irondale-city-council-chambers-101-20th-street-south-irondale-alabama-35210/
END:VEVENT
END:VCALENDAR