BEGIN:VCALENDAR
VERSION:2.0
PRODID:-//City of Irondale - ECPv6.0.13.1//NONSGML v1.0//EN
CALSCALE:GREGORIAN
METHOD:PUBLISH
X-ORIGINAL-URL:https://cityofirondaleal.gov
X-WR-CALDESC:Events for City of Irondale
REFRESH-INTERVAL;VALUE=DURATION:PT1H
X-Robots-Tag:noindex
X-PUBLISHED-TTL:PT1H
BEGIN:VTIMEZONE
TZID:America/Chicago
BEGIN:DAYLIGHT
TZOFFSETFROM:-0600
TZOFFSETTO:-0500
TZNAME:CDT
DTSTART:20250309T080000
END:DAYLIGHT
BEGIN:STANDARD
TZOFFSETFROM:-0500
TZOFFSETTO:-0600
TZNAME:CST
DTSTART:20251102T070000
END:STANDARD
END:VTIMEZONE
BEGIN:VEVENT
DTSTART;TZID=America/Chicago:20250711T170000
DTEND;TZID=America/Chicago:20250711T190000
DTSTAMP:20260419T120659
CREATED:20250701T124841Z
LAST-MODIFIED:20250701T125043Z
UID:19971-1752253200-1752260400@cityofirondaleal.gov
SUMMARY:Heroes on the runway - July 11 @ 5:00pm @ Alabama General Contractors Building\, 5000 Grantswood Road\, Irondale\, Al.  Join us for a one-of-a-kind pageant-style event featuring Irondale's first responders! Tickets Available: www.Irondale-Heroes.com. Proceeds Benefit Special Community Projects of the Irondale Fire and Police Departments.
DESCRIPTION:
URL:https://cityofirondaleal.gov/event/heroes-on-the-runway-july-11-500pm-alabama-general-contractors-building-5000-grantswood-road-irondale-al-join-us-for-a-one-of-a-kind-pageant-style-event-featuring-irondales-first-respond/
END:VEVENT
END:VCALENDAR