BEGIN:VCALENDAR
VERSION:2.0
PRODID:-//City of Irondale - ECPv6.0.13.1//NONSGML v1.0//EN
CALSCALE:GREGORIAN
METHOD:PUBLISH
X-WR-CALNAME:City of Irondale
X-ORIGINAL-URL:https://cityofirondaleal.gov
X-WR-CALDESC:Events for City of Irondale
REFRESH-INTERVAL;VALUE=DURATION:PT1H
X-Robots-Tag:noindex
X-PUBLISHED-TTL:PT1H
BEGIN:VTIMEZONE
TZID:America/Chicago
BEGIN:DAYLIGHT
TZOFFSETFROM:-0600
TZOFFSETTO:-0500
TZNAME:CDT
DTSTART:20250309T080000
END:DAYLIGHT
BEGIN:STANDARD
TZOFFSETFROM:-0500
TZOFFSETTO:-0600
TZNAME:CST
DTSTART:20251102T070000
END:STANDARD
END:VTIMEZONE
BEGIN:VEVENT
DTSTART;TZID=America/Chicago:20250710T170000
DTEND;TZID=America/Chicago:20250710T190000
DTSTAMP:20260419T120634
CREATED:20250501T184026Z
LAST-MODIFIED:20250630T210946Z
UID:19589-1752166800-1752174000@cityofirondaleal.gov
SUMMARY:July 10\, 2025\, Hot Dog Happy Hour\, Tails By The Rails At Ellard Dog Park\, 2420 Ruffner Court\, Irondale\, Al 35210
DESCRIPTION:
URL:https://cityofirondaleal.gov/event/july-10-2025-hot-dog-happy-hour-500pm-tails-by-the-rails-at-ellard-dog-park-2420-ruffner-court-irondale-al-35210/
END:VEVENT
END:VCALENDAR