BEGIN:VCALENDAR
VERSION:2.0
PRODID:-//City of Irondale - ECPv6.0.13.1//NONSGML v1.0//EN
CALSCALE:GREGORIAN
METHOD:PUBLISH
X-WR-CALNAME:City of Irondale
X-ORIGINAL-URL:https://cityofirondaleal.gov
X-WR-CALDESC:Events for City of Irondale
REFRESH-INTERVAL;VALUE=DURATION:PT1H
X-Robots-Tag:noindex
X-PUBLISHED-TTL:PT1H
BEGIN:VTIMEZONE
TZID:America/Chicago
BEGIN:DAYLIGHT
TZOFFSETFROM:-0600
TZOFFSETTO:-0500
TZNAME:CDT
DTSTART:20250309T080000
END:DAYLIGHT
BEGIN:STANDARD
TZOFFSETFROM:-0500
TZOFFSETTO:-0600
TZNAME:CST
DTSTART:20251102T070000
END:STANDARD
END:VTIMEZONE
BEGIN:VEVENT
DTSTART;TZID=America/Chicago:20250512T080000
DTEND;TZID=America/Chicago:20250515T170000
DTSTAMP:20260419T083719
CREATED:20250326T164455Z
LAST-MODIFIED:20250326T164455Z
UID:19381-1747036800-1747328400@cityofirondaleal.gov
SUMMARY:Spring Trash Amnesty Weeks - May 12 -15\, 2025 - District 1- Please have large items\, small construction piles\, yard trash\, etc.\, on the curb at the beginning of your designated week.  Any questions call (205) 951-1420.
DESCRIPTION:
URL:https://cityofirondaleal.gov/event/spring-trash-amnesty-weeks-may-12-15-2025-district-1-please-have-large-items-small-construction-piles-yard-trash-etc-on-the-curb-at-the-beginning-of-your-designated-week-any-questions-ca/
END:VEVENT
END:VCALENDAR