BEGIN:VCALENDAR
VERSION:2.0
PRODID:-//City of Irondale - ECPv6.0.13.1//NONSGML v1.0//EN
CALSCALE:GREGORIAN
METHOD:PUBLISH
X-WR-CALNAME:City of Irondale
X-ORIGINAL-URL:https://cityofirondaleal.gov
X-WR-CALDESC:Events for City of Irondale
REFRESH-INTERVAL;VALUE=DURATION:PT1H
X-Robots-Tag:noindex
X-PUBLISHED-TTL:PT1H
BEGIN:VTIMEZONE
TZID:America/Chicago
BEGIN:DAYLIGHT
TZOFFSETFROM:-0600
TZOFFSETTO:-0500
TZNAME:CDT
DTSTART:20230312T080000
END:DAYLIGHT
BEGIN:STANDARD
TZOFFSETFROM:-0500
TZOFFSETTO:-0600
TZNAME:CST
DTSTART:20231105T070000
END:STANDARD
END:VTIMEZONE
BEGIN:VEVENT
DTSTART;TZID=America/Chicago:20231208T080000
DTEND;TZID=America/Chicago:20231219T170000
DTSTAMP:20260419T080753
CREATED:20231130T174007Z
LAST-MODIFIED:20231130T174007Z
UID:15835-1702022400-1703005200@cityofirondaleal.gov
SUMMARY:Holiday House Showdown (Enter Your Own Home or Nominate a Neighbor to Win) - Begins December 8\, 2023\, Winners Announced December 19\, 2023 - www.IrondaleCommunityFoundation.com
DESCRIPTION:
URL:https://cityofirondaleal.gov/event/holiday-house-showdown-enter-your-own-home-or-nominate-a-neighbor-to-win-begins-december-8-2023-winners-announced-december-19-2023-www-irondalecommunityfoundation-com/
END:VEVENT
BEGIN:VEVENT
DTSTART;TZID=America/Chicago:20231219T160000
DTEND;TZID=America/Chicago:20231219T170000
DTSTAMP:20260419T080753
CREATED:20221215T210242Z
LAST-MODIFIED:20221215T210242Z
UID:14413-1703001600-1703005200@cityofirondaleal.gov
SUMMARY:Commercial Development Authority - City Hall - 4PM
DESCRIPTION:
URL:https://cityofirondaleal.gov/event/commercial-development-authority-city-hall-4pm-12/
END:VEVENT
BEGIN:VEVENT
DTSTART;TZID=America/Chicago:20231219T170000
DTEND;TZID=America/Chicago:20231219T180000
DTSTAMP:20260419T080753
CREATED:20231218T212031Z
LAST-MODIFIED:20231218T212031Z
UID:15948-1703005200-1703008800@cityofirondaleal.gov
SUMMARY:Finance Committee Meeting - City Hall - 5:00PM-6:00PM
DESCRIPTION:
URL:https://cityofirondaleal.gov/event/finance-committee-meeting-city-hall-500pm-600pm/
END:VEVENT
BEGIN:VEVENT
DTSTART;TZID=America/Chicago:20231219T173000
DTEND;TZID=America/Chicago:20231219T200000
DTSTAMP:20260419T080753
CREATED:20231130T180715Z
LAST-MODIFIED:20231130T180715Z
UID:15844-1703007000-1703016000@cityofirondaleal.gov
SUMMARY:Irondale Fire Department Santa Tours - Old Leeds\, Belmont\, Karl Daly\, Overton - Beginning @ 5:30pm
DESCRIPTION:
URL:https://cityofirondaleal.gov/event/irondale-fire-department-santa-tours-old-leeds-belmont-karl-daly-overton-beginning-530pm/
END:VEVENT
BEGIN:VEVENT
DTSTART;TZID=America/Chicago:20231219T180000
DTEND;TZID=America/Chicago:20231219T190000
DTSTAMP:20260419T080753
CREATED:20221215T193230Z
LAST-MODIFIED:20221215T193230Z
UID:14315-1703008800-1703012400@cityofirondaleal.gov
SUMMARY:City Council Meeting - City Hall - 6PM
DESCRIPTION:
URL:https://cityofirondaleal.gov/event/city-council-meeting-city-hall-6pm-25/
END:VEVENT
END:VCALENDAR