BEGIN:VCALENDAR
VERSION:2.0
PRODID:-//City of Irondale - ECPv6.0.13.1//NONSGML v1.0//EN
CALSCALE:GREGORIAN
METHOD:PUBLISH
X-ORIGINAL-URL:https://cityofirondaleal.gov
X-WR-CALDESC:Events for City of Irondale
REFRESH-INTERVAL;VALUE=DURATION:PT1H
X-Robots-Tag:noindex
X-PUBLISHED-TTL:PT1H
BEGIN:VTIMEZONE
TZID:America/Chicago
BEGIN:DAYLIGHT
TZOFFSETFROM:-0600
TZOFFSETTO:-0500
TZNAME:CDT
DTSTART:20230312T080000
END:DAYLIGHT
BEGIN:STANDARD
TZOFFSETFROM:-0500
TZOFFSETTO:-0600
TZNAME:CST
DTSTART:20231105T070000
END:STANDARD
END:VTIMEZONE
BEGIN:VEVENT
DTSTART;TZID=America/Chicago:20231128T063000
DTEND;TZID=America/Chicago:20231128T160000
DTSTAMP:20260419T125551
CREATED:20231031T185427Z
LAST-MODIFIED:20231031T190725Z
UID:15632-1701153000-1701187200@cityofirondaleal.gov
SUMMARY:End of Year Trash Amnesty Week - November 28 - 30 - District 1
DESCRIPTION:
URL:https://cityofirondaleal.gov/event/end-of-year-trash-amnesty-week-november-27-30-district-1/
END:VEVENT
BEGIN:VEVENT
DTSTART;TZID=America/Chicago:20231128T180000
DTEND;TZID=America/Chicago:20231128T190000
DTSTAMP:20260419T125551
CREATED:20231031T184502Z
LAST-MODIFIED:20231101T170101Z
UID:15622-1701194400-1701198000@cityofirondaleal.gov
SUMMARY:Town Hall Meeting - 6:00pm - Irondale City Hall
DESCRIPTION:
URL:https://cityofirondaleal.gov/event/town-hall-meeting-600pm-irondale-city-hall/
END:VEVENT
END:VCALENDAR