BEGIN:VCALENDAR
VERSION:2.0
PRODID:-//City of Irondale - ECPv6.0.13.1//NONSGML v1.0//EN
CALSCALE:GREGORIAN
METHOD:PUBLISH
X-ORIGINAL-URL:https://cityofirondaleal.gov
X-WR-CALDESC:Events for City of Irondale
REFRESH-INTERVAL;VALUE=DURATION:PT1H
X-Robots-Tag:noindex
X-PUBLISHED-TTL:PT1H
BEGIN:VTIMEZONE
TZID:America/Chicago
BEGIN:DAYLIGHT
TZOFFSETFROM:-0600
TZOFFSETTO:-0500
TZNAME:CDT
DTSTART:20230312T080000
END:DAYLIGHT
BEGIN:STANDARD
TZOFFSETFROM:-0500
TZOFFSETTO:-0600
TZNAME:CST
DTSTART:20231105T070000
END:STANDARD
END:VTIMEZONE
BEGIN:VEVENT
DTSTART;TZID=America/Chicago:20230516T160000
DTEND;TZID=America/Chicago:20230516T170000
DTSTAMP:20260419T151147
CREATED:20221215T205754Z
LAST-MODIFIED:20221215T205754Z
UID:14399-1684252800-1684256400@cityofirondaleal.gov
SUMMARY:Commercial Development Authority - City Hall - 4PM
DESCRIPTION:
URL:https://cityofirondaleal.gov/event/commercial-development-authority-city-hall-4pm-5/
END:VEVENT
BEGIN:VEVENT
DTSTART;TZID=America/Chicago:20230516T180000
DTEND;TZID=America/Chicago:20230516T190000
DTSTAMP:20260419T151147
CREATED:20221215T191827Z
LAST-MODIFIED:20221215T191827Z
UID:14285-1684260000-1684263600@cityofirondaleal.gov
SUMMARY:City Council Meeting - City Hall - 6PM
DESCRIPTION:
URL:https://cityofirondaleal.gov/event/city-council-meeting-city-hall-6pm-10/
END:VEVENT
BEGIN:VEVENT
DTSTART;TZID=America/Chicago:20230516T180000
DTEND;TZID=America/Chicago:20230516T190000
DTSTAMP:20260419T151147
CREATED:20230516T131334Z
LAST-MODIFIED:20230516T131334Z
UID:15010-1684260000-1684263600@cityofirondaleal.gov
SUMMARY:Abatement Board Meeting - City Hall - 6PM
DESCRIPTION:
URL:https://cityofirondaleal.gov/event/abatement-board-meeting-city-hall-6pm-13/
END:VEVENT
END:VCALENDAR