BEGIN:VCALENDAR
VERSION:2.0
PRODID:-//City of Irondale - ECPv6.0.13.1//NONSGML v1.0//EN
CALSCALE:GREGORIAN
METHOD:PUBLISH
X-WR-CALNAME:City of Irondale
X-ORIGINAL-URL:https://cityofirondaleal.gov
X-WR-CALDESC:Events for City of Irondale
REFRESH-INTERVAL;VALUE=DURATION:PT1H
X-Robots-Tag:noindex
X-PUBLISHED-TTL:PT1H
BEGIN:VTIMEZONE
TZID:America/Chicago
BEGIN:DAYLIGHT
TZOFFSETFROM:-0600
TZOFFSETTO:-0500
TZNAME:CDT
DTSTART:20230312T080000
END:DAYLIGHT
BEGIN:STANDARD
TZOFFSETFROM:-0500
TZOFFSETTO:-0600
TZNAME:CST
DTSTART:20231105T070000
END:STANDARD
END:VTIMEZONE
BEGIN:VEVENT
DTSTART;TZID=America/Chicago:20230504T063000
DTEND;TZID=America/Chicago:20230504T163000
DTSTAMP:20260419T151110
CREATED:20230327T182528Z
LAST-MODIFIED:20230327T182528Z
UID:14804-1683181800-1683217800@cityofirondaleal.gov
SUMMARY:Trash Amnesty Weeks - District 2 - May 1 - 4\, 2023 - Irondale Public Works will pick up any garbage items\, except hazardous materials.  Please leave large items\, yard trash\, etc. on the curb at the beginning of your week.
DESCRIPTION:
URL:https://cityofirondaleal.gov/event/trash-amnesty-weeks-district-2-may-1-4-2023-irondale-public-works-will-pick-up-any-garbage-items-except-hazardous-materials-please-leave-large-items-yard-trash-etc-on-the-curb-at-the-be-4/
END:VEVENT
BEGIN:VEVENT
DTSTART;TZID=America/Chicago:20230504T090000
DTEND;TZID=America/Chicago:20230504T100000
DTSTAMP:20260419T151110
CREATED:20230130T183512Z
LAST-MODIFIED:20230130T183512Z
UID:14593-1683190800-1683194400@cityofirondaleal.gov
SUMMARY:Mayor's Monthly Prayer Meeting - Church of the Highlands - 9:00am
DESCRIPTION:
URL:https://cityofirondaleal.gov/event/mayors-monthly-prayer-meeting-church-of-the-highlands-900am-9/
END:VEVENT
END:VCALENDAR